BEGIN:VCALENDAR
VERSION:2.0
PRODID:-//American Young Coder - ECPv6.10.1.1//NONSGML v1.0//EN
CALSCALE:GREGORIAN
METHOD:PUBLISH
X-WR-CALNAME:American Young Coder
X-ORIGINAL-URL:https://www.ayclogic.com
X-WR-CALDESC:Events for American Young Coder
REFRESH-INTERVAL;VALUE=DURATION:PT1H
X-Robots-Tag:noindex
X-PUBLISHED-TTL:PT1H
BEGIN:VTIMEZONE
TZID:America/Los_Angeles
BEGIN:DAYLIGHT
TZOFFSETFROM:-0800
TZOFFSETTO:-0700
TZNAME:PDT
DTSTART:20220313T100000
END:DAYLIGHT
BEGIN:STANDARD
TZOFFSETFROM:-0700
TZOFFSETTO:-0800
TZNAME:PST
DTSTART:20221106T090000
END:STANDARD
END:VTIMEZONE
BEGIN:VEVENT
DTSTART;TZID=America/Los_Angeles:20221020T173000
DTEND;TZID=America/Los_Angeles:20221020T183000
DTSTAMP:20260423T134852
CREATED:20221022T045820Z
LAST-MODIFIED:20221022T045820Z
UID:15947-1666287000-1666290600@www.ayclogic.com
SUMMARY:5:30 PM - Introduction to Python - Alex W
DESCRIPTION:Today We\n\nCompleted magic eight ball by adding in lives\n\nHomework\n\nComplete https://www.ayclogic.com/looping-each-letter-in-a-word-exercise/
URL:https://www.ayclogic.com/event/530-pm-introduction-to-python-alex-w/
END:VEVENT
BEGIN:VEVENT
DTSTART;TZID=America/Los_Angeles:20221020T190000
DTEND;TZID=America/Los_Angeles:20221020T200000
DTSTAMP:20260423T134852
CREATED:20221024T192947Z
LAST-MODIFIED:20221024T192947Z
UID:16003-1666292400-1666296000@www.ayclogic.com
SUMMARY:7PM - OOP Python - Latisha
DESCRIPTION:Today We Did\n\nWorked on School Application\n\nHomework\n\nTry to do selection 2 of School Application\n\nIf you have any questions\, feel free to email me at latisha@ayclogic.com
URL:https://www.ayclogic.com/event/7pm-oop-python-latisha-8/
END:VEVENT
END:VCALENDAR