BEGIN:VCALENDAR
VERSION:2.0
PRODID:-//American Young Coder - ECPv6.10.1.1//NONSGML v1.0//EN
CALSCALE:GREGORIAN
METHOD:PUBLISH
X-WR-CALNAME:American Young Coder
X-ORIGINAL-URL:https://www.ayclogic.com
X-WR-CALDESC:Events for American Young Coder
REFRESH-INTERVAL;VALUE=DURATION:PT1H
X-Robots-Tag:noindex
X-PUBLISHED-TTL:PT1H
BEGIN:VTIMEZONE
TZID:America/Los_Angeles
BEGIN:DAYLIGHT
TZOFFSETFROM:-0800
TZOFFSETTO:-0700
TZNAME:PDT
DTSTART:20220313T100000
END:DAYLIGHT
BEGIN:STANDARD
TZOFFSETFROM:-0700
TZOFFSETTO:-0800
TZNAME:PST
DTSTART:20221106T090000
END:STANDARD
END:VTIMEZONE
BEGIN:VEVENT
DTSTART;TZID=America/Los_Angeles:20221021T080000
DTEND;TZID=America/Los_Angeles:20221021T170000
DTSTAMP:20260423T131803
CREATED:20221022T023023Z
LAST-MODIFIED:20221027T024142Z
UID:15937-1666339200-1666371600@www.ayclogic.com
SUMMARY:5:30 PM - Python Game Development - Bill
DESCRIPTION:Today We:\n\nContinued the Dragon Birdie project\nMade the objects that move towards the left start on the right side of the screen\nLearned how to flip images.\nLatest files can be found in here.\n\nYour HW:\n\nMake it so that when clouds and birds start from the left side and move right\, they spawn slightly off screen to the left so that they glide in like those that spawn on the right side\nHint: When the image is drawn (blit) on the screen\, the X\, Y coordinate you specified will be the top left corner of the image. For example if I want to draw the yellow bird in the screen at coordinate (50\,200)\, then the top left corner of the yellow bird is the coordinate (50\,200).
URL:https://www.ayclogic.com/event/530-pm-python-game-development-bill-3/
END:VEVENT
BEGIN:VEVENT
DTSTART;TZID=America/Los_Angeles:20221021T160000
DTEND;TZID=America/Los_Angeles:20221021T170000
DTSTAMP:20260423T131803
CREATED:20221022T050704Z
LAST-MODIFIED:20221022T050704Z
UID:15949-1666368000-1666371600@www.ayclogic.com
SUMMARY:4 PM - Python OOP - Alex W
DESCRIPTION:Today We\n\nFinished the StudentSystem Project by completing the October 8th Homework\nStarted Creating the Book System\n\nHomework\n\nCreate a dictionary to allow searching for books by ID.\n\nIf you have any questions\, you can email me at alexwalburg@ayclogic.com
URL:https://www.ayclogic.com/event/4-pm-python-oop-alex-w/
END:VEVENT
BEGIN:VEVENT
DTSTART;TZID=America/Los_Angeles:20221021T170000
DTEND;TZID=America/Los_Angeles:20221021T180000
DTSTAMP:20260423T131803
CREATED:20221022T013224Z
LAST-MODIFIED:20221022T013224Z
UID:15933-1666371600-1666375200@www.ayclogic.com
SUMMARY:5 PM – Scratch 1 – Yitong
DESCRIPTION:Today we:\n\nMade the Pow sprite show up randomly when the dummy gets hit.\nFinished the Punch the Dummy project.\nStarted Mary Had a Little Lamb project.\nAdded the Ball sprite and made it play a note and change size when touched.\n\nHomework:\n\nMake the Ball sprite change colors when you touch it.\n\n\n\nEmail your homework: yitong@ayclogic.com
URL:https://www.ayclogic.com/event/5-pm-scratch-1-yitong-11/
CATEGORIES:Scratch Class,Scratch Class Level 1
END:VEVENT
BEGIN:VEVENT
DTSTART;TZID=America/Los_Angeles:20221021T173000
DTEND;TZID=America/Los_Angeles:20221021T183000
DTSTAMP:20260423T131803
CREATED:20221022T051000Z
LAST-MODIFIED:20221022T051000Z
UID:15951-1666373400-1666377000@www.ayclogic.com
SUMMARY:5:30 PM - Intro To Python - Alex Walburg
DESCRIPTION:Today We\n\nLearned how to use return values in functions\nLearned how to use the random module\n\nHomework\n\nIn Oct21_FunctionsWithReturnHomework: complete https://www.ayclogic.com/intro-to-python/star-wars-problem/
URL:https://www.ayclogic.com/event/530-pm-intro-to-python-alex-walburg/
END:VEVENT
BEGIN:VEVENT
DTSTART;TZID=America/Los_Angeles:20221021T190000
DTEND;TZID=America/Los_Angeles:20221021T200000
DTSTAMP:20260423T131803
CREATED:20221022T024919Z
LAST-MODIFIED:20221022T024919Z
UID:15939-1666378800-1666382400@www.ayclogic.com
SUMMARY:7 PM - Python Game Development - Gamas
DESCRIPTION:Homework\n\nInside balloon.py\, add one more text “Balloon” and blit it under the text “Bad”. So “Bad” text will be in the first row and “Balloon” text will be in another row.\nAdjust the font size so it will fit inside the balloon.\nAdjust the balloon x and y coordinate so the entire Bad Balloon text has to be contained within the balloon.\nContinue on your team project.
URL:https://www.ayclogic.com/event/7-pm-python-game-development-gamas-11/
END:VEVENT
END:VCALENDAR