BEGIN:VCALENDAR
VERSION:2.0
PRODID:-//American Young Coder - ECPv6.10.1.1//NONSGML v1.0//EN
CALSCALE:GREGORIAN
METHOD:PUBLISH
X-ORIGINAL-URL:https://www.ayclogic.com
X-WR-CALDESC:Events for American Young Coder
REFRESH-INTERVAL;VALUE=DURATION:PT1H
X-Robots-Tag:noindex
X-PUBLISHED-TTL:PT1H
BEGIN:VTIMEZONE
TZID:America/Los_Angeles
BEGIN:DAYLIGHT
TZOFFSETFROM:-0800
TZOFFSETTO:-0700
TZNAME:PDT
DTSTART:20220313T100000
END:DAYLIGHT
BEGIN:STANDARD
TZOFFSETFROM:-0700
TZOFFSETTO:-0800
TZNAME:PST
DTSTART:20221106T090000
END:STANDARD
END:VTIMEZONE
BEGIN:VEVENT
DTSTART;TZID=America/Los_Angeles:20221025T171500
DTEND;TZID=America/Los_Angeles:20221025T181500
DTSTAMP:20260423T132402
CREATED:20221026T012340Z
LAST-MODIFIED:20221026T012340Z
UID:16007-1666718100-1666721700@www.ayclogic.com
SUMMARY:5:15PM - Intro To Python - Alex W.
DESCRIPTION:Today We:\n\nReviewed Nonreturning and returning functions\nLearned about the random function\n\nHomework:\n\nIn Oct25_StarWarsHomework: Complete questions 1-3 of https://www.ayclogic.com/intro-to-python/star-wars-problem/\n\nIf you have any questions\, feel free to email me at alexwalburg@ayclogic.com
URL:https://www.ayclogic.com/event/515pm-intro-to-python-alex-w-2/
END:VEVENT
BEGIN:VEVENT
DTSTART;TZID=America/Los_Angeles:20221025T173000
DTEND;TZID=America/Los_Angeles:20221025T183000
DTSTAMP:20260423T132402
CREATED:20221026T013605Z
LAST-MODIFIED:20221026T013618Z
UID:16009-1666719000-1666722600@www.ayclogic.com
SUMMARY:5:30 PM - Intro To Python - Gamas
DESCRIPTION:Today We Did\n\nWe went over some of the students turtle project.\nWe reviewed how to fix the octagon project that is not showing in 0\,0 coordinate.\nWe display how to do half-circle function.\n\nHomework\n\nContinue on your turtle project. By next week you should be 50% done with your project. The due date is Nov 15.\n\nPlease make sure your turtle project result does not go below -500 in either X or Y coordinate and does not above 500 in either X or Y coordinate.\nPlease create function for each of your figure/shape in your project. Do something like draw_face1 and draw_face2 functions which we did in the class.
URL:https://www.ayclogic.com/event/530-pm-intro-to-python-gamas-2/
CATEGORIES:Python Class,Python Level 1
END:VEVENT
BEGIN:VEVENT
DTSTART;TZID=America/Los_Angeles:20221025T180000
DTEND;TZID=America/Los_Angeles:20221025T190000
DTSTAMP:20260423T132402
CREATED:20221026T015445Z
LAST-MODIFIED:20221026T015445Z
UID:16014-1666720800-1666724400@www.ayclogic.com
SUMMARY:6 PM Scratch Level 1 - Alex Lee
DESCRIPTION:Today We Did:\n\nToday we continued with the Birthday Card project.\nWe added the button\, cake\, banner\, and sharks.\nWe also learned about directions and what they mean.\n\nFor Homework:\n\nContinue with the sharks so that Shark2 sends a message back to Shark1 and Shark 1 will sing “Happy birthday to ” whoever you want to send the card to.\nAfter that\, Shark1 will broadcast one more message back to Shark2 to finish the song with “Happy birthday to you”
URL:https://www.ayclogic.com/event/6-pm-scratch-level-1-alex-lee-2/
CATEGORIES:Scratch Class,Scratch Class Level 1
END:VEVENT
BEGIN:VEVENT
DTSTART;TZID=America/Los_Angeles:20221025T180000
DTEND;TZID=America/Los_Angeles:20221025T190000
DTSTAMP:20260423T132402
CREATED:20221026T021755Z
LAST-MODIFIED:20221026T021755Z
UID:16016-1666720800-1666724400@www.ayclogic.com
SUMMARY:6 PM – Scratch 2 – Yitong
DESCRIPTION:Today we:\n\nStarted on Level 2.\nMade the Cheese sprite broadcast Start Level 2 when the Score variable is 30.\nMade the Level Banner switch to its Level 2 costume when Level 2 begins.\nMade the Maze Banner switch to its Level 2 costume when Level 2 begins.\nAdded a new MyBlock called “ChangeCostumes” in the Level Banner sprite.\nMade the Mouse start at the upper left corner of the screen and face towards the right when Level 2 begins.\n\nHomework:\n\nHOMEWORK IS DUE MONDAY NIGHT!! Please submit by emailing your homework to: yitong@ayclogic.com and Mr. Gamas’s email: gamas@ayclogic.com.\n\nDon’t forget to share your project\, otherwise\, I won’t be to see your code.\nDon’t forget to include the project link in the email. Otherwise\, I cannot see your project.\n\n\nMake the Beetle sprite start at the bottom left corner of the screen and face up when Level 2 begins.
URL:https://www.ayclogic.com/event/6-pm-scratch-2-yitong-13/
CATEGORIES:Scratch Class,Scratch Class Level 2
END:VEVENT
BEGIN:VEVENT
DTSTART;TZID=America/Los_Angeles:20221025T180000
DTEND;TZID=America/Los_Angeles:20221025T190000
DTSTAMP:20260423T132402
CREATED:20221029T171540Z
LAST-MODIFIED:20221029T171540Z
UID:16060-1666720800-1666724400@www.ayclogic.com
SUMMARY:6PM - Digital Illustration 1
DESCRIPTION:TUESDAY \nToday we finished the Galaxy Forest project. \nWe did: \n\nbrightened the sky up a little more along the tree line\nwe added a glowing deer creature\nwe added a couple shooting stars\n\nNo Homework
URL:https://www.ayclogic.com/event/6pm-digital-illustration-1-20/
CATEGORIES:Beginner Digital Illustration,Digital Illustration
END:VEVENT
BEGIN:VEVENT
DTSTART;TZID=America/Los_Angeles:20221025T183000
DTEND;TZID=America/Los_Angeles:20221025T193000
DTSTAMP:20260423T132402
CREATED:20221028T092811Z
LAST-MODIFIED:20221028T092811Z
UID:16041-1666722600-1666726200@www.ayclogic.com
SUMMARY:6:30 PM – Scratch Level 1 – Allison
DESCRIPTION:Today We:\n\nContinued the Funny Faces project\nAdded the Glasses sprite\nCoded the Glasses sprite to have a transparent effect\nDrew the costume for the Mouth sprite\nCoded the Glasses sprite and Mouth sprite to go to a specific spot when the game starts\n\nImportant Reminders:\n\nThere are new homework rules. After you finish your homework in Scratch\, you have to send an email the night before the day of the class.\nSince our class is on Tuesday\, send an email to allison@ayclogic.com by Monday at 8 PM. In that email\, write down your name and a link to your shared Scratch project homework. Make sure to share your Scratch project.\n\nHomework:\n\nAdd a Hat sprite. Code the Hat sprite to have a bigger size (so it covers the head or is on top of the head).\nCode the Hat sprite to go a specific spot when the game starts\nCreate another sprite by drawing any accessory you’d like (ex: necklace\, earrings\, scarves\, earbuds). Make sure to rename your sprite. Code this sprite to go to a specific spot when the game starts.\nContact us at gamas@ayclogic.com or allison@ayclogic.com if you have any questions or need any help
URL:https://www.ayclogic.com/event/630-pm-scratch-level-1-allison-10/
CATEGORIES:Scratch Class,Scratch Class Level 1
END:VEVENT
BEGIN:VEVENT
DTSTART;TZID=America/Los_Angeles:20221025T190000
DTEND;TZID=America/Los_Angeles:20221025T200000
DTSTAMP:20260423T132402
CREATED:20221101T031158Z
LAST-MODIFIED:20221101T225047Z
UID:16099-1666724400-1666728000@www.ayclogic.com
SUMMARY:7 PM - 3D Animation Beginner
DESCRIPTION:Week 15\nToday we do:\n\nWe study the graph editor.\nHow to control the graph editor\nHow to read the graph editor\nHow to manipulate animation with the graph editor\n\nHomework:\nApply the principle of the graph editor into hand lifted aniamtion
URL:https://www.ayclogic.com/event/7-pm-3d-animation-beginner-14/
END:VEVENT
END:VCALENDAR