BEGIN:VCALENDAR
VERSION:2.0
PRODID:-//American Young Coder - ECPv6.10.1.1//NONSGML v1.0//EN
CALSCALE:GREGORIAN
METHOD:PUBLISH
X-WR-CALNAME:American Young Coder
X-ORIGINAL-URL:https://www.ayclogic.com
X-WR-CALDESC:Events for American Young Coder
REFRESH-INTERVAL;VALUE=DURATION:PT1H
X-Robots-Tag:noindex
X-PUBLISHED-TTL:PT1H
BEGIN:VTIMEZONE
TZID:America/Los_Angeles
BEGIN:DAYLIGHT
TZOFFSETFROM:-0800
TZOFFSETTO:-0700
TZNAME:PDT
DTSTART:20220313T100000
END:DAYLIGHT
BEGIN:STANDARD
TZOFFSETFROM:-0700
TZOFFSETTO:-0800
TZNAME:PST
DTSTART:20221106T090000
END:STANDARD
END:VTIMEZONE
BEGIN:VEVENT
DTSTART;TZID=America/Los_Angeles:20221027T173000
DTEND;TZID=America/Los_Angeles:20221027T183000
DTSTAMP:20260423T132600
CREATED:20221028T033141Z
LAST-MODIFIED:20221028T033141Z
UID:16038-1666891800-1666895400@www.ayclogic.com
SUMMARY:5:30 PM - Intro To Python - Alex W.
DESCRIPTION:Today We\n\nWorked on some common python errors\nFixed some python errors when multiple errors are in a single problem\n\nHomework\n\nComplete the problems at the following link: https://www.ayclogic.com/fixing-python-bugs/\n\nIf you have questions\, please email me at alexwalburg@ayclogic.com
URL:https://www.ayclogic.com/event/530-pm-intro-to-python-alex-w-9/
END:VEVENT
BEGIN:VEVENT
DTSTART;TZID=America/Los_Angeles:20221027T190000
DTEND;TZID=America/Los_Angeles:20221027T200000
DTSTAMP:20260423T132600
CREATED:20221101T180053Z
LAST-MODIFIED:20221101T180053Z
UID:16108-1666897200-1666900800@www.ayclogic.com
SUMMARY:7PM - OOP Python - Latisha
DESCRIPTION:Today We Did\n\nWorked on School Application\n\nHomework\n\nDo Selection 5\, which is to print the information of every student who is under 10 years old\n\nIf you have any questions\, feel free to email me at latisha@ayclogic.com
URL:https://www.ayclogic.com/event/7pm-oop-python-latisha-10/
END:VEVENT
END:VCALENDAR