BEGIN:VCALENDAR
VERSION:2.0
PRODID:-//American Young Coder - ECPv6.10.1.1//NONSGML v1.0//EN
CALSCALE:GREGORIAN
METHOD:PUBLISH
X-WR-CALNAME:American Young Coder
X-ORIGINAL-URL:https://www.ayclogic.com
X-WR-CALDESC:Events for American Young Coder
REFRESH-INTERVAL;VALUE=DURATION:PT1H
X-Robots-Tag:noindex
X-PUBLISHED-TTL:PT1H
BEGIN:VTIMEZONE
TZID:America/Los_Angeles
BEGIN:DAYLIGHT
TZOFFSETFROM:-0800
TZOFFSETTO:-0700
TZNAME:PDT
DTSTART:20220313T100000
END:DAYLIGHT
BEGIN:STANDARD
TZOFFSETFROM:-0700
TZOFFSETTO:-0800
TZNAME:PST
DTSTART:20221106T090000
END:STANDARD
END:VTIMEZONE
BEGIN:VEVENT
DTSTART;TZID=America/Los_Angeles:20221028T160000
DTEND;TZID=America/Los_Angeles:20221028T170000
DTSTAMP:20260423T132543
CREATED:20221102T021407Z
LAST-MODIFIED:20221102T022918Z
UID:16118-1666972800-1666976400@www.ayclogic.com
SUMMARY:4PM - Python OOP - Alex W.
DESCRIPTION:Today We did\n\nSet up the lists for each book object\nset up the dictionary to find an object by ID\n\nHomework\n\nComplete the find all books published after 2010 functionality. As an example\, if there are two books published after 2010(harry potter and percy jackson). The list should look something like this\n1 -Harry Potter. JK Rowling. 2008\, 1112\n2 -Percy Jackson. Rick Riordan. 2007\, 1111\nYou can use the get_info function for the author\, title\, publication date\, and ID. Don’t worry about the ordering of either.\n\nIf you have any questions\, please email me at alexwalburg@ayclogic.com
URL:https://www.ayclogic.com/event/4pm-python-oop-alex-w/
END:VEVENT
BEGIN:VEVENT
DTSTART;TZID=America/Los_Angeles:20221028T170000
DTEND;TZID=America/Los_Angeles:20221028T180000
DTSTAMP:20260423T132543
CREATED:20221029T014303Z
LAST-MODIFIED:20221029T014303Z
UID:16048-1666976400-1666980000@www.ayclogic.com
SUMMARY:5 PM – Scratch 1 – Yitong
DESCRIPTION:Today we:\n\nFinished the C sprite.\nMade the D sprite.\nMade the E sprite.\nMade the F sprite.\nMade the G sprite.\nMade the Conductor sprite.\nMade the Conductor sprite play Mary Had A Little Lamb.\n\nHomework:\n\nMake at least 2 costumes for the Conductor sprite\, then make the sprite do something.\n\n\n\n\nEx: Change the Conductor sprite’s costume so it looks like its moving.\n\n\n\n\n\nEmail your homework: yitong@ayclogic.com
URL:https://www.ayclogic.com/event/5-pm-scratch-1-yitong-13/
CATEGORIES:Scratch Class,Scratch Class Level 1
END:VEVENT
BEGIN:VEVENT
DTSTART;TZID=America/Los_Angeles:20221028T173000
DTEND;TZID=America/Los_Angeles:20221028T183000
DTSTAMP:20260423T132543
CREATED:20221102T021816Z
LAST-MODIFIED:20221102T021816Z
UID:16120-1666978200-1666981800@www.ayclogic.com
SUMMARY:5:30 PM - Intro To Python - Alex W.
DESCRIPTION:Today We Did\n\nReviewed Common Python Errors\n\nHomework\n\nIn Oct28_ErrorReview: Complete the following problems https://www.ayclogic.com/fixing-python-bugs/
URL:https://www.ayclogic.com/event/530-pm-intro-to-python-alex-w-10/
END:VEVENT
BEGIN:VEVENT
DTSTART;TZID=America/Los_Angeles:20221028T173000
DTEND;TZID=America/Los_Angeles:20221028T183000
DTSTAMP:20260423T132543
CREATED:20221103T003057Z
LAST-MODIFIED:20221103T021257Z
UID:16136-1666978200-1666981800@www.ayclogic.com
SUMMARY:5:30 PM - Python Game Development- Bill
DESCRIPTION:Today We:\n\nCreated the Player class\nWent over how to make the birds flap their wings\n\nYour HW:\n\nMake the Player dragon flap it’s wings like how we did it for the birds\nMake sure to use all 4 of the Player images
URL:https://www.ayclogic.com/event/530-pm-intro-to-python-bill/
END:VEVENT
BEGIN:VEVENT
DTSTART;TZID=America/Los_Angeles:20221028T190000
DTEND;TZID=America/Los_Angeles:20221028T200000
DTSTAMP:20260423T132543
CREATED:20221029T025845Z
LAST-MODIFIED:20221029T025845Z
UID:16050-1666983600-1666987200@www.ayclogic.com
SUMMARY:7 PM - Python Game Development - Gamas
DESCRIPTION:Homework:\n\nKeanu:\n\nFind background song for your game in opengameart.org\nAdd sound effects when Player jump\, when player hit by dinosaur\, when player hit the key and player hit the door.\n\n\nChristopher:\n\nMake some improvement on your game such as heal only works for 1 time.\nHelp Keanu\, make logo for his game “Runner”\n\n\nTo pop the balloon only when user click the mouse.\nWhen balloon is popped\, display the explode sprite.
URL:https://www.ayclogic.com/event/7-pm-python-game-development-gamas-12/
CATEGORIES:Python Class,Python Game Development
END:VEVENT
END:VCALENDAR