BEGIN:VCALENDAR
VERSION:2.0
PRODID:-//American Young Coder - ECPv6.10.1.1//NONSGML v1.0//EN
CALSCALE:GREGORIAN
METHOD:PUBLISH
X-ORIGINAL-URL:https://www.ayclogic.com
X-WR-CALDESC:Events for American Young Coder
REFRESH-INTERVAL;VALUE=DURATION:PT1H
X-Robots-Tag:noindex
X-PUBLISHED-TTL:PT1H
BEGIN:VTIMEZONE
TZID:America/Los_Angeles
BEGIN:DAYLIGHT
TZOFFSETFROM:-0800
TZOFFSETTO:-0700
TZNAME:PDT
DTSTART:20220313T100000
END:DAYLIGHT
BEGIN:STANDARD
TZOFFSETFROM:-0700
TZOFFSETTO:-0800
TZNAME:PST
DTSTART:20221106T090000
END:STANDARD
END:VTIMEZONE
BEGIN:VEVENT
DTSTART;TZID=America/Los_Angeles:20221103T173000
DTEND;TZID=America/Los_Angeles:20221103T183000
DTSTAMP:20260423T121016
CREATED:20221104T074727Z
LAST-MODIFIED:20221104T074727Z
UID:16203-1667496600-1667500200@www.ayclogic.com
SUMMARY:5:30 PM - Intro to Python - Alex W.
DESCRIPTION:Today We Did\n\nReviewed for next week’s quiz\n\nHomework\n\nReview for next week’s quiz. Email me if you have questions. Good topics to study are:\n\nThe random module(random.choice and random.randint)\nInputs\nLoops\nFunctions with parameters and returns\n\n\n\nIf you have any questions/want additional practice problems\, email me at alexwalburg@ayclogic.com \n 
URL:https://www.ayclogic.com/event/530-pm-intro-to-python-alex-w-11/
END:VEVENT
BEGIN:VEVENT
DTSTART;TZID=America/Los_Angeles:20221103T180000
DTEND;TZID=America/Los_Angeles:20221103T190000
DTSTAMP:20260423T121016
CREATED:20221104T022510Z
LAST-MODIFIED:20221104T022510Z
UID:16196-1667498400-1667502000@www.ayclogic.com
SUMMARY:6PM - Intro to Python - Saagar Mahadev
DESCRIPTION:Today we did:\n\nWent over the magic 8 ball problem using random.choice()\nDiscussed debugging\, different types of errors\, how to go about fixing these errors\nBriefly went over this problem at end of class\, applying what we learned: ayclogic.com/fixing-python-bugs\n\nHomework\nIn a file called FixingPythonBugsHW.py\, finish what we started in class: ayclogic.com/fixing-python-bugs. Additionally\, fix the code here: ayclogic.com/fix-python-bugs-2
URL:https://www.ayclogic.com/event/6pm-intro-to-python-saagar-mahadev/
CATEGORIES:Python Class,Python Level 1
END:VEVENT
BEGIN:VEVENT
DTSTART;TZID=America/Los_Angeles:20221103T190000
DTEND;TZID=America/Los_Angeles:20221103T200000
DTSTAMP:20260423T121016
CREATED:20221107T234759Z
LAST-MODIFIED:20221107T234759Z
UID:16267-1667502000-1667505600@www.ayclogic.com
SUMMARY:7PM - OOP Python - Latisha
DESCRIPTION:Today We Did\n\nContinued working on School Application\n\nHomework\n\nDo selection 5 using student_dictionary. Do it in a method called students_under_10_using_dictionary(). Then modify the application_loop so it uses the new method\n\nIf you have any questions\, feel free to email me at latisha@ayclogic.com
URL:https://www.ayclogic.com/event/7pm-oop-python-latisha-12/
END:VEVENT
END:VCALENDAR