BEGIN:VCALENDAR
VERSION:2.0
PRODID:-//American Young Coder - ECPv6.10.1.1//NONSGML v1.0//EN
CALSCALE:GREGORIAN
METHOD:PUBLISH
X-ORIGINAL-URL:https://www.ayclogic.com
X-WR-CALDESC:Events for American Young Coder
REFRESH-INTERVAL;VALUE=DURATION:PT1H
X-Robots-Tag:noindex
X-PUBLISHED-TTL:PT1H
BEGIN:VTIMEZONE
TZID:America/Los_Angeles
BEGIN:DAYLIGHT
TZOFFSETFROM:-0800
TZOFFSETTO:-0700
TZNAME:PDT
DTSTART:20220313T100000
END:DAYLIGHT
BEGIN:STANDARD
TZOFFSETFROM:-0700
TZOFFSETTO:-0800
TZNAME:PST
DTSTART:20221106T090000
END:STANDARD
END:VTIMEZONE
BEGIN:VEVENT
DTSTART;TZID=America/Los_Angeles:20221108T171500
DTEND;TZID=America/Los_Angeles:20221108T181500
DTSTAMP:20260423T121442
CREATED:20221109T024405Z
LAST-MODIFIED:20221109T024405Z
UID:16288-1667927700-1667931300@www.ayclogic.com
SUMMARY:5:15 - Intro To Python - Alex W.
DESCRIPTION:Today We:\n\nCreated the question marks for the list\nAdded in a number of hearts for each health bar\n\nHomework:\n\nIf there are no question marks in the qmarks list\, break out of the loop and say that the player has won
URL:https://www.ayclogic.com/event/515-intro-to-python-alex-w/
END:VEVENT
BEGIN:VEVENT
DTSTART;TZID=America/Los_Angeles:20221108T173000
DTEND;TZID=America/Los_Angeles:20221108T183000
DTSTAMP:20260423T121442
CREATED:20221109T024644Z
LAST-MODIFIED:20221109T024644Z
UID:16287-1667928600-1667932200@www.ayclogic.com
SUMMARY:5:30 PM - Intro To Python - Gamas
DESCRIPTION:Today We Did\n\nWe reviewed everyone’s project progress.\nWe make sure everyone knows how to continuously draw one shape with different colors. This is one of the requirement for the Turtle final project.\nWe started ShoppingCart project.\n\nHomework\n\nFinish your turtle python project. It is due next week 11/15.
URL:https://www.ayclogic.com/event/530-pm-intro-to-python-gamas-4/
CATEGORIES:Python Class,Python Level 1
END:VEVENT
BEGIN:VEVENT
DTSTART;TZID=America/Los_Angeles:20221108T180000
DTEND;TZID=America/Los_Angeles:20221108T190000
DTSTAMP:20260423T121442
CREATED:20221109T025856Z
LAST-MODIFIED:20221109T025856Z
UID:16291-1667930400-1667934000@www.ayclogic.com
SUMMARY:6 PM Scratch Level 1 - Alex Lee
DESCRIPTION:Today We Did:\n\nWe continued with the Tunnel of Doom project and were able to complete it.\nTalked about how to use AND and OR\n\nFor Homework:\n\nAdd background music to the Tunnel of Doom project.\nAlso\, create a new project called Window Cleaner.\nInside the project\, create a new sprite called “Splat” and look to page 135 in the book on how to create your own splat.
URL:https://www.ayclogic.com/event/6-pm-scratch-level-1-alex-lee-3/
CATEGORIES:Scratch Class,Scratch Class Level 1
END:VEVENT
BEGIN:VEVENT
DTSTART;TZID=America/Los_Angeles:20221108T180000
DTEND;TZID=America/Los_Angeles:20221108T190000
DTSTAMP:20260423T121442
CREATED:20221109T030751Z
LAST-MODIFIED:20221109T030751Z
UID:16292-1667930400-1667934000@www.ayclogic.com
SUMMARY:6 PM – Scratch 2 – Yitong
DESCRIPTION:Today we:\n\nStarted the Fantastic Flowers project.\nLearned how to draw a flower using the Ball sprite.\nAdded a draw_flower MyBlock.\n\nHomework:\n\nHOMEWORK IS DUE MONDAY NIGHT!! Please submit by emailing your homework to: yitong@ayclogic.com and Mr. Gamas’s email: gamas@ayclogic.com\n\nDon’t forget to share your project\, otherwise\, I won’t be to see your code.\nDon’t forget to include the project link in the email. Otherwise\, I cannot see your project.\n\n\nDo page 110\, #6-8 in your pink coding book.
URL:https://www.ayclogic.com/event/6-pm-scratch-2-yitong-15/
CATEGORIES:Scratch Class,Scratch Class Level 2
END:VEVENT
BEGIN:VEVENT
DTSTART;TZID=America/Los_Angeles:20221108T180000
DTEND;TZID=America/Los_Angeles:20221108T190000
DTSTAMP:20260423T121442
CREATED:20221109T215854Z
LAST-MODIFIED:20221109T220031Z
UID:16298-1667930400-1667934000@www.ayclogic.com
SUMMARY:6PM - Digital Illustration 1
DESCRIPTION:TUESDAY \nToday we continued the Four Flowers project. \nWe did: \n\nFinished up the purple Hyacinth flower by adding the stem and leaves\nCompiled all Hyacinth layers into one folder\nStarted on the red Tulip flower\nDrew three tulip heads using ovals\, layers\, and layer duplication\nDuplicate the first pot to make the second pot\n\n \nHOMEWORK : Add the stems and leaves for the Tulip.\n \nSteps: (all steps with images below) \n\nAdd a new layer. Put the new layer below the flower and pot layer.\nChoose a dark green color. Draw the stems.\nDraw one leaf for each stem.\nChoose a lighter green color. Draw another leaf for the left and center flowers.\nChoose a green color that is even lighter. Add another leaf for the right flower.\nAdd a new Folder. Put the Tulip flower\, pot\, and stem layers into the new folder.\nRename the folder “Tulip”\n\n 
URL:https://www.ayclogic.com/event/6pm-digital-illustration-3/
CATEGORIES:Beginner Digital Illustration,Digital Illustration
END:VEVENT
BEGIN:VEVENT
DTSTART;TZID=America/Los_Angeles:20221108T183000
DTEND;TZID=America/Los_Angeles:20221108T193000
DTSTAMP:20260423T121442
CREATED:20221110T033522Z
LAST-MODIFIED:20221111T224404Z
UID:16321-1667932200-1667935800@www.ayclogic.com
SUMMARY:6:30 PM – Scratch Level 1 – Allison
DESCRIPTION:Today We:\n\nContinued the Ask Gobo project\nCoded the variable ReplyNumber to be equal to a random number from 1-6\nCoded Gobo to have different responses depending on which number is picked\n\nImportant Reminders:\n\nThere are new homework rules. After you finish your homework in Scratch\, you have to send an email the night before the day of the class.\nSince our class is on Tuesday\, send an email to allison@ayclogic.com by Monday at 8 PM. In that email\, write down your name and a link to your shared Scratch project homework. Make sure to share your Scratch project.\n\nHomework:\n\nPrint out this picture (click here to see the picture) for your next project\nIf the ReplyNumber is 7\, code Gobo to say “Certainly”\nIf the ReplyNumber is 8\, code Gobo to say “Nope”\nIf the ReplyNumber is 9\, code Gobo to say “I don’t know”\nContact us at gamas@ayclogic.com or allison@ayclogic.com if you have any questions or need any help
URL:https://www.ayclogic.com/event/630-pm-scratch-level-1-allison-12/
CATEGORIES:Scratch Class,Scratch Class Level 1
END:VEVENT
BEGIN:VEVENT
DTSTART;TZID=America/Los_Angeles:20221108T190000
DTEND;TZID=America/Los_Angeles:20221108T200000
DTSTAMP:20260423T121442
CREATED:20221116T053121Z
LAST-MODIFIED:20221116T053143Z
UID:16423-1667934000-1667937600@www.ayclogic.com
SUMMARY:7 PM - 3D Animation Beginner
DESCRIPTION:Week 16\nToday we do:\n\nWe study the principle of animation cycle\nHow to make the animation cycle loop\nHow to animate the cycle animation\n\nHomework:\nAnalyze the cycle animation poses that I sent on zoom chat and continue to animate walk cycle.
URL:https://www.ayclogic.com/event/7-pm-3d-animation-beginner-15/
END:VEVENT
END:VCALENDAR