BEGIN:VCALENDAR
VERSION:2.0
PRODID:-//American Young Coder - ECPv6.10.1.1//NONSGML v1.0//EN
CALSCALE:GREGORIAN
METHOD:PUBLISH
X-WR-CALNAME:American Young Coder
X-ORIGINAL-URL:https://www.ayclogic.com
X-WR-CALDESC:Events for American Young Coder
REFRESH-INTERVAL;VALUE=DURATION:PT1H
X-Robots-Tag:noindex
X-PUBLISHED-TTL:PT1H
BEGIN:VTIMEZONE
TZID:America/Los_Angeles
BEGIN:DAYLIGHT
TZOFFSETFROM:-0800
TZOFFSETTO:-0700
TZNAME:PDT
DTSTART:20220313T100000
END:DAYLIGHT
BEGIN:STANDARD
TZOFFSETFROM:-0700
TZOFFSETTO:-0800
TZNAME:PST
DTSTART:20221106T090000
END:STANDARD
END:VTIMEZONE
BEGIN:VEVENT
DTSTART;TZID=America/Los_Angeles:20221110T173000
DTEND;TZID=America/Los_Angeles:20221110T183000
DTSTAMP:20260423T120048
CREATED:20221114T040804Z
LAST-MODIFIED:20221114T040832Z
UID:16387-1668101400-1668105000@www.ayclogic.com
SUMMARY:5:30 PM - Intro To Python - Alex W.
DESCRIPTION:Today We\n\nCompleted the second quiz\n\nHomework\n\nSince we completed the second quiz. There is no homework.
URL:https://www.ayclogic.com/event/530-pm-intro-to-python-alex-w-13/
END:VEVENT
BEGIN:VEVENT
DTSTART;TZID=America/Los_Angeles:20221110T190000
DTEND;TZID=America/Los_Angeles:20221110T200000
DTSTAMP:20260423T120048
CREATED:20221114T233522Z
LAST-MODIFIED:20221114T233522Z
UID:16393-1668106800-1668110400@www.ayclogic.com
SUMMARY:7PM - OOP Python - Latisha
DESCRIPTION:Today We Did\n\nFinished School Application\nStarted working on Book Application\n\nHomework\n\nDo selection 3 in book_system in a method called find_book_by_id(). The method will ask the user for a book ID and then if the book exists\, then print the information about the book like how we did for list_all_books. IF the book doesn’t exist\, print “We don’t have book ID <id> in our system.”\n\nIf you have any questions\, feel free to email me at latisha@ayclogic.com
URL:https://www.ayclogic.com/event/7pm-oop-python-latisha-13/
END:VEVENT
END:VCALENDAR