BEGIN:VCALENDAR
VERSION:2.0
PRODID:-//American Young Coder - ECPv6.10.1.1//NONSGML v1.0//EN
CALSCALE:GREGORIAN
METHOD:PUBLISH
X-WR-CALNAME:American Young Coder
X-ORIGINAL-URL:https://www.ayclogic.com
X-WR-CALDESC:Events for American Young Coder
REFRESH-INTERVAL;VALUE=DURATION:PT1H
X-Robots-Tag:noindex
X-PUBLISHED-TTL:PT1H
BEGIN:VTIMEZONE
TZID:America/Los_Angeles
BEGIN:DAYLIGHT
TZOFFSETFROM:-0800
TZOFFSETTO:-0700
TZNAME:PDT
DTSTART:20220313T100000
END:DAYLIGHT
BEGIN:STANDARD
TZOFFSETFROM:-0700
TZOFFSETTO:-0800
TZNAME:PST
DTSTART:20221106T090000
END:STANDARD
END:VTIMEZONE
BEGIN:VEVENT
DTSTART;TZID=America/Los_Angeles:20221111T160000
DTEND;TZID=America/Los_Angeles:20221111T170000
DTSTAMP:20260423T120849
CREATED:20221114T041053Z
LAST-MODIFIED:20221114T041053Z
UID:16389-1668182400-1668186000@www.ayclogic.com
SUMMARY:4PM - Python OOP - Alex W.
DESCRIPTION:Today We\n\nFinished up the checkout system of our Grocery Cart System\nCreated an automatic menu maker\nStarted learning about inheritance with the MonsterSystem project\n\nHomework\n\nCreate the water golem class\, which is like a dragon except it is immune to water instead of fire
URL:https://www.ayclogic.com/event/4pm-python-oop-alex-w-3/
END:VEVENT
BEGIN:VEVENT
DTSTART;TZID=America/Los_Angeles:20221111T163000
DTEND;TZID=America/Los_Angeles:20221111T173000
DTSTAMP:20260423T120849
CREATED:20221112T011457Z
LAST-MODIFIED:20221112T011457Z
UID:16336-1668184200-1668187800@www.ayclogic.com
SUMMARY:4:30 PM - Intro To Python - Gamas
DESCRIPTION:Today We Did:\n\nWe reviewed the 3 data types we learned last week.\nWe reviewed String homeworks.\n\nHomework\n\nCreate a new Python file Nov11_StringHomework2.py\nDo exercises from page 25: TRY IT YOURSELF 2-3 all the way to 2-7.\nDon’t forget to upload to google drive to your assigned folder.
URL:https://www.ayclogic.com/event/430-pm-intro-to-python-gamas-2/
CATEGORIES:Python Class,Python Level 1
END:VEVENT
BEGIN:VEVENT
DTSTART;TZID=America/Los_Angeles:20221111T173000
DTEND;TZID=America/Los_Angeles:20221111T183000
DTSTAMP:20260423T120849
CREATED:20221113T010158Z
LAST-MODIFIED:20221113T010158Z
UID:16372-1668187800-1668191400@www.ayclogic.com
SUMMARY:5:30 PM - Python Game Development - Bill
DESCRIPTION:Today We:\n\nContinued the Dragon Birdie project\nAdded bullet class\nMade it so when player presses space\, a bullet is launched from the player\n\nYour HW:\n\nNone
URL:https://www.ayclogic.com/event/530-pm-python-game-development-bill-5/
END:VEVENT
BEGIN:VEVENT
DTSTART;TZID=America/Los_Angeles:20221111T173000
DTEND;TZID=America/Los_Angeles:20221111T183000
DTSTAMP:20260423T120849
CREATED:20221114T041307Z
LAST-MODIFIED:20221114T041307Z
UID:16391-1668187800-1668191400@www.ayclogic.com
SUMMARY:5:30 PM - Intro To Python - Alex W.
DESCRIPTION:Today We:\n\nAdded in health and the blank spaces to hangman\n\nHomework:\n\nPrint out the blank spaces after we print out the hearts each time
URL:https://www.ayclogic.com/event/530-pm-intro-to-python-alex-w-14/
END:VEVENT
BEGIN:VEVENT
DTSTART;TZID=America/Los_Angeles:20221111T190000
DTEND;TZID=America/Los_Angeles:20221111T200000
DTSTAMP:20260423T120849
CREATED:20221112T031615Z
LAST-MODIFIED:20221112T035437Z
UID:16340-1668193200-1668196800@www.ayclogic.com
SUMMARY:7 PM - Python Game Development - Gamas
DESCRIPTION:Homework\n\nKeanu: In your team project: In GAME OVER page add PLAY and CREDIT buttons\nChristopher: In your team project: The Credit page texts were overlapping or cut off. Maybe lower the font size and put it in different lines.\nShootBalloon:\n\nCreate red bug once every 2 seconds that will moves left or right.\nAnd make the bug fast.\nAdd collision detection between bug and target and make the bug disappear when you click on the bug.
URL:https://www.ayclogic.com/event/7-pm-python-game-development-gamas-14/
CATEGORIES:Python Game Development
END:VEVENT
END:VCALENDAR