BEGIN:VCALENDAR
VERSION:2.0
PRODID:-//American Young Coder - ECPv6.10.1.1//NONSGML v1.0//EN
CALSCALE:GREGORIAN
METHOD:PUBLISH
X-ORIGINAL-URL:https://www.ayclogic.com
X-WR-CALDESC:Events for American Young Coder
REFRESH-INTERVAL;VALUE=DURATION:PT1H
X-Robots-Tag:noindex
X-PUBLISHED-TTL:PT1H
BEGIN:VTIMEZONE
TZID:America/Los_Angeles
BEGIN:DAYLIGHT
TZOFFSETFROM:-0800
TZOFFSETTO:-0700
TZNAME:PDT
DTSTART:20220313T100000
END:DAYLIGHT
BEGIN:STANDARD
TZOFFSETFROM:-0700
TZOFFSETTO:-0800
TZNAME:PST
DTSTART:20221106T090000
END:STANDARD
END:VTIMEZONE
BEGIN:VEVENT
DTSTART;TZID=America/Los_Angeles:20221112T090000
DTEND;TZID=America/Los_Angeles:20221112T100000
DTSTAMP:20260423T120349
CREATED:20221112T181208Z
LAST-MODIFIED:20221112T181208Z
UID:16347-1668243600-1668247200@www.ayclogic.com
SUMMARY:9 AM - Intro To Java - Gamas
DESCRIPTION:Today We Did\n\nWe finished Driver System.\nWe reviewed what’s going to be in the final test.\n\nHomework\n\nNext week is 2 hours final test. From 9 AM to 11 AM.\nTo prepare for the final\, try to redo the following\n\nBank System from the quiz\nDriver System\nAlso lookup how to use List in Java.
URL:https://www.ayclogic.com/event/9-am-intro-to-java-gamas-23/
CATEGORIES:Introduction To Java,Java
END:VEVENT
BEGIN:VEVENT
DTSTART;TZID=America/Los_Angeles:20221112T103000
DTEND;TZID=America/Los_Angeles:20221112T113000
DTSTAMP:20260423T120349
CREATED:20221112T194547Z
LAST-MODIFIED:20221112T194624Z
UID:16349-1668249000-1668252600@www.ayclogic.com
SUMMARY:10:30 AM – Scratch 1 – Yitong
DESCRIPTION:Today we:\n\nAdded special effects to the accessory sprites.\nFinished the Funny Faces project.\nStarted the Name Animation project.\nMade the first 3 letter sprites.\n\nHomework:\n\nMake the 4th letter in your name slowly get brighter\, and then slowly fade back to normal.\nPRINT OUT THE IMAGE I HAD YOU GUYS SAVE FOR NEXT WEEK!!!\n\n\n\n\nEmail me if you need help: yitong@ayclogic.com
URL:https://www.ayclogic.com/event/1030-am-scratch-1-yitong-5/
CATEGORIES:Scratch Class,Scratch Class Level 1
END:VEVENT
BEGIN:VEVENT
DTSTART;TZID=America/Los_Angeles:20221112T110000
DTEND;TZID=America/Los_Angeles:20221112T120000
DTSTAMP:20260423T120349
CREATED:20221112T051554Z
LAST-MODIFIED:20221112T051554Z
UID:16344-1668250800-1668254400@www.ayclogic.com
SUMMARY:11 AM - Intro To Python - Indo - Gamas
DESCRIPTION:Today We Do\n\nWe reviewed homework from https://www.ayclogic.com/intro-to-python-exercises/\n\nHomework\n\nNext week is 1st quiz and this is 10% of your class grade. Please study well.\nDuring the quiz\, you can use Thonny to do your codes\, but you cannot look at your homeworks or other exercises you have done in the past.\nThe best way to prepare for the quiz is to redo https://www.ayclogic.com/intro-to-python-exercises/ without looking at the solution. If you are stuck you can look at the solution. I have uploaded the solution to the google drive.\nDon’t be late to come to class next week.
URL:https://www.ayclogic.com/event/11-am-intro-to-python-indo-gamas/
CATEGORIES:Python Class,Python Level 1
END:VEVENT
BEGIN:VEVENT
DTSTART;TZID=America/Los_Angeles:20221112T110000
DTEND;TZID=America/Los_Angeles:20221112T120000
DTSTAMP:20260423T120349
CREATED:20221112T200741Z
LAST-MODIFIED:20221112T200741Z
UID:16353-1668250800-1668254400@www.ayclogic.com
SUMMARY:11 AM - Scratch 1 - Abigail
DESCRIPTION:What we did today\n\nWe finished working on the Dino Dance project.\nWe started working on the Animal Race project.\n\nHomework\n\nDo pages 54-55 on your pink scratch book.\nMake sure to add all the necessary sprites and background. (Dog2\, Bat\, Block-b\, Block-d\, and Blue sky).
URL:https://www.ayclogic.com/event/11-am-scratch-1-abigail-24/
CATEGORIES:Scratch Class,Scratch Class Level 1
END:VEVENT
BEGIN:VEVENT
DTSTART;TZID=America/Los_Angeles:20221112T120000
DTEND;TZID=America/Los_Angeles:20221112T130000
DTSTAMP:20260423T120349
CREATED:20221112T210431Z
LAST-MODIFIED:20221112T210431Z
UID:16355-1668254400-1668258000@www.ayclogic.com
SUMMARY:12 PM - Python Game Development - Gamas
DESCRIPTION:Today We Did\n\nWe added code to spawn bird every one second.\nWe added the up and down arrow to control the player movement. But we have not added the code to move the player.\n\nHomework\n\nAdd the launch_fireball.xml vector image into the bottom right corner of the screen like below
URL:https://www.ayclogic.com/event/12-pm-python-game-development-gamas/
CATEGORIES:Android Game Development,Java
END:VEVENT
BEGIN:VEVENT
DTSTART;TZID=America/Los_Angeles:20221112T130000
DTEND;TZID=America/Los_Angeles:20221112T140000
DTSTAMP:20260423T120349
CREATED:20221113T011356Z
LAST-MODIFIED:20221113T011429Z
UID:16371-1668258000-1668261600@www.ayclogic.com
SUMMARY:1 PM - Intro To Java - Alex Lee
DESCRIPTION:Homework:\n\nMake the result for Celsius more visible than how it looks right now. An example is given below.
URL:https://www.ayclogic.com/event/1-pm-android-game-development-alex-lee/
CATEGORIES:Introduction To Java,Java
END:VEVENT
BEGIN:VEVENT
DTSTART;TZID=America/Los_Angeles:20221112T140000
DTEND;TZID=America/Los_Angeles:20221112T150000
DTSTAMP:20260423T120349
CREATED:20221113T000813Z
LAST-MODIFIED:20221113T000813Z
UID:16360-1668261600-1668265200@www.ayclogic.com
SUMMARY:2 PM – Intro To Python – Sebastian
DESCRIPTION:Today We Did\n\nReview of homework\nFull review focusing on loops\nCan use for loops and while loops to do the same thing\nReviewed how range() works\n\nHomework\n\nNo homework this week because we will have our quiz during the next class (November 19th)\nIf you want to prepare for the quiz\, look over our last homework\, “NOV5_quizreview”
URL:https://www.ayclogic.com/event/2-pm-intro-to-python-sebastian-10/
CATEGORIES:Python Class,Python Level 1
END:VEVENT
BEGIN:VEVENT
DTSTART;TZID=America/Los_Angeles:20221112T150000
DTEND;TZID=America/Los_Angeles:20221112T160000
DTSTAMP:20260423T120349
CREATED:20221113T000859Z
LAST-MODIFIED:20221113T000859Z
UID:16364-1668265200-1668268800@www.ayclogic.com
SUMMARY:3 PM – Intro To Python – Sebastian
DESCRIPTION:Today We Did\n\nReview of homework\nFull review focusing on loops\nCan use for loops and while loops to do the same thing\nReviewed how range() works\n\nHomework\n\nNo homework this week because we will have our quiz during the next class (November 19th)\nIf you want to prepare for the quiz\, look over our last homework\, “NOV5_quizreview”
URL:https://www.ayclogic.com/event/3-pm-intro-to-python-sebastian-12/
CATEGORIES:Python Class,Python Level 1
END:VEVENT
BEGIN:VEVENT
DTSTART;TZID=America/Los_Angeles:20221112T160000
DTEND;TZID=America/Los_Angeles:20221112T170000
DTSTAMP:20260423T120349
CREATED:20221113T005710Z
LAST-MODIFIED:20221113T005710Z
UID:16367-1668268800-1668272400@www.ayclogic.com
SUMMARY:4 PM - Intro To Java - Alex Lee
DESCRIPTION:Homework:\n\nCreate a new Java class <date>_MethodsHomework.java\nCreate a new method convertFromFahrenheitToCelcius. It has one parameter int Fahrenheit. Inside the method\, it will convert the Fahrenheit parameter into Celcius by using this formula (F − 32) × 5/9 = C . You have to return the result. This is very similar to what we did in the class with addFourNumbers method.\nAlong with that create another method that asks for your favorite song\, and if the song is “Shape of You” then say that it is your favorite song\, otherwise say that the song is alright.
URL:https://www.ayclogic.com/event/4-pm-intro-to-java-alex-lee-5/
CATEGORIES:Introduction To Java,Java
END:VEVENT
BEGIN:VEVENT
DTSTART;TZID=America/Los_Angeles:20221112T160000
DTEND;TZID=America/Los_Angeles:20221112T170000
DTSTAMP:20260423T120349
CREATED:20221113T005805Z
LAST-MODIFIED:20221115T023007Z
UID:16366-1668268800-1668272400@www.ayclogic.com
SUMMARY:4 PM - Python Game Development - Latisha
DESCRIPTION:Homework\n\nContinue Flappy Bird project\n\nInside main.py\, inside game_in_session()\, call check_player_fall_off_the_screen() method.\nInside main.py\, inside game_loop\, add a condition that will handle GAME_OVER mode.\nAnd create game_over page like below. Including the CREDIT button (assets/images/credit_button.png)
URL:https://www.ayclogic.com/event/4-pm-python-game-development-gamas/
CATEGORIES:Python Class,Python Game Development
END:VEVENT
BEGIN:VEVENT
DTSTART;TZID=America/Los_Angeles:20221112T163000
DTEND;TZID=America/Los_Angeles:20221112T173000
DTSTAMP:20260423T120349
CREATED:20221113T015127Z
LAST-MODIFIED:20221113T015127Z
UID:16377-1668270600-1668274200@www.ayclogic.com
SUMMARY:4:30 PM – Scratch Level 2 – Allison
DESCRIPTION:Today we:\n\nContinued the Cheese Chase project\nCoded the Ghost sprite to chase the Mouse sprite while disappearing and showing\nCreated a Game Over Banner\nWhen the Mouse sprite touches the Beetle sprite or Ghost sprite\, coded the Game Over Banner to show and stop the entire game\nCoded Level 2 to start when the score is equal to 30\nCreated and coded Beetle2 and Beetle3 sprites to show and move at Level 2\nCoded the Game Over Banner\, Beetle2\, and Beetle3 sprites to hide when the game starts\n\nHomework:\n\nCreate a sprite named “Level Banner”.\n\nDraw the first costume with a banner that says “Level 1”.\nDraw the second costume with a banner that says “Level 2”\n\n\nCode the Level Banner to use the first costume and show for two seconds when the game starts. After that\, code it to hide.\nCode the Level Banner to use the second costume and show for two seconds when the second level starts. After that\, code it to hide.\nContact us if you have any questions or need any help
URL:https://www.ayclogic.com/event/430-pm-scratch-level-2-allison-9/
CATEGORIES:Scratch Class,Scratch Class Level 1
END:VEVENT
BEGIN:VEVENT
DTSTART;TZID=America/Los_Angeles:20221112T170000
DTEND;TZID=America/Los_Angeles:20221112T180000
DTSTAMP:20260423T120349
CREATED:20221113T020700Z
LAST-MODIFIED:20221113T020834Z
UID:16379-1668272400-1668276000@www.ayclogic.com
SUMMARY:5 PM - Minecraft Modding with Java - Gamas
DESCRIPTION:Today We Did\n\nWe went over all the parameters (options) for SaturnArmorMaterial.java\nWe created saturn_helmet\, saturn_boots\, saturn_leggings\, saturn_helmet custom armors.\n\nHomework\n\nCustomize your armor images\n\nsaturn_boots.png\nsaturn_leggings.png\nsaturn_helmet.png\nMatch the customization with your saturn_layer_1.png\n\n\nCreate recipes for all 4 of your saturn armors. Just a reminder you need to create one json file per recipe under src/resources/data/aycessentials/recipes/
URL:https://www.ayclogic.com/event/5-pm-minecraft-modding-with-java-gamas-10/
CATEGORIES:Java,Minecraft Modding With Java
END:VEVENT
BEGIN:VEVENT
DTSTART;TZID=America/Los_Angeles:20221112T180000
DTEND;TZID=America/Los_Angeles:20221112T190000
DTSTAMP:20260423T120349
CREATED:20221113T030724Z
LAST-MODIFIED:20221113T030724Z
UID:16383-1668276000-1668279600@www.ayclogic.com
SUMMARY:6 PM - Digital Illustration - Abigail
DESCRIPTION:What we did today\n\nWe continued working on the Simba drawing\n\nHomework\n\nColor in the flat colors using paint bucket tool.\nUse the eyedropper tool.\nRemember to MAKE A NEW LAYER. (Don’t forget to put that layer underneath the lineart layer.)
URL:https://www.ayclogic.com/event/6-pm-digital-illustration-abigail/
CATEGORIES:Beginner Digital Illustration,Digital Illustration
END:VEVENT
BEGIN:VEVENT
DTSTART;TZID=America/Los_Angeles:20221112T180000
DTEND;TZID=America/Los_Angeles:20221112T190000
DTSTAMP:20260423T120349
CREATED:20221117T033237Z
LAST-MODIFIED:20221117T033237Z
UID:16453-1668276000-1668279600@www.ayclogic.com
SUMMARY:6 PM - Python OOP - Bill
DESCRIPTION:Today We:\n\nReviewed the HW\nStarted working on the main in the Monster Inheritance project\nCreated the get_menu method that will return the menu of the monsters\n\nYour HW:\n\nCreate a variable called selected_monster\nthis needs to be the monster the player is asked to select to fight\nCheck if the user response is in the dictionary\n\nIf it is\, set selected_monster to the correct monster by it’s name\nIf not\, print out “Monster Not Found in System”\n\n\nPrint out selected_monster.get_info() to see if your code works
URL:https://www.ayclogic.com/event/6-pm-python-oop-bill-14/
END:VEVENT
END:VCALENDAR