BEGIN:VCALENDAR
VERSION:2.0
PRODID:-//American Young Coder - ECPv6.10.1.1//NONSGML v1.0//EN
CALSCALE:GREGORIAN
METHOD:PUBLISH
X-ORIGINAL-URL:https://www.ayclogic.com
X-WR-CALDESC:Events for American Young Coder
REFRESH-INTERVAL;VALUE=DURATION:PT1H
X-Robots-Tag:noindex
X-PUBLISHED-TTL:PT1H
BEGIN:VTIMEZONE
TZID:America/Los_Angeles
BEGIN:DAYLIGHT
TZOFFSETFROM:-0800
TZOFFSETTO:-0700
TZNAME:PDT
DTSTART:20220313T100000
END:DAYLIGHT
BEGIN:STANDARD
TZOFFSETFROM:-0700
TZOFFSETTO:-0800
TZNAME:PST
DTSTART:20221106T090000
END:STANDARD
END:VTIMEZONE
BEGIN:VEVENT
DTSTART;TZID=America/Los_Angeles:20221115T080000
DTEND;TZID=America/Los_Angeles:20221115T170000
DTSTAMP:20260423T120347
CREATED:20221116T053524Z
LAST-MODIFIED:20221116T053524Z
UID:16425-1668499200-1668531600@www.ayclogic.com
SUMMARY:7 PM - 3D Animation Beginner
DESCRIPTION:Week 16\nToday we do:\n\nTrouble shooting the problem in graph editor\nLearning about gimbal rotation axis in maya\nContinue to animate the animation cycle\n\nHomework:\nKeep on going with your animation cycle. try to observe step by step of what we are doing in class with the recording video. \nNote: If you need more help please booked extra class for further assistance.
URL:https://www.ayclogic.com/event/7-pm-3d-animation-beginner-16/
END:VEVENT
BEGIN:VEVENT
DTSTART;TZID=America/Los_Angeles:20221115T171500
DTEND;TZID=America/Los_Angeles:20221115T181500
DTSTAMP:20260423T120347
CREATED:20221120T081611Z
LAST-MODIFIED:20221120T081611Z
UID:16516-1668532500-1668536100@www.ayclogic.com
SUMMARY:5:15PM - Intro To Python - Alex W.
DESCRIPTION:Today We:\n\nFinished up the hangman project\nLearned the basics of python turtle\n\nHomework:\n\nComplete the assignment at the link below: https://www.ayclogic.com/event/6-pm-intro-to-python-46/
URL:https://www.ayclogic.com/event/515pm-intro-to-python-alex-w-3/
END:VEVENT
BEGIN:VEVENT
DTSTART;TZID=America/Los_Angeles:20221115T173000
DTEND;TZID=America/Los_Angeles:20221115T183000
DTSTAMP:20260423T120347
CREATED:20221116T023034Z
LAST-MODIFIED:20221116T023034Z
UID:16409-1668533400-1668537000@www.ayclogic.com
SUMMARY:5:30 PM - Intro To Python - Gamas
DESCRIPTION:Homework\n\nIf you have not submitted your turtle project\, please upload to google drive as soon as possible. Otherwise you get some point deductions.\nGamas will send feedbacks on your turtle project to your email and if you make changes according to my feedbacks\, then you can get better grades.\nContinue on Nov8_ShoppingCart.py. Add codes so it can do the following\n\nWhat do you want to purchase:\n1. Milk - $5\n2. Ice Cream - $4\n3. Bread - $6\n4. I am done\, checkout please\nEnter your selection: 1\nYou have purchased Milk for $5\n\nWhat do you want to purchase:\n1. Milk - $5\n2. Ice Cream - $4\n3. Bread - $6\n4. I am done\, checkout please\nEnter your selection: 2\nYou have purchased Ice Cream for $4\n\nWhat do you want to purchase:\n1. Milk - $5\n2. Ice Cream - $4\n3. Bread - $6\n4. I am done\, checkout please\nEnter your selection: 3\nYou have purchased Bread for $6\n\nWhat do you want to purchase:\n1. Milk - $5\n2. Ice Cream - $4\n3. Bread - $6\n4. I am done\, checkout please\nEnter your selection: 4\n\nPlease pay $15\, thank you for your business.
URL:https://www.ayclogic.com/event/530-pm-intro-to-python-gamas-5/
CATEGORIES:Python Class,Python Level 1
END:VEVENT
BEGIN:VEVENT
DTSTART;TZID=America/Los_Angeles:20221115T180000
DTEND;TZID=America/Los_Angeles:20221115T190000
DTSTAMP:20260423T120347
CREATED:20221116T025355Z
LAST-MODIFIED:20221116T025355Z
UID:16413-1668535200-1668538800@www.ayclogic.com
SUMMARY:6 PM - Scratch Level 1 - Alex
DESCRIPTION:Homework:\n\nCreate a countdown for the game so you only have 60 seconds to clean the screen.\nCreate a new variable called countdown.\nGet a new “green flag clicked” and set the countdown to 60 under it.\nFigure out a way to decrease the countdown by 1 second until it reaches 0.\nWhen it reaches 0\, stop all.
URL:https://www.ayclogic.com/event/6-pm-scratch-level-1-alex/
CATEGORIES:Scratch Class,Scratch Class Level 1
END:VEVENT
BEGIN:VEVENT
DTSTART;TZID=America/Los_Angeles:20221115T180000
DTEND;TZID=America/Los_Angeles:20221115T190000
DTSTAMP:20260423T120347
CREATED:20221116T034450Z
LAST-MODIFIED:20221116T034450Z
UID:16416-1668535200-1668538800@www.ayclogic.com
SUMMARY:6 PM – Scratch 2 – Yitong
DESCRIPTION:Today we:\n\nAdded the parameters number_of_petals\, petal_color\, and center_color.\n\nHomework:\n\nHOMEWORK IS DUE MONDAY NIGHT!! Please submit by emailing your homework to: yitong@ayclogic.com and Mr. Gamas’s email: gamas@ayclogic.com\n\nDon’t forget to share your project\, otherwise\, I won’t be to see your code.\nDon’t forget to include the project link in the email. Otherwise\, I cannot see your project.\n\n\nDo page 116\, #21-22 in your pink coding book.\n\nNO CLASS NEXT WEEK!
URL:https://www.ayclogic.com/event/6-pm-scratch-2-yitong-16/
CATEGORIES:Scratch Class,Scratch Class Level 2
END:VEVENT
BEGIN:VEVENT
DTSTART;TZID=America/Los_Angeles:20221115T180000
DTEND;TZID=America/Los_Angeles:20221115T190000
DTSTAMP:20260423T120347
CREATED:20221116T061257Z
LAST-MODIFIED:20221116T061405Z
UID:16428-1668535200-1668538800@www.ayclogic.com
SUMMARY:6PM - Digital Illustration 1
DESCRIPTION:TUESDAY \nToday we continued the Four Flowers project. \nWe did: \n\nChecked homework results (to draw the stem and leaves of the red tulips)\nStarted and completed the next flower: the Blue Muscari\nSteps: 1) Dark blue shape\, duplicate and transform to make three shapes\, merge together into one layer\, add lighter blue dots pattern\, duplicate pot from previous flower\, draw stem and leaves in a separate layer.\n\n \nHOMEWORK : Combine all blue flower components into a new folder\, and rename the folder “Muscari” \nWe should now have three folders.
URL:https://www.ayclogic.com/event/6pm-digital-illustration-1-22/
CATEGORIES:Beginner Digital Illustration,Digital Illustration
END:VEVENT
BEGIN:VEVENT
DTSTART;TZID=America/Los_Angeles:20221115T183000
DTEND;TZID=America/Los_Angeles:20221115T193000
DTSTAMP:20260423T120347
CREATED:20221116T040306Z
LAST-MODIFIED:20221118T205821Z
UID:16417-1668537000-1668540600@www.ayclogic.com
SUMMARY:6:30 PM – Scratch Level 1 – Allison
DESCRIPTION:Today We:\n\nFinished the Ask Gobo project\nStarted the Name Animation project\nCoded one sprite to change colors and play a sound effect when the sprite is clicked\nCoded another sprite to forever spin to the right when the sprite is clicked\n\nImportant Reminders Pt. 1:\n\nThere are new homework rules. After you finish your homework in Scratch\, you have to send an email the night before the day of the class.\nSince our class is on Tuesday\, send an email to allison@ayclogic.com by Monday at 8 PM. In that email\, write down your name and a link to your shared Scratch project homework. Make sure to share your Scratch project.\n\nImportant Reminders Pt. 2:\n\nTo celebrate Thanksgiving\, the school will be closed from Monday 11/21 – Sunday 11/27. There is no class next week. Our next class will be on Tuesday 11/29. Make sure to send your homework by Monday 11/28 8 PM.\n\nHomework:\n\nPrint out this picture on paper (click here to see the picture) for your next project. Ask your parents\, guardians\, or family for help if needed. \nAdd the next sprite (it should be the third letter of your name). Code the sprite to forever spin to the left and change colors when the sprite is clicked.\nAdd the next sprite (it should be the fourth letter of your name. Code two special effects to happen when the sprite is clicked.\n\nYou can add any special effects you want as long as it is not the same as the other sprites. (Ex: you can add ghost effect\, add whirl effect\, add sound effect\, or other effects).\n\n\nAdd a background. My project uses the “Boardwalk” background\, but you can use any background you want.\nContact us at gamas@ayclogic.com or allison@ayclogic.com if you have any questions or need any help
URL:https://www.ayclogic.com/event/630-pm-scratch-level-1-allison-13/
CATEGORIES:Scratch Class,Scratch Class Level 1
END:VEVENT
END:VCALENDAR