BEGIN:VCALENDAR
VERSION:2.0
PRODID:-//American Young Coder - ECPv6.10.1.1//NONSGML v1.0//EN
CALSCALE:GREGORIAN
METHOD:PUBLISH
X-ORIGINAL-URL:https://www.ayclogic.com
X-WR-CALDESC:Events for American Young Coder
REFRESH-INTERVAL;VALUE=DURATION:PT1H
X-Robots-Tag:noindex
X-PUBLISHED-TTL:PT1H
BEGIN:VTIMEZONE
TZID:America/Los_Angeles
BEGIN:DAYLIGHT
TZOFFSETFROM:-0800
TZOFFSETTO:-0700
TZNAME:PDT
DTSTART:20220313T100000
END:DAYLIGHT
BEGIN:STANDARD
TZOFFSETFROM:-0700
TZOFFSETTO:-0800
TZNAME:PST
DTSTART:20221106T090000
END:STANDARD
END:VTIMEZONE
BEGIN:VEVENT
DTSTART;TZID=America/Los_Angeles:20221117T173000
DTEND;TZID=America/Los_Angeles:20221117T180000
DTSTAMP:20260423T121008
CREATED:20221120T082203Z
LAST-MODIFIED:20221202T003131Z
UID:16519-1668706200-1668708000@www.ayclogic.com
SUMMARY:5:30 PM - Intro To Python - Alex W.
DESCRIPTION:Today We\n\nLearned the basics of working with python turtle\n\nHomework\n\nComplete the questions at the following link: https://www.ayclogic.com/event/6-pm-intro-to-python-46/\nWe do not have class next week\, as it is thanksgiving week
URL:https://www.ayclogic.com/event/4pm-intro-to-python-alex-w-2/
CATEGORIES:Python Class,Python Level 1
END:VEVENT
BEGIN:VEVENT
DTSTART;TZID=America/Los_Angeles:20221117T180000
DTEND;TZID=America/Los_Angeles:20221117T190000
DTSTAMP:20260423T121008
CREATED:20221118T032027Z
LAST-MODIFIED:20221118T032027Z
UID:16466-1668708000-1668711600@www.ayclogic.com
SUMMARY:6PM – Intro to Python – Saagar Mahadev
DESCRIPTION:Today we did:\n\nwent over the bug fixing homework\nlooping through strings and list using for loops and indexes\, preparing for hangman\nstarted the hangman game with randomly choosing secret word\, initializing clues\, and printing you win/you lose at end based on health\n\nHomework\nIn a file called LoopingThroughStringsAndListHW.py\, do the following problems: ayclogic.com/looping-each-letter-in-a-word-exercise
URL:https://www.ayclogic.com/event/6pm-intro-to-python-saagar-mahadev-2/
CATEGORIES:Python Class,Python Level 1
END:VEVENT
BEGIN:VEVENT
DTSTART;TZID=America/Los_Angeles:20221117T190000
DTEND;TZID=America/Los_Angeles:20221117T200000
DTSTAMP:20260423T121008
CREATED:20221120T182238Z
LAST-MODIFIED:20221120T182238Z
UID:16525-1668711600-1668715200@www.ayclogic.com
SUMMARY:7PM - OOP Python - Latisha
DESCRIPTION:Today We Did\n\nFinished Book System\nStarted Grocery System with Class\n\nHomework\n\nIf the user enters 4\, break. If the user enters anything other than 1\,2\,3\,4 then print “Invalid selection.”\n\nNO CLASS NEXT WEEK BECAUSE OF THANKSGIVING HOLIDAY \nIf you have any questions\, feel free to email me at latisha@ayclogic.com
URL:https://www.ayclogic.com/event/7pm-oop-python-latisha-15/
END:VEVENT
END:VCALENDAR