BEGIN:VCALENDAR
VERSION:2.0
PRODID:-//American Young Coder - ECPv6.10.1.1//NONSGML v1.0//EN
CALSCALE:GREGORIAN
METHOD:PUBLISH
X-WR-CALNAME:American Young Coder
X-ORIGINAL-URL:https://www.ayclogic.com
X-WR-CALDESC:Events for American Young Coder
REFRESH-INTERVAL;VALUE=DURATION:PT1H
X-Robots-Tag:noindex
X-PUBLISHED-TTL:PT1H
BEGIN:VTIMEZONE
TZID:America/Los_Angeles
BEGIN:DAYLIGHT
TZOFFSETFROM:-0800
TZOFFSETTO:-0700
TZNAME:PDT
DTSTART:20220313T100000
END:DAYLIGHT
BEGIN:STANDARD
TZOFFSETFROM:-0700
TZOFFSETTO:-0800
TZNAME:PST
DTSTART:20221106T090000
END:STANDARD
END:VTIMEZONE
BEGIN:VEVENT
DTSTART;TZID=America/Los_Angeles:20221125T220000
DTEND;TZID=America/Los_Angeles:20221125T230000
DTSTAMP:20260423T120103
CREATED:20221125T162318Z
LAST-MODIFIED:20221125T162318Z
UID:16541-1669413600-1669417200@www.ayclogic.com
SUMMARY:10 PM - Intro To Python - Private - Gamas
DESCRIPTION:Today We Did\n\nWe went over IF ELSE and IF ELIF statements.\nWe reviewed again how to combine string using “f” formatter.\nWe started input from shell.\n\nHomework\n\n\nCreate Nov22_Private_IfElseHomework.py –  Answer questions from page 84 and 85: TRY IT YOURSELF 5-3\, 5-4\, 5-5\, 5-6\, 5-7 .  If you don’t understand this\, review the class lesson last week. \n\nCreate a variable student and the value is “Joshua”. Add code that will check if the value of student variable is “Joshua” then it will print “JOSHUA is Lanvin friend”. Otherwise print “<student value in all capital> is Gamas friend”\nCreate Nov 22_Private_InputFromShellHomework.py –\nAsk user what is your school name?. If the user answers Santa Ursula then print Santa Ursula is a catholic school otherwise print <school name that user enters in all lower case> is a non-catholic school. \n\nAlso copy codes from book page 114 to 116: 5th week. Remember to run your codes and check if the result is the same like the book. Try to review my InputFromShell recording if you get confused with this question.\nEmail me to gamas@ayclogic.com if you have any question.
URL:https://www.ayclogic.com/event/10-pm-intro-to-python-private-gamas/
CATEGORIES:Python Class,Python Level 1
END:VEVENT
END:VCALENDAR