BEGIN:VCALENDAR
VERSION:2.0
PRODID:-//American Young Coder - ECPv6.10.1.1//NONSGML v1.0//EN
CALSCALE:GREGORIAN
METHOD:PUBLISH
X-ORIGINAL-URL:https://www.ayclogic.com
X-WR-CALDESC:Events for American Young Coder
REFRESH-INTERVAL;VALUE=DURATION:PT1H
X-Robots-Tag:noindex
X-PUBLISHED-TTL:PT1H
BEGIN:VTIMEZONE
TZID:America/Los_Angeles
BEGIN:DAYLIGHT
TZOFFSETFROM:-0800
TZOFFSETTO:-0700
TZNAME:PDT
DTSTART:20220313T100000
END:DAYLIGHT
BEGIN:STANDARD
TZOFFSETFROM:-0700
TZOFFSETTO:-0800
TZNAME:PST
DTSTART:20221106T090000
END:STANDARD
END:VTIMEZONE
BEGIN:VEVENT
DTSTART;TZID=America/Los_Angeles:20221201T173000
DTEND;TZID=America/Los_Angeles:20221201T183000
DTSTAMP:20260423T104625
CREATED:20221202T023503Z
LAST-MODIFIED:20221202T023503Z
UID:16694-1669915800-1669919400@www.ayclogic.com
SUMMARY:5:30 PM - Intro To Python - AlexW / Gamas
DESCRIPTION:Today We Did\n\nWe did Dec1_TurtleBasic.py.\nWe drew a Square shape with a Turtle module.\nWe created draw_square(color) function.\n\nHomework\n\nCreate Dec1_Turtle4ShapesHomework.py\nAnd do exercises according to https://www.ayclogic.com/draw-4-shapes-using-turtle-module/
URL:https://www.ayclogic.com/event/530-pm-intro-to-python-alexw-gamas/
CATEGORIES:Python Class,Python Level 1
END:VEVENT
BEGIN:VEVENT
DTSTART;TZID=America/Los_Angeles:20221201T180000
DTEND;TZID=America/Los_Angeles:20221201T190000
DTSTAMP:20260423T104625
CREATED:20221202T025442Z
LAST-MODIFIED:20221202T025442Z
UID:16698-1669917600-1669921200@www.ayclogic.com
SUMMARY:6 PM - Devan Catchup - Alex Lee
DESCRIPTION:Homework:\n\nCreate a new project called Dec1_WhileLoopHomework and the instructions are given here https://www.ayclogic.com/java-exercise-while-loop/
URL:https://www.ayclogic.com/event/6-pm-devan-catchup-alex-lee/
CATEGORIES:Introduction To Java,Java
END:VEVENT
BEGIN:VEVENT
DTSTART;TZID=America/Los_Angeles:20221201T190000
DTEND;TZID=America/Los_Angeles:20221201T200000
DTSTAMP:20260423T104625
CREATED:20221202T035445Z
LAST-MODIFIED:20221202T035445Z
UID:16701-1669921200-1669924800@www.ayclogic.com
SUMMARY:7 PM - Intro To Java - Alex
DESCRIPTION:Today We Did:\n\nWe continued with the SchoolSystem project.\nLearned how to create a Student class\, with a constructor along with getters and setters.\nAlso created the listStudents and started the findStudent.\n\nFor Homework:\n\nCreate two new methods for createTeacher() and listTeachers() that will create a teacher and also list out all the teachers you created.\nLook back at the methods we did in class to help you out.
URL:https://www.ayclogic.com/event/7-pm-intro-to-java-alex-12/
CATEGORIES:Introduction To Java,Java
END:VEVENT
BEGIN:VEVENT
DTSTART;TZID=America/Los_Angeles:20221201T190000
DTEND;TZID=America/Los_Angeles:20221201T200000
DTSTAMP:20260423T104625
CREATED:20221206T021931Z
LAST-MODIFIED:20221206T021931Z
UID:16911-1669921200-1669924800@www.ayclogic.com
SUMMARY:7PM - OOP Python - Latisha
DESCRIPTION:Today We Did\n\nContinued working on Grocery System with Class\n\nHomework\n\nAdd a new attribute to GroceryItem called frozen_food which is a Boolean\n\n If frozen_food is True for an item\, when printing the summary of what the user bought\, print “<item name> – remember to store in the freezer”.\nIf frozen_food is False\, then print just the item name.\n\n\n\nIf you have any questions\, feel free to email me at latisha@ayclogic.com
URL:https://www.ayclogic.com/event/7pm-oop-python-latisha-18/
END:VEVENT
END:VCALENDAR