BEGIN:VCALENDAR
VERSION:2.0
PRODID:-//American Young Coder - ECPv6.10.1.1//NONSGML v1.0//EN
CALSCALE:GREGORIAN
METHOD:PUBLISH
X-ORIGINAL-URL:https://www.ayclogic.com
X-WR-CALDESC:Events for American Young Coder
REFRESH-INTERVAL;VALUE=DURATION:PT1H
X-Robots-Tag:noindex
X-PUBLISHED-TTL:PT1H
BEGIN:VTIMEZONE
TZID:America/Los_Angeles
BEGIN:DAYLIGHT
TZOFFSETFROM:-0800
TZOFFSETTO:-0700
TZNAME:PDT
DTSTART:20220313T100000
END:DAYLIGHT
BEGIN:STANDARD
TZOFFSETFROM:-0700
TZOFFSETTO:-0800
TZNAME:PST
DTSTART:20221106T090000
END:STANDARD
END:VTIMEZONE
BEGIN:VEVENT
DTSTART;TZID=America/Los_Angeles:20221202T160000
DTEND;TZID=America/Los_Angeles:20221202T170000
DTSTAMP:20260423T104520
CREATED:20221203T024509Z
LAST-MODIFIED:20221203T024509Z
UID:16844-1669996800-1670000400@www.ayclogic.com
SUMMARY:4 PM - Python OOP - Alex W.
DESCRIPTION:Today We:\n\nFinished the monster system\nWorked on converting the hangman program to a class\n\nHomework:\n\nFinish converting the hangman program to a class by adding\n\nA lives counter/bar of hearts\nA win screen\nA game over screen\n\n\n\nIf you have any questions\, feel free to email me at alexwalburg@ayclogic.com
URL:https://www.ayclogic.com/event/4-pm-python-oop-alex-w-2/
END:VEVENT
BEGIN:VEVENT
DTSTART;TZID=America/Los_Angeles:20221202T173000
DTEND;TZID=America/Los_Angeles:20221202T183000
DTSTAMP:20260423T104520
CREATED:20221203T022639Z
LAST-MODIFIED:20221203T022639Z
UID:16842-1670002200-1670005800@www.ayclogic.com
SUMMARY:5:30 PM - Python Game Development - Gamas
DESCRIPTION:Homework\n\nWhen the bug mode change to DIZZY mode\, Stop the chirping sound.\nCreate Landing page with PLAY and CREDIT buttons. Use assets/ballon_title.png for the landing page.\nCreate CREDIT page.
URL:https://www.ayclogic.com/event/530-pm-python-game-development-gamas/
CATEGORIES:Python Class,Python Game Development
END:VEVENT
BEGIN:VEVENT
DTSTART;TZID=America/Los_Angeles:20221202T173000
DTEND;TZID=America/Los_Angeles:20221202T183000
DTSTAMP:20260423T104520
CREATED:20221203T024832Z
LAST-MODIFIED:20221203T024832Z
UID:16846-1670002200-1670005800@www.ayclogic.com
SUMMARY:5:30 PM - Intro To Python - Alex W.
DESCRIPTION:Today We:\n\nReviewed for the quiz next week\n\nHomework\n\nStudy for the quiz next week\n\nIf you need additional practice problems or have questions\, please contact me at alexwalburg@ayclogic.com
URL:https://www.ayclogic.com/event/530-pm-intro-to-python-alex-w-15/
END:VEVENT
BEGIN:VEVENT
DTSTART;TZID=America/Los_Angeles:20221202T173000
DTEND;TZID=America/Los_Angeles:20221202T183000
DTSTAMP:20260423T104520
CREATED:20221203T031909Z
LAST-MODIFIED:20221203T031909Z
UID:16848-1670002200-1670005800@www.ayclogic.com
SUMMARY:5:30 PM - Python Game Development - Bill
DESCRIPTION:Today We:\n\nContinued to work on the dragon birdie game\nLearned how to draw text on the screen\nCreated the giant bullet that can only be launched every 3 seconds and goes through all birds\n\nYour HW:\n\nAdd some text like we did in class to display the self.giant_bullet_timer variable in the top right\n\n 
URL:https://www.ayclogic.com/event/530-pm-python-game-development-bill-7/
END:VEVENT
BEGIN:VEVENT
DTSTART;TZID=America/Los_Angeles:20221202T220000
DTEND;TZID=America/Los_Angeles:20221202T230000
DTSTAMP:20260423T104520
CREATED:20221202T160108Z
LAST-MODIFIED:20221207T031151Z
UID:16710-1670018400-1670022000@www.ayclogic.com
SUMMARY:10 PM - Intro To Python - Private - Gamas
DESCRIPTION:Homework\n\nCreate Dec12_Private_ListHomework.py.\nCopy codes from page 37 to 38.\nCreate a list of monsters: “dragon”\, “phoenix”\, “minotaur”\, “hydra”\n\nusing the list print “DRAGON is a powerful monster”. Get the first element of the list and combine with ” is a powerful monster” String.\nusing the list print “Hydra is a monster with many heads”. Get the last element of the list and combine with ” is a monster with many heads” String.\n\n\nAdd one more element to the list: “Unicorn”. Look at page 37 if you don’t know how to add one more element to the List.\nCreate Dec12_Private_ListForLoopHomework.py\nCopy codes from page 51 and 52 and 72
URL:https://www.ayclogic.com/event/10-pm-intro-to-python-private-gamas-2/
CATEGORIES:Python Class,Python Level 1
END:VEVENT
END:VCALENDAR