BEGIN:VCALENDAR
VERSION:2.0
PRODID:-//American Young Coder - ECPv6.10.1.1//NONSGML v1.0//EN
CALSCALE:GREGORIAN
METHOD:PUBLISH
X-WR-CALNAME:American Young Coder
X-ORIGINAL-URL:https://www.ayclogic.com
X-WR-CALDESC:Events for American Young Coder
REFRESH-INTERVAL;VALUE=DURATION:PT1H
X-Robots-Tag:noindex
X-PUBLISHED-TTL:PT1H
BEGIN:VTIMEZONE
TZID:America/Los_Angeles
BEGIN:DAYLIGHT
TZOFFSETFROM:-0800
TZOFFSETTO:-0700
TZNAME:PDT
DTSTART:20220313T100000
END:DAYLIGHT
BEGIN:STANDARD
TZOFFSETFROM:-0700
TZOFFSETTO:-0800
TZNAME:PST
DTSTART:20221106T090000
END:STANDARD
END:VTIMEZONE
BEGIN:VEVENT
DTSTART;TZID=America/Los_Angeles:20221205T170000
DTEND;TZID=America/Los_Angeles:20221205T180000
DTSTAMP:20260423T104304
CREATED:20221207T030847Z
LAST-MODIFIED:20221207T030847Z
UID:16943-1670259600-1670263200@www.ayclogic.com
SUMMARY:5 PM - Python OOP - Bill
DESCRIPTION:Today We:\n\nLearned how to upload HW to the google drive\nStarted learning about dictionaries\n\nYour HW:\n\nCreate a new file called Dec_5_DictionaryHW\nCopy the code from pages 92-97 in the book\nAlso do the TRY IT YOURSELF problems on page 99 (6-1 and 6-2)\nMake sure to upload it to your google drive folder when you are done
URL:https://www.ayclogic.com/event/5-pm-python-oop-bill-25/
END:VEVENT
BEGIN:VEVENT
DTSTART;TZID=America/Los_Angeles:20221205T180000
DTEND;TZID=America/Los_Angeles:20221205T190000
DTSTAMP:20260423T104304
CREATED:20221216T220119Z
LAST-MODIFIED:20221216T220119Z
UID:17125-1670263200-1670266800@www.ayclogic.com
SUMMARY:6:00 pm - Python OOP - Alex W.
DESCRIPTION:Today We\n\nFinished the hangman project by adding in winning when all letters have been guessed and a heart meter\nStarted on the practice exam\n\nHomework\n\nJayden can either finish the final project or complete the rest of it in class next week
URL:https://www.ayclogic.com/event/600-pm-python-oop-alex-w/
END:VEVENT
END:VCALENDAR