BEGIN:VCALENDAR
VERSION:2.0
PRODID:-//American Young Coder - ECPv6.10.1.1//NONSGML v1.0//EN
CALSCALE:GREGORIAN
METHOD:PUBLISH
X-ORIGINAL-URL:https://www.ayclogic.com
X-WR-CALDESC:Events for American Young Coder
REFRESH-INTERVAL;VALUE=DURATION:PT1H
X-Robots-Tag:noindex
X-PUBLISHED-TTL:PT1H
BEGIN:VTIMEZONE
TZID:America/Los_Angeles
BEGIN:DAYLIGHT
TZOFFSETFROM:-0800
TZOFFSETTO:-0700
TZNAME:PDT
DTSTART:20220313T100000
END:DAYLIGHT
BEGIN:STANDARD
TZOFFSETFROM:-0700
TZOFFSETTO:-0800
TZNAME:PST
DTSTART:20221106T090000
END:STANDARD
END:VTIMEZONE
BEGIN:VEVENT
DTSTART;TZID=America/Los_Angeles:20221210T103000
DTEND;TZID=America/Los_Angeles:20221210T113000
DTSTAMP:20260423T104622
CREATED:20221210T194640Z
LAST-MODIFIED:20221210T194640Z
UID:16993-1670668200-1670671800@www.ayclogic.com
SUMMARY:10:30 AM – Scratch 1 – Yitong
DESCRIPTION:Today we:\n\nStarted the Animal Crossing project.\nLearned about “change x” and “change y”.\nAdded the Mouse1 sprite and made it change costumes when moving to the right.\nMade the Mouse1 sprite say “ouch!” when it nears the edge of the screen.\nAdded the Mouse2 sprite and made it glide across the screen.\nAdded the Bat sprite and made it change costumes when moving up.\n\nHomework:\n\nMake the Bear sprite face to the left.\nMake the Bear sprite move to the left.\nMake the Bear sprite switch costumes when it moves.\n\n\n\n\nEmail me if you need help: yitong@ayclogic.com
URL:https://www.ayclogic.com/event/1030-am-scratch-1-yitong-7/
CATEGORIES:Scratch Class,Scratch Class Level 1
END:VEVENT
BEGIN:VEVENT
DTSTART;TZID=America/Los_Angeles:20221210T110000
DTEND;TZID=America/Los_Angeles:20221210T120000
DTSTAMP:20260423T104622
CREATED:20221210T200628Z
LAST-MODIFIED:20221210T200628Z
UID:16995-1670670000-1670673600@www.ayclogic.com
SUMMARY:11 AM - Scratch 1 - Abigail
DESCRIPTION:What we did today\n\nWe finished up the Ask Gobo project.\nWe started working on the Funny Faces project.\n\nHomework\n\nMake a hair sprite on page 75 on your pink Scratch book.\nYou don’t have to follow that hair\, you can draw whatever hair you want.
URL:https://www.ayclogic.com/event/11-am-scratch-1-abigail-27/
CATEGORIES:Scratch Class,Scratch Class Level 1
END:VEVENT
BEGIN:VEVENT
DTSTART;TZID=America/Los_Angeles:20221210T123000
DTEND;TZID=America/Los_Angeles:20221210T133000
DTSTAMP:20260423T104622
CREATED:20221210T214231Z
LAST-MODIFIED:20221210T214231Z
UID:16998-1670675400-1670679000@www.ayclogic.com
SUMMARY:12:30 PM - Scratch 2 - Abigail
DESCRIPTION:What we did today\n\nWe finished working on the Jumpy Monkey project.\n\nHomework\n\nAdd sound effects to the game.\nUse “boing” for when the Monkey jumps.\nUse “Chomp” for when the Monkey eats the bananas.\nFor everything else you can choose any sound effects you want.
URL:https://www.ayclogic.com/event/1230-pm-scratch-2-abigail-8/
CATEGORIES:Scratch Class,Scratch Class Level 2
END:VEVENT
BEGIN:VEVENT
DTSTART;TZID=America/Los_Angeles:20221210T130000
DTEND;TZID=America/Los_Angeles:20221210T140000
DTSTAMP:20260423T104622
CREATED:20221215T040156Z
LAST-MODIFIED:20221216T024512Z
UID:17086-1670677200-1670680800@www.ayclogic.com
SUMMARY:1 PM - Intro To Java - Alex
DESCRIPTION:For Homework:\n\nTake your time to take the Driver System practice test that was sent to you in your email.\nMake sure to finish this by Friday night 12/16 so I have a chance to review it.
URL:https://www.ayclogic.com/event/1-pm-intro-to-java-alex-13/
CATEGORIES:Introduction To Java,Java
END:VEVENT
BEGIN:VEVENT
DTSTART;TZID=America/Los_Angeles:20221210T140000
DTEND;TZID=America/Los_Angeles:20221210T150000
DTSTAMP:20260423T104622
CREATED:20221211T000810Z
LAST-MODIFIED:20221211T000810Z
UID:17003-1670680800-1670684400@www.ayclogic.com
SUMMARY:2 PM – Intro To Python – Sebastian
DESCRIPTION:Today We Did\n\nReviewed previous quiz and explained answers\nIn case you need anything\, feel free to email me at sebastian@ayclogic.com\n\nHomework\n\nName your homework DEC10_functions_hw\nHomework: From the book\, try 130\, 131\, and 132 by yourself
URL:https://www.ayclogic.com/event/2-pm-intro-to-python-sebastian-12/
CATEGORIES:Python Class,Python Level 1
END:VEVENT
BEGIN:VEVENT
DTSTART;TZID=America/Los_Angeles:20221210T150000
DTEND;TZID=America/Los_Angeles:20221210T160000
DTSTAMP:20260423T104622
CREATED:20221211T000903Z
LAST-MODIFIED:20221211T000903Z
UID:17005-1670684400-1670688000@www.ayclogic.com
SUMMARY:3 PM – Intro To Python – Sebastian
DESCRIPTION:Today We Did\n\nReviewed previous quiz and explained answers\nIn case you need anything\, feel free to email me at sebastian@ayclogic.com\n\nHomework\n\nName your homework DEC10_functions_hw\nHomework: From the book\, try 130\, 131\, and 132 by yourself
URL:https://www.ayclogic.com/event/3-pm-intro-to-python-sebastian-14/
CATEGORIES:Python Class,Python Level 1
END:VEVENT
BEGIN:VEVENT
DTSTART;TZID=America/Los_Angeles:20221210T163000
DTEND;TZID=America/Los_Angeles:20221210T173000
DTSTAMP:20260423T104622
CREATED:20221212T070103Z
LAST-MODIFIED:20221212T070103Z
UID:17027-1670689800-1670693400@www.ayclogic.com
SUMMARY:4:30 PM – Scratch Level 2 – Allison
DESCRIPTION:Today we:\n\nFinished the How Old Are You? project\nStarted the Movie Ticket Price project\nUploaded sprites and background\nCoded the sprite named Anthony to talk\nCoded Anthony to ask what the player’s name is\, and stored the answer in a variable\nPracticed using the “join” code\n\nHomework:\n\nCode the sprite to ask “What movie do you want to watch?”\, and store the answer in a variable\nAfterwards\, code the sprite to say “(Movie name) looks like a good movie!\n\nNote: the (Movie name) should be the movie name the player answered to the question.\nExample: If the player answered “Minions” to the question “What movie do you want to watch?”\, the sprite will say “Minions looks like a good movie!”\n\n\nHint: look at the codes in your project for help\nContact us if you have any questions or need any help
URL:https://www.ayclogic.com/event/430-pm-scratch-level-2-allison-12/
CATEGORIES:Scratch Class,Scratch Class Level 2
END:VEVENT
BEGIN:VEVENT
DTSTART;TZID=America/Los_Angeles:20221210T180000
DTEND;TZID=America/Los_Angeles:20221210T190000
DTSTAMP:20260423T104622
CREATED:20221211T031202Z
LAST-MODIFIED:20221211T031202Z
UID:17009-1670695200-1670698800@www.ayclogic.com
SUMMARY:6 PM - Digital Illustration - Abigail
DESCRIPTION:What we did today\n\nWe continued working on the Corgi drawing.\n\nHomework\n\nColor/shade the corgi’s leg using the same technique that we used for the other leg and the fur.
URL:https://www.ayclogic.com/event/6-pm-digital-illustration-abigail-2/
CATEGORIES:Beginner Digital Illustration,Digital Illustration
END:VEVENT
BEGIN:VEVENT
DTSTART;TZID=America/Los_Angeles:20221210T180000
DTEND;TZID=America/Los_Angeles:20221210T190000
DTSTAMP:20260423T104622
CREATED:20221211T033259Z
LAST-MODIFIED:20221215T040110Z
UID:17011-1670695200-1670698800@www.ayclogic.com
SUMMARY:6 PM - Python OOP - Bill
DESCRIPTION:Today We:\n\nWent over the Practice Final Test\n\nYour HW:\n\nStudy the following projects:\n\nMonster Inheritance\nPractice test Taxi Driver project (try doing it again without looking at the answers)\nGrocery System project\n\n\nIf you are confused about anything write them down and ask me next meeting
URL:https://www.ayclogic.com/event/6-pm-python-oop-bill-17/
END:VEVENT
END:VCALENDAR