BEGIN:VCALENDAR
VERSION:2.0
PRODID:-//American Young Coder - ECPv6.10.1.1//NONSGML v1.0//EN
CALSCALE:GREGORIAN
METHOD:PUBLISH
X-ORIGINAL-URL:https://www.ayclogic.com
X-WR-CALDESC:Events for American Young Coder
REFRESH-INTERVAL;VALUE=DURATION:PT1H
X-Robots-Tag:noindex
X-PUBLISHED-TTL:PT1H
BEGIN:VTIMEZONE
TZID:America/Los_Angeles
BEGIN:DAYLIGHT
TZOFFSETFROM:-0800
TZOFFSETTO:-0700
TZNAME:PDT
DTSTART:20220313T100000
END:DAYLIGHT
BEGIN:STANDARD
TZOFFSETFROM:-0700
TZOFFSETTO:-0800
TZNAME:PST
DTSTART:20221106T090000
END:STANDARD
END:VTIMEZONE
BEGIN:VEVENT
DTSTART;TZID=America/Los_Angeles:20221213T170000
DTEND;TZID=America/Los_Angeles:20221213T180000
DTSTAMP:20260423T104653
CREATED:20221214T015929Z
LAST-MODIFIED:20221221T001631Z
UID:17044-1670950800-1670954400@www.ayclogic.com
SUMMARY:5PM - Intro to Python - Shawn
DESCRIPTION:Today we did:\n\nGo over StringHomework from last week\nChanging case in string using methods (.upper()\, .lower()\, .title())\nUsing variables in string (f-string)\nEscape characters (\n\, \t)\nStripping whitespace (.strip()\, .lstrip()\, .rstrip())\n\nHomework:\n\nHomework:\n\nCreate Dec13_StringHomework2.py page 25. TRY IT YOURSELF: 2-3\, 2-4\, 2-5 and 2-6\n\n\n\nIf you have any questions about anything\, don’t hesitate to email me at szhuang@ayclogic.com
URL:https://www.ayclogic.com/event/5pm-intro-to-python-shawn-2/
END:VEVENT
BEGIN:VEVENT
DTSTART;TZID=America/Los_Angeles:20221213T173000
DTEND;TZID=America/Los_Angeles:20221213T183000
DTSTAMP:20260423T104653
CREATED:20221214T023440Z
LAST-MODIFIED:20221220T182200Z
UID:17047-1670952600-1670956200@www.ayclogic.com
SUMMARY:5:30 PM - Intro To Python - Gamas
DESCRIPTION:Next week on December 20\, it will be 2 hours final test. It is going to be open book and you can use Thonny to test your codes \nStudy the following topics \n\nNov8_ShoppingCart.py\nNov29_RobuxShoppingCart.py\nYour turtle projects or Oct18_DrawLetterAndPolygon.py
URL:https://www.ayclogic.com/event/530-pm-intro-to-python-gamas-1213/
CATEGORIES:Python Class,Python Level 1
END:VEVENT
BEGIN:VEVENT
DTSTART;TZID=America/Los_Angeles:20221213T180000
DTEND;TZID=America/Los_Angeles:20221213T190000
DTSTAMP:20260423T104654
CREATED:20221215T041340Z
LAST-MODIFIED:20221220T101758Z
UID:17089-1670954400-1670958000@www.ayclogic.com
SUMMARY:6 PM - Scratch Level 1 - Alex
DESCRIPTION:Today We Did:\n\nWe were able to finish up the Punch The Dummy project by adding in the sound effects and pictures.\nStarted the Animal Crossing project today and added in two mice.\n\nFor Homework:\n\nContinue with the second mouses code and make it so that when it reaches the right side of the screen\, it will say hello for 2 seconds and then stop.
URL:https://www.ayclogic.com/event/6-pm-intro-to-java-alex/
CATEGORIES:Scratch Class,Scratch Class Level 1
END:VEVENT
BEGIN:VEVENT
DTSTART;TZID=America/Los_Angeles:20221213T180000
DTEND;TZID=America/Los_Angeles:20221213T190000
DTSTAMP:20260423T104654
CREATED:20221217T182236Z
LAST-MODIFIED:20221220T031130Z
UID:17151-1670954400-1670958000@www.ayclogic.com
SUMMARY:6 PM – Scratch 2 – Yitong
DESCRIPTION:Today we:\n\nChanged the background when the Christmas Tree sprite is clicked.\nMade the Bells sprite show up when the Christmas Tree sprite is clicked.\nMade the Nametag sprite glide from the upper left corner down to the lower left corner of the screen.\n\nHomework:\n\nHOMEWORK IS DUE MONDAY NIGHT!! Please submit by emailing your homework to: yitong@ayclogic.com and Mr. Gamas’s email: gamas@ayclogic.com\n\nDon’t forget to share your project\, otherwise\, I won’t be to see your code.\nDon’t forget to include the project link in the email. Otherwise\, I cannot see your project.\n\n\nMake a Merry Christmas Tag sprite.\nMake the Merry Christmas Tag start from the upper left corner of the screen then move down to the bottom right corner.\nMake the Merry Christmas Tag sprite tilt left and right. This is very similar to the Birthday card project that you did in the Scratch level 1. Specifically on the banner in the middle.
URL:https://www.ayclogic.com/event/6-pm-scratch-2-yitong-19/
CATEGORIES:Scratch Class,Scratch Class Level 2
END:VEVENT
BEGIN:VEVENT
DTSTART;TZID=America/Los_Angeles:20221213T180000
DTEND;TZID=America/Los_Angeles:20221213T190000
DTSTAMP:20260423T104654
CREATED:20221221T085659Z
LAST-MODIFIED:20221221T085659Z
UID:17248-1670954400-1670958000@www.ayclogic.com
SUMMARY:6PM - Digital Illustration 1
DESCRIPTION:TUESDAY \nToday we started a new project: Bluebird project. \n\nConstructing this drawing by shapes.\nStarting with the base\, we add the tail\, the wings\, and the beak.\n\n  \nNo homework
URL:https://www.ayclogic.com/event/6pm-digital-illustration-1-24/
CATEGORIES:Beginner Digital Illustration,Digital Illustration
END:VEVENT
BEGIN:VEVENT
DTSTART;TZID=America/Los_Angeles:20221213T183000
DTEND;TZID=America/Los_Angeles:20221213T193000
DTSTAMP:20260423T104654
CREATED:20221215T231513Z
LAST-MODIFIED:20221216T191525Z
UID:17101-1670956200-1670959800@www.ayclogic.com
SUMMARY:6:30 PM – Scratch Level 1 – Allison
DESCRIPTION:Today We:\n\nReviewed the homework\nStarted the Drawing Shapes on Grid project\nLearned about the pen extension\n\nHomework:\n\nMemorize the 5 important coordinates (the coordinate for the center of the screen and the four red coordinates in this picture: Coordinate Plane).\nMemorize the 4 directions in Scratch (see the image at the bottom for help)\nNote: There will be a brief test on the 5 important coordinates and 4 directions next class.\nNote: Since you are not working on a Scratch project or on the coordinate plane paper for your homework\, you do not have to send an email this week.\nContact us at gamas@ayclogic.com or allison@ayclogic.com if you have any questions or need any help\n\n 
URL:https://www.ayclogic.com/event/630-pm-scratch-level-1-allison-16/
CATEGORIES:Scratch Class,Scratch Class Level 1
END:VEVENT
BEGIN:VEVENT
DTSTART;TZID=America/Los_Angeles:20221213T190000
DTEND;TZID=America/Los_Angeles:20221213T200000
DTSTAMP:20260423T104654
CREATED:20221221T013201Z
LAST-MODIFIED:20221221T013201Z
UID:17223-1670958000-1670961600@www.ayclogic.com
SUMMARY:7 PM - 3D Animation Beginner
DESCRIPTION:Week 17\nToday we do:\n\nLearning how to add animation to the head\nhow to overlap the head animation\n\nHomework:\nAddid 3 poses to the hand for animation cycle.
URL:https://www.ayclogic.com/event/7-pm-3d-animation-beginner-17/
END:VEVENT
END:VCALENDAR