BEGIN:VCALENDAR
VERSION:2.0
PRODID:-//American Young Coder - ECPv6.10.1.1//NONSGML v1.0//EN
CALSCALE:GREGORIAN
METHOD:PUBLISH
X-WR-CALNAME:American Young Coder
X-ORIGINAL-URL:https://www.ayclogic.com
X-WR-CALDESC:Events for American Young Coder
REFRESH-INTERVAL;VALUE=DURATION:PT1H
X-Robots-Tag:noindex
X-PUBLISHED-TTL:PT1H
BEGIN:VTIMEZONE
TZID:America/Los_Angeles
BEGIN:DAYLIGHT
TZOFFSETFROM:-0800
TZOFFSETTO:-0700
TZNAME:PDT
DTSTART:20220313T100000
END:DAYLIGHT
BEGIN:STANDARD
TZOFFSETFROM:-0700
TZOFFSETTO:-0800
TZNAME:PST
DTSTART:20221106T090000
END:STANDARD
END:VTIMEZONE
BEGIN:VEVENT
DTSTART;TZID=America/Los_Angeles:20221214T170000
DTEND;TZID=America/Los_Angeles:20221214T180000
DTSTAMP:20260423T104324
CREATED:20221215T071504Z
LAST-MODIFIED:20221215T071504Z
UID:17092-1671037200-1671040800@www.ayclogic.com
SUMMARY:5 PM – Scratch Level 1 – Allison
DESCRIPTION:Today we:\n\nStarted the Christmas Card – No List project\nCoded the Bell sprite and Gift Box sprite to hide when the game starts\nCoded the Christmas Tree to forever change colors\nWhen the player clicks on the Christmas Tree sprite\n\nCoded the Christmas Tree sprite to hide\nCoded the Bell sprite to show\nSwitched backgrounds\n\n\nAfter the Bell sprite shows\, coded the Bell sprite to go to the center of the screen\, wait 5 seconds\, and switch costumes\n\nHomework:\n\nAfter the Bell sprite switches to its second costume\, code the Gift Box to show.\nDraw a sprite named “Name Banner”. It should have the words “From: (your name)”.\nDraw a sprite named “Merry Christmas Banner”. It should have the words “Merry Christmas”.\nSee the image below for reference when drawing the sprites.\nContact us if you have any questions or need any help.\n\n \n 
URL:https://www.ayclogic.com/event/5-pm-scratch-level-1-allison-50/
CATEGORIES:Scratch Class,Scratch Class Level 1
END:VEVENT
BEGIN:VEVENT
DTSTART;TZID=America/Los_Angeles:20221214T170000
DTEND;TZID=America/Los_Angeles:20221214T180000
DTSTAMP:20260423T104324
CREATED:20221221T085158Z
LAST-MODIFIED:20221221T085158Z
UID:17243-1671037200-1671040800@www.ayclogic.com
SUMMARY:5PM - Digital Illustration 3
DESCRIPTION:WEDNESDAY \nToday we continued the Hello Kitty project. We finished the Hello Kitty character and started on another character\, Keroppi. \n\nFinished the lines\, colors\, and details for Hello Kitty.\nDid the sketch for Keroppi\n\n   \nHOMEWORK \nPlease draw your chosen character in the style exactly like it is shown below. \n\nFollow the same steps and do the same layers that we did for the Hello Kitty drawing.
URL:https://www.ayclogic.com/event/5pm-digital-illustration-3-28/
CATEGORIES:Digital Illustration,Intermediate Digital Illustration
END:VEVENT
BEGIN:VEVENT
DTSTART;TZID=America/Los_Angeles:20221214T180000
DTEND;TZID=America/Los_Angeles:20221214T190000
DTSTAMP:20260423T104324
CREATED:20221215T040432Z
LAST-MODIFIED:20221215T040432Z
UID:17081-1671040800-1671044400@www.ayclogic.com
SUMMARY:6 PM - Python OOP - Gamas
DESCRIPTION:Homework\n\n\n\nInside Dec7_GroceryShoppingCartV4.py\, create a new method that would do list all frozen items when user checkout. Make sure to choose a good meaningful name for this method. Call this method from inside application_loop(). This is very similar to what we have done in the class today by introducing make_purchase() and list_all_purchased_items().
URL:https://www.ayclogic.com/event/6-pm-python-oop-gamas-10/
CATEGORIES:OOP Python,Python Class
END:VEVENT
BEGIN:VEVENT
DTSTART;TZID=America/Los_Angeles:20221214T180000
DTEND;TZID=America/Los_Angeles:20221214T190000
DTSTAMP:20260423T104324
CREATED:20221215T193940Z
LAST-MODIFIED:20221215T193940Z
UID:17094-1671040800-1671044400@www.ayclogic.com
SUMMARY:6PM - Intro to Python - Sebastian
DESCRIPTION:Today We Did\n\nWent over more list for-loop examples/practice questions\n\nHomework\n\ndo pg.54-55 from the textbook in a file called Dec14_ListForLoopHomework.py\n\nIf you have any questions\, feel free to email me at latisha@ayclogic.com
URL:https://www.ayclogic.com/event/6pm-intro-to-python-sebastian/
END:VEVENT
BEGIN:VEVENT
DTSTART;TZID=America/Los_Angeles:20221214T190000
DTEND;TZID=America/Los_Angeles:20221214T200000
DTSTAMP:20260423T104324
CREATED:20221220T063714Z
LAST-MODIFIED:20221220T063714Z
UID:17204-1671044400-1671048000@www.ayclogic.com
SUMMARY:7PM - OOP Python - Latisha
DESCRIPTION:Today We Did\n\nContinued working on School Application\n\nHomework\n\nMake a new method called list_students_under_10() that will list all the students who are under 10 years old. Call this method when the user selects 5\n\nIf you have any questions\, feel free to email me at latisha@ayclogic.com
URL:https://www.ayclogic.com/event/7pm-oop-python-latisha-21/
END:VEVENT
BEGIN:VEVENT
DTSTART;TZID=America/Los_Angeles:20221214T193000
DTEND;TZID=America/Los_Angeles:20221214T203000
DTSTAMP:20260423T104324
CREATED:20221216T021016Z
LAST-MODIFIED:20221216T022130Z
UID:17103-1671046200-1671049800@www.ayclogic.com
SUMMARY:7:30 PM - Intro To Java - Alex
DESCRIPTION:Today We Did:\n\nWe have now added in the temperature spinner listener so we are able to see what the conversion type is when we change it.\n\nFor Homework:\n\nWith the conversion type we now have\, make sure that the conversion type is able to be used inside the on button clicked.\nNow for homework\, we are able to change the headers using the conversion type but now you must change the equations so that they match the headers.
URL:https://www.ayclogic.com/event/730-pm-intro-to-java-alex/
CATEGORIES:Introduction To Java,Java
END:VEVENT
END:VCALENDAR