BEGIN:VCALENDAR
VERSION:2.0
PRODID:-//American Young Coder - ECPv6.10.1.1//NONSGML v1.0//EN
CALSCALE:GREGORIAN
METHOD:PUBLISH
X-WR-CALNAME:American Young Coder
X-ORIGINAL-URL:https://www.ayclogic.com
X-WR-CALDESC:Events for American Young Coder
REFRESH-INTERVAL;VALUE=DURATION:PT1H
X-Robots-Tag:noindex
X-PUBLISHED-TTL:PT1H
BEGIN:VTIMEZONE
TZID:America/Los_Angeles
BEGIN:DAYLIGHT
TZOFFSETFROM:-0800
TZOFFSETTO:-0700
TZNAME:PDT
DTSTART:20220313T100000
END:DAYLIGHT
BEGIN:STANDARD
TZOFFSETFROM:-0700
TZOFFSETTO:-0800
TZNAME:PST
DTSTART:20221106T090000
END:STANDARD
END:VTIMEZONE
BEGIN:VEVENT
DTSTART;TZID=America/Los_Angeles:20221220T170000
DTEND;TZID=America/Los_Angeles:20221220T180000
DTSTAMP:20260423T104305
CREATED:20221221T020027Z
LAST-MODIFIED:20221221T020027Z
UID:17225-1671555600-1671559200@www.ayclogic.com
SUMMARY:5 PM - Intro to Python - Shawn
DESCRIPTION:Today We Did:\n\nHomework review\nIf/elif/else statements and indentation\nOperators: == (equals comparison)\, != (not equals comparison)\, and\, or\, >\, <\, >=\, <=\n\nYour HW:\n\nCopy pages 79-81 from the textbook – put it in a file called Dec20_IfElseHomework.py\n\nIf you have any questions about this\, don’t hesitate to email me at szhuang@ayclogic.com
URL:https://www.ayclogic.com/event/5-pm-intro-to-python-shawn/
END:VEVENT
BEGIN:VEVENT
DTSTART;TZID=America/Los_Angeles:20221220T171500
DTEND;TZID=America/Los_Angeles:20221220T181500
DTSTAMP:20260423T104305
CREATED:20221221T022306Z
LAST-MODIFIED:20221221T022321Z
UID:17227-1671556500-1671560100@www.ayclogic.com
SUMMARY:5:15 PM – Intro To Python - Sebastian
DESCRIPTION:Today We Did \n\nGeneral review on several past topics\nIn case you need anything\, feel free to email me at sebastian@ayclogic.com\n\nHomework\n\nName your homework DEC20_function_review_HW\, please submit by next Monday.\nTo get more practice with functions\, I assigned previous function homework. Try to remember all we covered in class about functions.\nHomework: 4\, 5\, 6\, and 7 from https://www.ayclogic.com/list-inputs-if-and-else-loops-and-function/
URL:https://www.ayclogic.com/event/515-pm-intro-to-python-sebastian/
CATEGORIES:Python Class,Python Level 1
END:VEVENT
BEGIN:VEVENT
DTSTART;TZID=America/Los_Angeles:20221220T180000
DTEND;TZID=America/Los_Angeles:20221220T190000
DTSTAMP:20260423T104305
CREATED:20221221T030951Z
LAST-MODIFIED:20221221T030951Z
UID:17231-1671559200-1671562800@www.ayclogic.com
SUMMARY:6 PM – Scratch 2 – Yitong
DESCRIPTION:Today we:\n\nAdded the Giftbox sprite.\nAdded the Picture sprite.\nAdded music and sound effects.\n\nHomework:\n\nHOMEWORK IS DUE MONDAY NIGHT!! Please submit by emailing your homework to: yitong@ayclogic.com and Mr. Gamas’s email: gamas@ayclogic.com\n\nDon’t forget to share your project\, otherwise\, I won’t be to see your code.\nDon’t forget to include the project link in the email. Otherwise\, I cannot see your project.\n\n\nNO HOMEWORK!!! MERRY CHRISTMAS!\n\nNO CLASS FROM 12/3/2022-1/2/2023
URL:https://www.ayclogic.com/event/6-pm-scratch-2-yitong-20/
CATEGORIES:Scratch Class,Scratch Class Level 2
END:VEVENT
BEGIN:VEVENT
DTSTART;TZID=America/Los_Angeles:20221220T180000
DTEND;TZID=America/Los_Angeles:20221220T190000
DTSTAMP:20260423T104305
CREATED:20221221T034450Z
LAST-MODIFIED:20221221T034450Z
UID:17235-1671559200-1671562800@www.ayclogic.com
SUMMARY:6 PM Scratch Level 1 - Alex Lee
DESCRIPTION:Today We Did:\n\nContinued with the Animal crossing project.\nLearned and practiced using if then to know when the sprite reaches the edge.\n\nFor Homework:\n\nIn the Mary Had a Little Lamb project\, each ball note should slowly grow larger and grow smaller when the note is broadcasted.\nIt should become size 150 at the largest and then go back down to 100 after about 2 seconds.\nWhen getting larger\, it should not instantly get larger but gradually increase and decrease in size.
URL:https://www.ayclogic.com/event/6-pm-scratch-level-1-alex-lee-4/
CATEGORIES:Scratch Class,Scratch Class Level 1
END:VEVENT
BEGIN:VEVENT
DTSTART;TZID=America/Los_Angeles:20221220T180000
DTEND;TZID=America/Los_Angeles:20221220T190000
DTSTAMP:20260423T104305
CREATED:20221221T090130Z
LAST-MODIFIED:20221221T090130Z
UID:17252-1671559200-1671562800@www.ayclogic.com
SUMMARY:6PM - Digital Illustration 1
DESCRIPTION:TUESDAY \nToday we continue the Bluebird project. \n\nAdded color shading and details to wings\nAdded light blue neck and head feathers\nAdded white face and belly feathers\nPlace all bird part layers into Folder for transform purposes\n\n  Work in progress Current layers \nNo homework
URL:https://www.ayclogic.com/event/6pm-digital-illustration-1-25/
CATEGORIES:Beginner Digital Illustration,Digital Illustration
END:VEVENT
BEGIN:VEVENT
DTSTART;TZID=America/Los_Angeles:20221220T183000
DTEND;TZID=America/Los_Angeles:20221220T193000
DTSTAMP:20260423T104305
CREATED:20221221T035049Z
LAST-MODIFIED:20221221T040556Z
UID:17234-1671561000-1671564600@www.ayclogic.com
SUMMARY:6:30 PM – Scratch Level 1 – Allison
DESCRIPTION:Today We:\n\nReviewed the 5 important coordinates and 4 directions next class\nContinued the Drawing Shapes on Grid project\nCoded the Cat sprite to draw the square and triangle\nLearned more about the codes “pen up” and “pen down”\n\nImportant Reminders Pt. 1:\n\nThere are new homework rules. After you finish your homework in Scratch\, you have to send an email the night before the day of the class.\nSince our class is on Tuesday\, send an email to gamas@ayclogic.com and allison@ayclogic.com by Monday at 8 PM. In that email\, write down your name and a link to your shared Scratch project homework. Make sure to share your Scratch project.\n\nImportant Reminders Pt. 2:\n\nTo celebrate Christmas\, the school will be closed from Saturday 12/24/2022 – Monday 1/2/2023. There is no class next week. Our next class will be on Tuesday 1/3/2023.\nMake sure to email your homework to both gamas@ayclogic.com and allison@ayclogic.com\n\nHomework:\n\nCode the Cat sprite to draw the rectangle and octagon\n\nNote: use your coordinate plane paper for help\n\n\nContact us at gamas@ayclogic.com or allison@ayclogic.com if you have any questions or need any help
URL:https://www.ayclogic.com/event/630-pm-scratch-level-1-allison-17/
CATEGORIES:Scratch Class,Scratch Class Level 1
END:VEVENT
BEGIN:VEVENT
DTSTART;TZID=America/Los_Angeles:20221220T190000
DTEND;TZID=America/Los_Angeles:20221220T200000
DTSTAMP:20260423T104305
CREATED:20221221T041433Z
LAST-MODIFIED:20221221T041433Z
UID:17241-1671562800-1671566400@www.ayclogic.com
SUMMARY:7 PM - 3D Animation Beginner
DESCRIPTION:Week 18\nToday we do:\n\nLearn how to add hand animation\nLearn how to add leg animation (in progress)\n\nHomework:\nNo homework. However the recording will be sent to you to fix the animation problem that you have
URL:https://www.ayclogic.com/event/7-pm-3d-animation-beginner-18/
END:VEVENT
END:VCALENDAR