BEGIN:VCALENDAR
VERSION:2.0
PRODID:-//American Young Coder - ECPv6.10.1.1//NONSGML v1.0//EN
CALSCALE:GREGORIAN
METHOD:PUBLISH
X-ORIGINAL-URL:https://www.ayclogic.com
X-WR-CALDESC:Events for American Young Coder
REFRESH-INTERVAL;VALUE=DURATION:PT1H
X-Robots-Tag:noindex
X-PUBLISHED-TTL:PT1H
BEGIN:VTIMEZONE
TZID:America/Los_Angeles
BEGIN:DAYLIGHT
TZOFFSETFROM:-0800
TZOFFSETTO:-0700
TZNAME:PDT
DTSTART:20220313T100000
END:DAYLIGHT
BEGIN:STANDARD
TZOFFSETFROM:-0700
TZOFFSETTO:-0800
TZNAME:PST
DTSTART:20221106T090000
END:STANDARD
END:VTIMEZONE
BEGIN:VEVENT
DTSTART;TZID=America/Los_Angeles:20221221T170000
DTEND;TZID=America/Los_Angeles:20221221T180000
DTSTAMP:20260423T104554
CREATED:20221222T042700Z
LAST-MODIFIED:20221222T043748Z
UID:17264-1671642000-1671645600@www.ayclogic.com
SUMMARY:5 PM – Scratch Level 1 – Allison
DESCRIPTION:Today we:\n\nContinued the Christmas Card – No List project\nCoded the Name Banner sprite and Merry Christmas Banner sprite to show after the Christmas Tree sprite is clicked\nCoded the Name Banner sprite to go to a specific place and glide to a different place\nCoded the Merry Christmas Banner sprite to go to a specific place and glide to a different place\nCoded a sprite to say Christmas-related dialogue when the Gift Box sprite is clicked\nCreated 3 different Christmas-related dialogue\n\nImportant Reminders:\nTo celebrate Christmas\, the school will be closed from Saturday 12/24/2022 – Monday 1/2/2023. There is no class next week. Our next class will be on Wednesday 1/3/2023. \nHomework Pt. 1:\n\nDownload the music at this link: Jingle Bells.\n\nIn the Christmas Tree sprite\, go to the “Sounds” tab. Click on “Upload Sound” and upload the music to your Scratch project.\nCode the music to forever play.\n\n\nIf you are unable to download the music\, code the song “Odesong” (from Scratch) to forever play.\nCode the Merry Christmas Banner to point in direction 90 when the game starts\nAfter gliding\, code the Merry Christmas Banner to forever: point in direction 105\, wait 1 second\, point in direction 75\, wait 1 second.\n\nHomework Pt. 2:\n\nFinish your homework by Christmas (12/25).\nClick the “share” button on your project and copy the link of your project. Email allison@ayclogic.com and gamas@ayclogic.com your name and the link of your project by 12/25. Ask your guardians for help if needed.\nFeel free to send your project to family and friends!\nContact us at allison@ayclogic.com and gamas@ayclogic.com if you have any questions or need any help.
URL:https://www.ayclogic.com/event/5-pm-scratch-level-1-allison-51/
CATEGORIES:Scratch Class,Scratch Class Level 1
END:VEVENT
BEGIN:VEVENT
DTSTART;TZID=America/Los_Angeles:20221221T170000
DTEND;TZID=America/Los_Angeles:20221221T180000
DTSTAMP:20260423T104554
CREATED:20230103T085811Z
LAST-MODIFIED:20230103T090010Z
UID:17342-1671642000-1671645600@www.ayclogic.com
SUMMARY:5PM - Digital Illustration 3
DESCRIPTION:We continued the Hello Kitty project\n    \nhomework \n \nDraw your character in a different pose
URL:https://www.ayclogic.com/event/5pm-digital-illustration-3-29/
CATEGORIES:Digital Illustration,Intermediate Digital Illustration
END:VEVENT
BEGIN:VEVENT
DTSTART;TZID=America/Los_Angeles:20221221T180000
DTEND;TZID=America/Los_Angeles:20221221T190000
DTSTAMP:20260423T104554
CREATED:20221222T030231Z
LAST-MODIFIED:20221222T030258Z
UID:17257-1671645600-1671649200@www.ayclogic.com
SUMMARY:6 PM – Intro To Python - Sebastian
DESCRIPTION:Today We Did\n\nLearned while loops continue to loop while their condition is True\nUsed input() inside of while loops as a condition\nLearned how to make a while loop act the same as a for loop\nIn case you need anything\, feel free to email me at sebastian@ayclogic.com\n\nHomework\n\nName your homework DEC21_while_loop_hw\, please submit by next Tuesday.\nHomework: Pages 118 and 121
URL:https://www.ayclogic.com/event/6-pm-intro-to-python-sebastian-6/
CATEGORIES:Python Class,Python Level 1
END:VEVENT
BEGIN:VEVENT
DTSTART;TZID=America/Los_Angeles:20221221T180000
DTEND;TZID=America/Los_Angeles:20221221T190000
DTSTAMP:20260423T104554
CREATED:20221223T024343Z
LAST-MODIFIED:20221223T024343Z
UID:17300-1671645600-1671649200@www.ayclogic.com
SUMMARY:6 PM - Python OOP - Gamas
DESCRIPTION:Homework\n\nContinue on your SchoolSystem program\nWhen user enter “exit” stop the loop.
URL:https://www.ayclogic.com/event/6-pm-python-oop-gamas-11/
CATEGORIES:OOP Python
END:VEVENT
BEGIN:VEVENT
DTSTART;TZID=America/Los_Angeles:20221221T190000
DTEND;TZID=America/Los_Angeles:20221221T200000
DTSTAMP:20260423T104554
CREATED:20221222T153037Z
LAST-MODIFIED:20221222T153037Z
UID:17295-1671649200-1671652800@www.ayclogic.com
SUMMARY:7PM - OOP Python - Latisha
DESCRIPTION:Today We Did\n\nContinued working on School Application\nmodified School Application to use a dictionary\n\nHomework\n\nMake a new method called list_students_under_10_using_dictionary() that will list all the students in students_dictionary who are under 10 years old. Call this method when the user selects 5\n\nIf you have any questions\, feel free to email me at latisha@ayclogic.com
URL:https://www.ayclogic.com/event/7pm-oop-python-latisha-23/
END:VEVENT
BEGIN:VEVENT
DTSTART;TZID=America/Los_Angeles:20221221T193000
DTEND;TZID=America/Los_Angeles:20221221T203000
DTSTAMP:20260423T104554
CREATED:20230105T033421Z
LAST-MODIFIED:20230105T033421Z
UID:17374-1671651000-1671654600@www.ayclogic.com
SUMMARY:7:30 PM - Intro To Java - Alex
DESCRIPTION:For Homework:\n\nComplete the practice final test that was sent to you in your email\, make sure to do it before the next class.
URL:https://www.ayclogic.com/event/730-pm-intro-to-java-alex-2/
CATEGORIES:Introduction To Java,Java
END:VEVENT
END:VCALENDAR