BEGIN:VCALENDAR
VERSION:2.0
PRODID:-//American Young Coder - ECPv6.10.1.1//NONSGML v1.0//EN
CALSCALE:GREGORIAN
METHOD:PUBLISH
X-WR-CALNAME:American Young Coder
X-ORIGINAL-URL:https://www.ayclogic.com
X-WR-CALDESC:Events for American Young Coder
REFRESH-INTERVAL;VALUE=DURATION:PT1H
X-Robots-Tag:noindex
X-PUBLISHED-TTL:PT1H
BEGIN:VTIMEZONE
TZID:America/Los_Angeles
BEGIN:DAYLIGHT
TZOFFSETFROM:-0800
TZOFFSETTO:-0700
TZNAME:PDT
DTSTART:20220313T100000
END:DAYLIGHT
BEGIN:STANDARD
TZOFFSETFROM:-0700
TZOFFSETTO:-0800
TZNAME:PST
DTSTART:20221106T090000
END:STANDARD
END:VTIMEZONE
BEGIN:VEVENT
DTSTART;TZID=America/Los_Angeles:20221223T173000
DTEND;TZID=America/Los_Angeles:20221223T183000
DTSTAMP:20260423T104322
CREATED:20221224T222315Z
LAST-MODIFIED:20221224T222315Z
UID:17307-1671816600-1671820200@www.ayclogic.com
SUMMARY:5:30 PM - Python Game Development - Bill
DESCRIPTION:Today We:\n\nContinued the Dragon Birdie project\nLearned how to add background music\nLearned how to add sound effects\nMade it so the plop sound effect plays every time the user hits a bird with a bullet\nFinished the Dragon Birdie project\n\nYour HW:\n\nNone\nNo class from Dec 24 to Jan 2\, Happy Holidays!
URL:https://www.ayclogic.com/event/530-pm-python-game-development-bill-10/
END:VEVENT
BEGIN:VEVENT
DTSTART;TZID=America/Los_Angeles:20221223T173000
DTEND;TZID=America/Los_Angeles:20221223T183000
DTSTAMP:20260423T104322
CREATED:20221231T183922Z
LAST-MODIFIED:20230102T213034Z
UID:17338-1671816600-1671820200@www.ayclogic.com
SUMMARY:5:30 PM - Intro To Python - Alex W.
DESCRIPTION:Today We:\n\nLearned to use functions to draw simple shapes in python\nUsed those shapes to draw a robot\n\nHomework:\n\nUse functions to draw a robot! The Robot should have a head\, arms\, legs\, and a torso.\nMake sure to call draw_rectangle function for each rectangle that you want to draw. I will give you some of the x and y coordinates below to help you get started. But you have to figure out the rest of them your self.
URL:https://www.ayclogic.com/event/530-pm-intro-to-python-alex-w-17/
END:VEVENT
END:VCALENDAR