BEGIN:VCALENDAR
VERSION:2.0
PRODID:-//American Young Coder - ECPv6.10.1.1//NONSGML v1.0//EN
CALSCALE:GREGORIAN
METHOD:PUBLISH
X-ORIGINAL-URL:https://www.ayclogic.com
X-WR-CALDESC:Events for American Young Coder
REFRESH-INTERVAL;VALUE=DURATION:PT1H
X-Robots-Tag:noindex
X-PUBLISHED-TTL:PT1H
BEGIN:VTIMEZONE
TZID:America/Los_Angeles
BEGIN:DAYLIGHT
TZOFFSETFROM:-0800
TZOFFSETTO:-0700
TZNAME:PDT
DTSTART:20230312T100000
END:DAYLIGHT
BEGIN:STANDARD
TZOFFSETFROM:-0700
TZOFFSETTO:-0800
TZNAME:PST
DTSTART:20231105T090000
END:STANDARD
END:VTIMEZONE
BEGIN:VEVENT
DTSTART;TZID=America/Los_Angeles:20230103T171500
DTEND;TZID=America/Los_Angeles:20230103T181500
DTSTAMP:20260423T093558
CREATED:20230104T022844Z
LAST-MODIFIED:20230104T022844Z
UID:17351-1672766100-1672769700@www.ayclogic.com
SUMMARY:5:15 PM - Intro To Python - Sebastian
DESCRIPTION:Today We Did\n\nWe reviewed the functions homeworks.\nWe reviewed while loops.\n\nHomework\n\nNext week 01/10 is 2nd quiz. Please prepare and study for your 2nd quiz.\nThe 2nd quiz will cover all the materials we have learned so far.\n\nStudy 1st quiz and its solution. Try to redo problems from the 1st quiz without looking at the solution. If you lost your first quiz\, email me at gamas@ayclogic.com. Or call/text Gamas Chang at (626) 532-7844. The first quiz\, should cover variables\, String combination\, input from shell\, if else statements\, List\, for loop\, while loop.\nStudy functions without return and with return values\nStudy how to use random modules.\nStudy how to fix python errors.\n2nd quiz is not an open book quiz\, but you can use Thonny to do your codes.
URL:https://www.ayclogic.com/event/515-pm-intro-to-python-sebastian-2/
CATEGORIES:Python Class,Python Level 1
END:VEVENT
BEGIN:VEVENT
DTSTART;TZID=America/Los_Angeles:20230103T180000
DTEND;TZID=America/Los_Angeles:20230103T190000
DTSTAMP:20260423T093558
CREATED:20230104T025635Z
LAST-MODIFIED:20230104T025635Z
UID:17352-1672768800-1672772400@www.ayclogic.com
SUMMARY:6 PM Scratch Level 1 - Alex
DESCRIPTION:Today We Did:\n\nContinued with the Mary Had A Little Lamb project\nDid some review before taking the practice test at home.\n\nFor Homework:\n\nHere is the practice test and make sure to take it before next week’s class so I can look at it. https://forms.gle/gZDvNyLkbA8RzzQW8
URL:https://www.ayclogic.com/event/6-pm-scratch-level-1-alex-3/
CATEGORIES:Scratch Class,Scratch Class Level 1
END:VEVENT
BEGIN:VEVENT
DTSTART;TZID=America/Los_Angeles:20230103T180000
DTEND;TZID=America/Los_Angeles:20230103T190000
DTSTAMP:20260423T093558
CREATED:20230104T031328Z
LAST-MODIFIED:20230104T031328Z
UID:17357-1672768800-1672772400@www.ayclogic.com
SUMMARY:6 PM – Scratch 2 – Yitong
DESCRIPTION:Today we:\n\nLearned about how to iterate (loop) through lists.\nFinished the Intro to Lists project.\nAdded a list in the Mary Had A Little Lamb project.\nAdded notes in the MaryHadALittleLamb list.\nFinished the first bar of Mary Had A Little Lamb.\n\nHomework:\n\nHOMEWORK IS DUE MONDAY NIGHT!! Please submit by emailing your homework to: yitong@ayclogic.com and Mr. Gamas’s email: gamas@ayclogic.com\n\nDon’t forget to share your project\, otherwise\, I won’t be to see your code.\nDon’t forget to include the project link in the email. Otherwise\, I cannot see your project.\n\n\nFinish adding all the notes of Mary Had A Little Lamb to the list.\nWhenever you see “wait 1 second\,” add another item to the list called “PAUSE.” If you don’t add this item\, the music will sound weird. If you are using the music sheet\, whenever you see a note without a tail you should add a “PAUSE.”
URL:https://www.ayclogic.com/event/6-pm-scratch-2-yitong-21/
CATEGORIES:Scratch Class,Scratch Class Level 2
END:VEVENT
BEGIN:VEVENT
DTSTART;TZID=America/Los_Angeles:20230103T180000
DTEND;TZID=America/Los_Angeles:20230103T190000
DTSTAMP:20260423T093558
CREATED:20230111T043429Z
LAST-MODIFIED:20230111T043429Z
UID:17556-1672768800-1672772400@www.ayclogic.com
SUMMARY:6PM - Digital Illustration 1
DESCRIPTION:TUESDAY \nToday we finished the Bluebird project! \n\nAdded feet\nAdded face details\nAdded shading to face\, beak\, and feet\n\nHOMEWORK \nDraw a background for your bird. \n\nPut all layers of the bluebird into a folder\nAdd a new layer (not inside the folder)\nDraw a background for your bird in the new layer\n\n \n 
URL:https://www.ayclogic.com/event/6pm-digital-illustration-1-27/
CATEGORIES:Beginner Digital Illustration,Digital Illustration
END:VEVENT
BEGIN:VEVENT
DTSTART;TZID=America/Los_Angeles:20230103T190000
DTEND;TZID=America/Los_Angeles:20230103T200000
DTSTAMP:20260423T093558
CREATED:20230111T024258Z
LAST-MODIFIED:20230111T024316Z
UID:17531-1672772400-1672776000@www.ayclogic.com
SUMMARY:7 PM - 3D Animation Beginner
DESCRIPTION:Week 19\nToday we do:\n\nFinish up the leg animation\ncopy the animation from one side to the other\n\nHomework:\nNo homework. However the recording will be sent to you to fix the animation problem that you have
URL:https://www.ayclogic.com/event/7-pm-3d-animation-beginner-19/
END:VEVENT
END:VCALENDAR