BEGIN:VCALENDAR
VERSION:2.0
PRODID:-//American Young Coder - ECPv6.10.1.1//NONSGML v1.0//EN
CALSCALE:GREGORIAN
METHOD:PUBLISH
X-WR-CALNAME:American Young Coder
X-ORIGINAL-URL:https://www.ayclogic.com
X-WR-CALDESC:Events for American Young Coder
REFRESH-INTERVAL;VALUE=DURATION:PT1H
X-Robots-Tag:noindex
X-PUBLISHED-TTL:PT1H
BEGIN:VTIMEZONE
TZID:America/Los_Angeles
BEGIN:DAYLIGHT
TZOFFSETFROM:-0800
TZOFFSETTO:-0700
TZNAME:PDT
DTSTART:20230312T100000
END:DAYLIGHT
BEGIN:STANDARD
TZOFFSETFROM:-0700
TZOFFSETTO:-0800
TZNAME:PST
DTSTART:20231105T090000
END:STANDARD
END:VTIMEZONE
BEGIN:VEVENT
DTSTART;TZID=America/Los_Angeles:20230104T170000
DTEND;TZID=America/Los_Angeles:20230104T180000
DTSTAMP:20260423T092234
CREATED:20230105T021432Z
LAST-MODIFIED:20230106T002302Z
UID:17365-1672851600-1672855200@www.ayclogic.com
SUMMARY:5 PM – Scratch Level 1 – Allison
DESCRIPTION:Today we:\n\nReviewed “broadcast\,” “when I receive\,” how to control clones\, and X and Y coordinates.\nLooked at the Scratch Level 1 Practice Test and went over the details of the test.\n\nHomework:\n\nFinish the Scratch Level 1 Practice Test. Make sure to check the instructions and the video one more time when you are finished with the project. Don’t forget to share the project before submitting it.\nContact us at allison@ayclogic.com and gamas@ayclogic.com if you have any questions or need any help.
URL:https://www.ayclogic.com/event/5-pm-scratch-level-1-yitong-liu/
CATEGORIES:Scratch Class,Scratch Class Level 1
END:VEVENT
BEGIN:VEVENT
DTSTART;TZID=America/Los_Angeles:20230104T170000
DTEND;TZID=America/Los_Angeles:20230104T180000
DTSTAMP:20260423T092234
CREATED:20230111T044907Z
LAST-MODIFIED:20230111T045037Z
UID:17559-1672851600-1672855200@www.ayclogic.com
SUMMARY:5PM - Digital Illustration 3
DESCRIPTION:WEDNESDAY \nToday we finished the Hello Kitty project\, and also started a new project. \nFinished simple Hello Kitty piece: \n\nWe added coloring\, shading\, and background star decoration\n\n  \n \n  \n— \n  \nThe new project we started: Princess Zelda in 3 Styles \n\nToday we just started the sketch of Style 1.\n\n <- Work in Progress \nHOMEWORK \n\nYou can bring your image by importing it into ibisPaintX and sharing it during class.
URL:https://www.ayclogic.com/event/5pm-digital-illustration-3-30/
CATEGORIES:Digital Illustration,Intermediate Digital Illustration
END:VEVENT
BEGIN:VEVENT
DTSTART;TZID=America/Los_Angeles:20230104T180000
DTEND;TZID=America/Los_Angeles:20230104T190000
DTSTAMP:20260423T092234
CREATED:20230105T030036Z
LAST-MODIFIED:20230105T030036Z
UID:17371-1672855200-1672858800@www.ayclogic.com
SUMMARY:6 PM - Python OOP - Gamas
DESCRIPTION:Homework\n\nInside WED-6PM-SchoolApplication project\, inside student.py\, create Student class with 3 attributes\n\nname\nage\ngrade\n\n\nInside main.py\, import Student class.\nInside main.application_loop()\, after user enter the 3 informations\, create a new Student variable.
URL:https://www.ayclogic.com/event/6-pm-python-oop-gamas-12/
END:VEVENT
BEGIN:VEVENT
DTSTART;TZID=America/Los_Angeles:20230104T183000
DTEND;TZID=America/Los_Angeles:20230104T193000
DTSTAMP:20260423T092234
CREATED:20230105T032934Z
LAST-MODIFIED:20230105T032934Z
UID:17366-1672857000-1672860600@www.ayclogic.com
SUMMARY:6:30 PM – Intro To Python – Sebastian
DESCRIPTION:Today We Did\n\nWhile loop review (counting up\, asking the user\, checking numbers)\nBegan quiz review (continuing it next week)\nIn case you need anything\, feel free to email me at sebastian@ayclogic.com\n\nHomework\n\nName your homework JAN4_while_loop_hw\, please submit by next Tuesday.\nHomework: Try 7-4\, 7-5\, 7-6\, 7-7 yourself from pages 123-124
URL:https://www.ayclogic.com/event/630-pm-intro-to-python-sebastian/
CATEGORIES:Python Class,Python Level 1
END:VEVENT
BEGIN:VEVENT
DTSTART;TZID=America/Los_Angeles:20230104T190000
DTEND;TZID=America/Los_Angeles:20230104T200000
DTSTAMP:20260423T092234
CREATED:20230105T040141Z
LAST-MODIFIED:20230105T040447Z
UID:17376-1672858800-1672862400@www.ayclogic.com
SUMMARY:7 PM - Python OOP - Latisha
DESCRIPTION:Homework\n\nInside SchoolApplication\, add the code so user can do the following features\n\n\n6. Find student using Dictionary\n7. List all students under 10 years old using dictionary.\n\n\n\nReview SchoolApplication and come up with questions.\nWhere is the code in SchoolApplication class that will use application_loop().
URL:https://www.ayclogic.com/event/7-pm-python-oop-gamas-6/
END:VEVENT
BEGIN:VEVENT
DTSTART;TZID=America/Los_Angeles:20230104T193000
DTEND;TZID=America/Los_Angeles:20230104T203000
DTSTAMP:20260423T092234
CREATED:20230111T031158Z
LAST-MODIFIED:20230111T190226Z
UID:17537-1672860600-1672864200@www.ayclogic.com
SUMMARY:7:30 PM - Intro To Java - Alex Lee
DESCRIPTION:Today We Did:\n\nWe continued with review of the Driver System\, and will be reviewing again next week.\nOn Jan 18\, will be our final test for the java class.
URL:https://www.ayclogic.com/event/730-pm-intro-to-java-alex-lee-6/
CATEGORIES:Introduction To Java,Java
END:VEVENT
END:VCALENDAR