BEGIN:VCALENDAR
VERSION:2.0
PRODID:-//American Young Coder - ECPv6.10.1.1//NONSGML v1.0//EN
CALSCALE:GREGORIAN
METHOD:PUBLISH
X-WR-CALNAME:American Young Coder
X-ORIGINAL-URL:https://www.ayclogic.com
X-WR-CALDESC:Events for American Young Coder
REFRESH-INTERVAL;VALUE=DURATION:PT1H
X-Robots-Tag:noindex
X-PUBLISHED-TTL:PT1H
BEGIN:VTIMEZONE
TZID:America/Los_Angeles
BEGIN:DAYLIGHT
TZOFFSETFROM:-0800
TZOFFSETTO:-0700
TZNAME:PDT
DTSTART:20230312T100000
END:DAYLIGHT
BEGIN:STANDARD
TZOFFSETFROM:-0700
TZOFFSETTO:-0800
TZNAME:PST
DTSTART:20231105T090000
END:STANDARD
END:VTIMEZONE
BEGIN:VEVENT
DTSTART;TZID=America/Los_Angeles:20230106T173000
DTEND;TZID=America/Los_Angeles:20230106T183000
DTSTAMP:20260423T092257
CREATED:20230108T031956Z
LAST-MODIFIED:20230108T031956Z
UID:17445-1673026200-1673029800@www.ayclogic.com
SUMMARY:5:30 PM - Python Game Development - Bill
DESCRIPTION:Today We:\n\nLearned how to commit and push in git\nLearned how to access the class copy and final version using git\nStarted the Flappy Duck project\nBlit the background image onto the screen\n\nYour HW:\n\nMake a new file called tube.py\nCopy and paste the cloud class from the previous project into this new file\nRename all things cloud to tube\, make sure to update the image that is loaded\nCreate a tube group in the main file and make sure it moves like a cloud does
URL:https://www.ayclogic.com/event/530-pm-python-game-development-bill-11/
END:VEVENT
END:VCALENDAR