BEGIN:VCALENDAR
VERSION:2.0
PRODID:-//American Young Coder - ECPv6.10.1.1//NONSGML v1.0//EN
CALSCALE:GREGORIAN
METHOD:PUBLISH
X-ORIGINAL-URL:https://www.ayclogic.com
X-WR-CALDESC:Events for American Young Coder
REFRESH-INTERVAL;VALUE=DURATION:PT1H
X-Robots-Tag:noindex
X-PUBLISHED-TTL:PT1H
BEGIN:VTIMEZONE
TZID:America/Los_Angeles
BEGIN:DAYLIGHT
TZOFFSETFROM:-0800
TZOFFSETTO:-0700
TZNAME:PDT
DTSTART:20230312T100000
END:DAYLIGHT
BEGIN:STANDARD
TZOFFSETFROM:-0700
TZOFFSETTO:-0800
TZNAME:PST
DTSTART:20231105T090000
END:STANDARD
END:VTIMEZONE
BEGIN:VEVENT
DTSTART;TZID=America/Los_Angeles:20230110T170000
DTEND;TZID=America/Los_Angeles:20230110T180000
DTSTAMP:20260423T093505
CREATED:20230111T015341Z
LAST-MODIFIED:20230111T015341Z
UID:17527-1673370000-1673373600@www.ayclogic.com
SUMMARY:5 PM - Intro to Python - Shawn
DESCRIPTION:Today We Did:\n\nIf else review\nInput from shell with input()\n\nYour HW:\n\nTextbook questions: 5-3\, 5-4 from page 84\nNumber 3 only from https://www.ayclogic.com/list-inputs-if-and-else-loops-and-function/\nPut your code in a file called Jan10_IfElseHomework2.py\n\nIf you have any questions about this\, don’t hesitate to email me at szhuang@ayclogic.com
URL:https://www.ayclogic.com/event/5-pm-intro-to-python-shawn-2/
END:VEVENT
BEGIN:VEVENT
DTSTART;TZID=America/Los_Angeles:20230110T180000
DTEND;TZID=America/Los_Angeles:20230110T190000
DTSTAMP:20260423T093505
CREATED:20230111T033352Z
LAST-MODIFIED:20230111T033352Z
UID:17536-1673373600-1673377200@www.ayclogic.com
SUMMARY:6 PM – Scratch 2 – Yitong
DESCRIPTION:Today we:\n\nFinished the Mary Had A Little Lamb (List) project.\nAdded a Category list.\nMade the Cat broadcast and say the items in the Category list.\nAdded the Watermelon\, Bananas\, and Apple sprites.\nMade the Watermelon tilt back and forth\n\nHomework:\n\nHOMEWORK IS DUE MONDAY NIGHT!! Please submit by emailing your homework to: yitong@ayclogic.com and Mr. Gamas’s email: gamas@ayclogic.com\n\nDon’t forget to share your project\, otherwise\, I won’t be to see your code.\nDon’t forget to include the project link in the email. Otherwise\, I cannot see your project.\n\n\nAdd the code that makes the Watermelon sprite tilt back and forth into the Bananas and Apple sprites.\nGet the Muffin\, Bread\, Donut\, Jam\, and Milk sprites.
URL:https://www.ayclogic.com/event/6-pm-scratch-2-yitong-22/
CATEGORIES:Scratch Class,Scratch Class Level 2
END:VEVENT
BEGIN:VEVENT
DTSTART;TZID=America/Los_Angeles:20230110T180000
DTEND;TZID=America/Los_Angeles:20230110T190000
DTSTAMP:20260423T093505
CREATED:20230111T040212Z
LAST-MODIFIED:20230111T040212Z
UID:17552-1673373600-1673377200@www.ayclogic.com
SUMMARY:6PM - Digital Illustration 1
DESCRIPTION:TUESDAY \nToday we started a new project: Squirt the Turtle \n\nToday we just started the sketch by using shapes\nBelow are the images of our current progress\, and the current layers we have.\n\n  \nNo homework. \n 
URL:https://www.ayclogic.com/event/6pm-digital-illustration-1-26/
CATEGORIES:Beginner Digital Illustration,Digital Illustration
END:VEVENT
BEGIN:VEVENT
DTSTART;TZID=America/Los_Angeles:20230110T180000
DTEND;TZID=America/Los_Angeles:20230110T190000
DTSTAMP:20260423T093505
CREATED:20230113T022608Z
LAST-MODIFIED:20230113T022608Z
UID:17591-1673373600-1673377200@www.ayclogic.com
SUMMARY:6 PM-Scratch Level 1 - Alex
DESCRIPTION:Today We Did:\n\nWe reviewed the practice test and prepared for the final.\nNext week will be an exam so make sure to be there.
URL:https://www.ayclogic.com/event/6-pm-scratch-level-1-alex-4/
CATEGORIES:Scratch Class,Scratch Class Level 1
END:VEVENT
BEGIN:VEVENT
DTSTART;TZID=America/Los_Angeles:20230110T183000
DTEND;TZID=America/Los_Angeles:20230110T193000
DTSTAMP:20260423T093505
CREATED:20230111T032916Z
LAST-MODIFIED:20230111T032916Z
UID:17541-1673375400-1673379000@www.ayclogic.com
SUMMARY:6:30 PM – Python OOP – Sebastian
DESCRIPTION:Today We Did \n\nSet up PyCharm & Python\nPython dictionaries (create\, get\, add\, replace\, length\, remove\, and display full dictionary)\nIn case you need anything\, feel free to email me at sebastian@ayclogic.com\n\nHomework\n\nName your homework JAN10_dictionary_hw\, please submit by next Monday.\nHomework: Pages 92 to 97 from the book.
URL:https://www.ayclogic.com/event/630-pm-python-oop-sebastian/
CATEGORIES:OOP Python,Python Class
END:VEVENT
BEGIN:VEVENT
DTSTART;TZID=America/Los_Angeles:20230110T183000
DTEND;TZID=America/Los_Angeles:20230110T193000
DTSTAMP:20260423T093505
CREATED:20230111T034132Z
LAST-MODIFIED:20230116T225710Z
UID:17543-1673375400-1673379000@www.ayclogic.com
SUMMARY:6:30 PM – Scratch Level 1 – Allison
DESCRIPTION:Today We:\n\nReviewed the Drawing Shapes on Grid project\nStarted the Animal Crossing project\nCoded a sprite to move to the right while switching costumes\n\nImportant Reminders:\n\nThere are new homework rules. After you finish your homework in Scratch\, you have to send an email the night before the day of the class.\nSince our class is on Tuesday\, send an email to allison@ayclogic.com by Monday at 8 PM. In that email\, write down your name and a link to your shared Scratch project homework. Make sure to share your Scratch project.\n\nHomework:\n\nCass and Elizabeth:\n\nIn the “Drawing Shapes on Grid” project\, code the Cat sprite to finish drawing the rectangle and octagon.\n\nNote: use the coordinate plane paper for help. See below for an image of the coordinate plane paper.\n\n\n\n\nEveryone: \n\nIn the “Animal Crossing” project: Add another Mouse sprite.\nCode the Mouse sprite to go to the coordinate (240\, 0) when the game starts. Afterwards\, code the Mouse sprite to forever move to the left (hint: change x by -10) while switching costumes\n\nHint: look at the codes we did in class for help.\n\n\n\n\nContact us at gamas@ayclogic.com or allison@ayclogic.com if you have any questions or need any help\n\n  \nClick here to see answers for the shapes’ coordinates: Numbered Shapes In Grid – Labeled Coordinates \n  \n \n 
URL:https://www.ayclogic.com/event/630-pm-scratch-level-1-allison-18/
CATEGORIES:Scratch Class,Scratch Class Level 1
END:VEVENT
BEGIN:VEVENT
DTSTART;TZID=America/Los_Angeles:20230110T190000
DTEND;TZID=America/Los_Angeles:20230110T200000
DTSTAMP:20260423T093505
CREATED:20230111T024436Z
LAST-MODIFIED:20230111T024436Z
UID:17534-1673377200-1673380800@www.ayclogic.com
SUMMARY:7 PM - 3D Animation Beginner
DESCRIPTION:Week 20\nToday we do:\n\nWe learn how to polish our walk-cycle animation\n\nHomework:\nCongratulaion you all finished the animation course!
URL:https://www.ayclogic.com/event/7-pm-3d-animation-beginner-20/
END:VEVENT
END:VCALENDAR