BEGIN:VCALENDAR
VERSION:2.0
PRODID:-//American Young Coder - ECPv6.10.1.1//NONSGML v1.0//EN
CALSCALE:GREGORIAN
METHOD:PUBLISH
X-ORIGINAL-URL:https://www.ayclogic.com
X-WR-CALDESC:Events for American Young Coder
REFRESH-INTERVAL;VALUE=DURATION:PT1H
X-Robots-Tag:noindex
X-PUBLISHED-TTL:PT1H
BEGIN:VTIMEZONE
TZID:America/Los_Angeles
BEGIN:DAYLIGHT
TZOFFSETFROM:-0800
TZOFFSETTO:-0700
TZNAME:PDT
DTSTART:20230312T100000
END:DAYLIGHT
BEGIN:STANDARD
TZOFFSETFROM:-0700
TZOFFSETTO:-0800
TZNAME:PST
DTSTART:20231105T090000
END:STANDARD
END:VTIMEZONE
BEGIN:VEVENT
DTSTART;TZID=America/Los_Angeles:20230111T170000
DTEND;TZID=America/Los_Angeles:20230111T180000
DTSTAMP:20260423T093523
CREATED:20230112T020347Z
LAST-MODIFIED:20230112T020347Z
UID:17578-1673456400-1673460000@www.ayclogic.com
SUMMARY:5 PM – Scratch Level 1 – Allison
DESCRIPTION:Today We:\n\nReviewed the Practice Test\n\nHomework:\n\nStudy for the Final Test (which is next week on Wednesday\, January 18)\nCome to our next class 15 minutes early (come into the zoom meeting at 4:45 PM) so I can explain test instructions\nStudy the resources attached below to prepare for the test\nContact us at gamas@ayclogic.com or allison@ayclogic.com if you have any questions or need any help\n\nResources:\n\nSpaceship V1.0: https://scratch.mit.edu/projects/266884838\nAnimal Crossing: https://scratch.mit.edu/projects/559936031\nBirthday Card: https://scratch.mit.edu/projects/557279686\nCat Art: https://scratch.mit.edu/projects/331671044\nAnimal Race: https://scratch.mit.edu/projects/537193836\nYour Practice Final Test\n\nClick on the link below to see a picture of a coordinate plane with labeled coordinates. Make sure to memorize the coordinates (the ones in red). \nNumbered Shapes In Grid – Labeled
URL:https://www.ayclogic.com/event/5-pm-scratch-level-1-allison-52/
CATEGORIES:Scratch Class,Scratch Class Level 1
END:VEVENT
BEGIN:VEVENT
DTSTART;TZID=America/Los_Angeles:20230111T170000
DTEND;TZID=America/Los_Angeles:20230111T180000
DTSTAMP:20260423T093523
CREATED:20230114T234848Z
LAST-MODIFIED:20230114T234848Z
UID:17613-1673456400-1673460000@www.ayclogic.com
SUMMARY:5PM - Digital Illustration 3
DESCRIPTION:WEDNESDAY \nToday we continued the project Princess Zelda in 3 Styles. \n\nStill working on Style 1\, we finished the sketch.\nWe started the lines\n\n \nHOMEWORK \n\nFinish the lines\nHere is some samples below\n\n \n 
URL:https://www.ayclogic.com/event/5pm-digital-illustration-3-31/
CATEGORIES:Digital Illustration,Intermediate Digital Illustration
END:VEVENT
BEGIN:VEVENT
DTSTART;TZID=America/Los_Angeles:20230111T173000
DTEND;TZID=America/Los_Angeles:20230111T183000
DTSTAMP:20260423T093523
CREATED:20230112T022751Z
LAST-MODIFIED:20230112T022759Z
UID:17580-1673458200-1673461800@www.ayclogic.com
SUMMARY:5:30 PM - Moses Make Up Class - Alex
DESCRIPTION:For Homework:\n\nCreate two sprites\, one is going to be the BatStart and the other is going to be the Bat.\nFor the Bat Code\, make it the same as the Dog’s code but with a different start and key pressed.\nTry your best before the next catch-up section.
URL:https://www.ayclogic.com/event/530-pm-moses-make-up-class-alex/
CATEGORIES:Scratch Class,Scratch Class Level 1
END:VEVENT
BEGIN:VEVENT
DTSTART;TZID=America/Los_Angeles:20230111T180000
DTEND;TZID=America/Los_Angeles:20230111T190000
DTSTAMP:20260423T093523
CREATED:20230112T030733Z
LAST-MODIFIED:20230112T030733Z
UID:17582-1673460000-1673463600@www.ayclogic.com
SUMMARY:6 PM - Python OOP - Gamas
DESCRIPTION:Homework\n\nInside SchoolSystem project create a new method for ADD NEW STUDENT and call this method from application_loop(self) when user enter “1”.\ncreate a new method for LIST ALL STUDENTS and call this method from application_loop(self) when user enter “2”.\nwhen user enter “3. Find Student”\, do the following\n\nPlease select one of the following\n1. Add Student\n2. List all students\n3. Find student\nEnter your selection (Enter "exit" to quit): 3\n\nFIND STUDENT\nEnter student name that you want to find: Berton\n\nPlease select one of the following\n1. Add Student\n2. List all students\n3. Find student\nEnter your selection (Enter "exit" to quit):
URL:https://www.ayclogic.com/event/6-pm-python-oop-gamas-13/
END:VEVENT
BEGIN:VEVENT
DTSTART;TZID=America/Los_Angeles:20230111T183000
DTEND;TZID=America/Los_Angeles:20230111T193000
DTSTAMP:20260423T093523
CREATED:20230115T030927Z
LAST-MODIFIED:20230117T152834Z
UID:17624-1673461800-1673465400@www.ayclogic.com
SUMMARY:6:30 PM – Intro To Python – Sebastian
DESCRIPTION:Today We Did \n\nFixing Python errors (“debugging”)\nIn case you need anything\, feel free to email me at sebastian@ayclogic.com\n\nHomework\n\nName your homework JAN11_errors_hw\, please submit by next Monday.\n\nHomework: Paste the code from the following websites and fix all errors. Make sure the output looks like what the website describes.\n\nhttps://www.ayclogic.com/fixing-python-bugs/\nhttps://www.ayclogic.com/fix-python-bugs-2/
URL:https://www.ayclogic.com/event/630-pm-intro-to-python-sebastian-2/
CATEGORIES:Python Class,Python Level 1
END:VEVENT
BEGIN:VEVENT
DTSTART;TZID=America/Los_Angeles:20230111T190000
DTEND;TZID=America/Los_Angeles:20230111T200000
DTSTAMP:20260423T093523
CREATED:20230112T040609Z
LAST-MODIFIED:20230112T040609Z
UID:17584-1673463600-1673467200@www.ayclogic.com
SUMMARY:7 PM - Python OOP - Latisha
DESCRIPTION:Homework\n\nInside WED-7PM-BookSystem project\, inside the main.py do the following: Exit\, Add Book and List all books. You also need to create book.py and inside create Book class.\n\nEnter one of the following:\n1. Exit\n2. Add Book\n3. List all books\n4. Find book by book id\n5. Find book by name\n6. List all books before year 2010\nPlease enter your selection: 2\n\nADD NEW BOOK\nEnter book name: Frozen\nEnter book author: Disney\nEnter publication year: 2010\nEnter book id: AA11\n\nEnter one of the following:\n1. Exit\n2. Add Book\n3. List all books\n4. Find book by book id\n5. Find book by name\n6. List all books before year 2010\nPlease enter your selection: 3\n\nLIST ALL BOOKS\n111 - Chamber of Secrets by JK Rowling published on 2012\n222 - Goblet of Fire by JK Rowling published on 2013\nabcd - The Fellowship of the Ring by JRR Tolkien published on 2022\nAA11 - Frozen by Disney published on 2010\n\nEnter one of the following:\n1. Exit\n2. Add Book\n3. List all books\n4. Find book by book id\n5. Find book by name\n6. List all books before year 2010\nPlease enter your selection:
URL:https://www.ayclogic.com/event/7-pm-python-oop-latisha-3/
CATEGORIES:OOP Python,Python Class
END:VEVENT
BEGIN:VEVENT
DTSTART;TZID=America/Los_Angeles:20230111T193000
DTEND;TZID=America/Los_Angeles:20230111T203000
DTSTAMP:20260423T093523
CREATED:20230113T022246Z
LAST-MODIFIED:20230113T022246Z
UID:17589-1673465400-1673469000@www.ayclogic.com
SUMMARY:7:30 Intro To Java - Alex
DESCRIPTION:Today We Did:\n\nWe finished up the review fo the Driver System\, next week will be the test on 1/18.
URL:https://www.ayclogic.com/event/730-intro-to-java-alex-2/
CATEGORIES:Introduction To Java,Java
END:VEVENT
END:VCALENDAR