BEGIN:VCALENDAR
VERSION:2.0
PRODID:-//American Young Coder - ECPv6.10.1.1//NONSGML v1.0//EN
CALSCALE:GREGORIAN
METHOD:PUBLISH
X-WR-CALNAME:American Young Coder
X-ORIGINAL-URL:https://www.ayclogic.com
X-WR-CALDESC:Events for American Young Coder
REFRESH-INTERVAL;VALUE=DURATION:PT1H
X-Robots-Tag:noindex
X-PUBLISHED-TTL:PT1H
BEGIN:VTIMEZONE
TZID:America/Los_Angeles
BEGIN:DAYLIGHT
TZOFFSETFROM:-0800
TZOFFSETTO:-0700
TZNAME:PDT
DTSTART:20230312T100000
END:DAYLIGHT
BEGIN:STANDARD
TZOFFSETFROM:-0700
TZOFFSETTO:-0800
TZNAME:PST
DTSTART:20231105T090000
END:STANDARD
END:VTIMEZONE
BEGIN:VEVENT
DTSTART;TZID=America/Los_Angeles:20230113T160000
DTEND;TZID=America/Los_Angeles:20230113T170000
DTSTAMP:20260423T092815
CREATED:20230120T072554Z
LAST-MODIFIED:20230120T072554Z
UID:17741-1673625600-1673629200@www.ayclogic.com
SUMMARY:4PM - Python OOP - Alex W.
DESCRIPTION:Today We:\n\nCorrected the mistakes on Jayden’s final submssion\n\nHomework:\n\nReview mistakes made on the final
URL:https://www.ayclogic.com/event/4pm-python-oop-alex-w-4/
END:VEVENT
BEGIN:VEVENT
DTSTART;TZID=America/Los_Angeles:20230113T173000
DTEND;TZID=America/Los_Angeles:20230113T183000
DTSTAMP:20260423T092815
CREATED:20230117T050543Z
LAST-MODIFIED:20230117T050543Z
UID:17657-1673631000-1673634600@www.ayclogic.com
SUMMARY:5:30 PM - Python Game Development - Bill
DESCRIPTION:Today We:\n\nMade the tubes spawn continuously\nDid the player gravity\n\nYour HW:\n\nNone
URL:https://www.ayclogic.com/event/530-pm-python-game-development-bill-12/
END:VEVENT
BEGIN:VEVENT
DTSTART;TZID=America/Los_Angeles:20230113T173000
DTEND;TZID=America/Los_Angeles:20230113T183000
DTSTAMP:20260423T092815
CREATED:20230120T072959Z
LAST-MODIFIED:20230120T072959Z
UID:17743-1673631000-1673634600@www.ayclogic.com
SUMMARY:5:30 PM - Intro To Python - Alex W.
DESCRIPTION:Today we:\n\nStudied rotation and polygon drawing with faces.py\n\nHomework:\n\nSubmit an image of your project proposal\, it can be drawn any way you want to.
URL:https://www.ayclogic.com/event/530-pm-intro-to-python-alex-w-18/
END:VEVENT
BEGIN:VEVENT
DTSTART;TZID=America/Los_Angeles:20230113T190000
DTEND;TZID=America/Los_Angeles:20230113T200000
DTSTAMP:20260423T092815
CREATED:20230114T045637Z
LAST-MODIFIED:20230114T045637Z
UID:17600-1673636400-1673640000@www.ayclogic.com
SUMMARY:7 PM - Python Game Development - Gamas
DESCRIPTION:Today We Did\n\nWe went over how to create background process while loader animation is running. This is a very common way to load heavy resources in the background while displaying loader animation to entertain the user.\n\nHomework\n\nNo homework. The class is finished. congrats guys.
URL:https://www.ayclogic.com/event/7-pm-python-game-development-gamas-16/
CATEGORIES:OOP Python,Python Class
END:VEVENT
END:VCALENDAR