BEGIN:VCALENDAR
VERSION:2.0
PRODID:-//American Young Coder - ECPv6.10.1.1//NONSGML v1.0//EN
CALSCALE:GREGORIAN
METHOD:PUBLISH
X-WR-CALNAME:American Young Coder
X-ORIGINAL-URL:https://www.ayclogic.com
X-WR-CALDESC:Events for American Young Coder
REFRESH-INTERVAL;VALUE=DURATION:PT1H
X-Robots-Tag:noindex
X-PUBLISHED-TTL:PT1H
BEGIN:VTIMEZONE
TZID:America/Los_Angeles
BEGIN:DAYLIGHT
TZOFFSETFROM:-0800
TZOFFSETTO:-0700
TZNAME:PDT
DTSTART:20230312T100000
END:DAYLIGHT
BEGIN:STANDARD
TZOFFSETFROM:-0700
TZOFFSETTO:-0800
TZNAME:PST
DTSTART:20231105T090000
END:STANDARD
END:VTIMEZONE
BEGIN:VEVENT
DTSTART;TZID=America/Los_Angeles:20230116T160000
DTEND;TZID=America/Los_Angeles:20230116T170000
DTSTAMP:20260423T092354
CREATED:20230117T005257Z
LAST-MODIFIED:20230117T005257Z
UID:17651-1673884800-1673888400@www.ayclogic.com
SUMMARY:4 PM - Scratch Level 1 - Alex
DESCRIPTION:Today We Did:\n\nFinished up the Drawing Shapes\, by drawing the octagon.\nAlso talked about broadcasting\, and began the Animal Crossing project.\n\nFor Homework:\n\nCreate a Dinosaur3 sprite\, and make it start at the very top on the left side of the y axis.\nMake the dinosaur go downwards\, and when it reaches the bottom it should say a message.
URL:https://www.ayclogic.com/event/4-pm-scratch-level-1-alex/
CATEGORIES:Scratch Class
END:VEVENT
BEGIN:VEVENT
DTSTART;TZID=America/Los_Angeles:20230116T170000
DTEND;TZID=America/Los_Angeles:20230116T180000
DTSTAMP:20260423T092354
CREATED:20230117T045650Z
LAST-MODIFIED:20230117T045650Z
UID:17655-1673888400-1673892000@www.ayclogic.com
SUMMARY:5 PM - Python OOP - Bill
DESCRIPTION:Today We:\n\nStarted learning about classes\nLearned about the __init__ method\nLearned how to create instance variables\nLearned how to create custom methods\n\nYour HW:\n\nCreate a new file called “Jan_16_ClassesHW1”\nRead and copy code from pages 158 to 161
URL:https://www.ayclogic.com/event/5-pm-python-oop-bill-29/
END:VEVENT
END:VCALENDAR