BEGIN:VCALENDAR
VERSION:2.0
PRODID:-//American Young Coder - ECPv6.10.1.1//NONSGML v1.0//EN
CALSCALE:GREGORIAN
METHOD:PUBLISH
X-WR-CALNAME:American Young Coder
X-ORIGINAL-URL:https://www.ayclogic.com
X-WR-CALDESC:Events for American Young Coder
REFRESH-INTERVAL;VALUE=DURATION:PT1H
X-Robots-Tag:noindex
X-PUBLISHED-TTL:PT1H
BEGIN:VTIMEZONE
TZID:America/Los_Angeles
BEGIN:DAYLIGHT
TZOFFSETFROM:-0800
TZOFFSETTO:-0700
TZNAME:PDT
DTSTART:20230312T100000
END:DAYLIGHT
BEGIN:STANDARD
TZOFFSETFROM:-0700
TZOFFSETTO:-0800
TZNAME:PST
DTSTART:20231105T090000
END:STANDARD
END:VTIMEZONE
BEGIN:VEVENT
DTSTART;TZID=America/Los_Angeles:20230119T170000
DTEND;TZID=America/Los_Angeles:20230119T180000
DTSTAMP:20260423T092354
CREATED:20230120T073316Z
LAST-MODIFIED:20230120T073316Z
UID:17745-1674147600-1674151200@www.ayclogic.com
SUMMARY:5PM - Python OOP - Alex W.
DESCRIPTION:Today We:\n\nReviewed searching through and accessing things in dictionaries\n\nHomework:\n\nJayden should work on implementing the for loop to print out any values that start with the number “1”.\n\nIf Jayden has any questions on implementing this\, they can contact me at alexwalburg@ayclogic.com
URL:https://www.ayclogic.com/event/5pm-python-oop-alex-w/
END:VEVENT
BEGIN:VEVENT
DTSTART;TZID=America/Los_Angeles:20230119T190000
DTEND;TZID=America/Los_Angeles:20230119T200000
DTSTAMP:20260423T092354
CREATED:20230122T082827Z
LAST-MODIFIED:20230122T082827Z
UID:17785-1674154800-1674158400@www.ayclogic.com
SUMMARY:7PM - OOP Python - Latisha
DESCRIPTION:Today We Did\n\nKeep working on Adventure Game\n\nHomework\n\nFinish sword_attack. The monster’s attack points should be a random number between 5 and the monster’s max_attack. Subtract that number from the player’s health. Then\, print “<monster name> attacked you with <monster attack> attack points. Your remaining health is <player health>.”\n\nIf you have any questions\, you can ask me at latisha@ayclogic.com.
URL:https://www.ayclogic.com/event/7pm-oop-python-latisha-25/
END:VEVENT
END:VCALENDAR