BEGIN:VCALENDAR
VERSION:2.0
PRODID:-//American Young Coder - ECPv6.10.1.1//NONSGML v1.0//EN
CALSCALE:GREGORIAN
METHOD:PUBLISH
X-ORIGINAL-URL:https://www.ayclogic.com
X-WR-CALDESC:Events for American Young Coder
REFRESH-INTERVAL;VALUE=DURATION:PT1H
X-Robots-Tag:noindex
X-PUBLISHED-TTL:PT1H
BEGIN:VTIMEZONE
TZID:America/Los_Angeles
BEGIN:DAYLIGHT
TZOFFSETFROM:-0800
TZOFFSETTO:-0700
TZNAME:PDT
DTSTART:20230312T100000
END:DAYLIGHT
BEGIN:STANDARD
TZOFFSETFROM:-0700
TZOFFSETTO:-0800
TZNAME:PST
DTSTART:20231105T090000
END:STANDARD
END:VTIMEZONE
BEGIN:VEVENT
DTSTART;TZID=America/Los_Angeles:20230120T173000
DTEND;TZID=America/Los_Angeles:20230120T183000
DTSTAMP:20260423T093424
CREATED:20230121T030128Z
LAST-MODIFIED:20230121T042055Z
UID:17747-1674235800-1674239400@www.ayclogic.com
SUMMARY:5:30 PM - Intro To Python - Gamas
DESCRIPTION:Today We Did\n\nWe reviewed each person’s project progress.\nWe started doing draw_face project but could not finish it.\n\nHomework\n\nIf you have not submit your project proposal\, please do it immediately. Otherwise you will lose 10% of your grade in this project.\nContinue making progress on your Turtle project. This project is due on Feb 3rd. By next week (01/27) you should be 75% done. If not then you are behind.\nIf you have questions\, please feel free to email me at gamas@ayclogic.com. Don’t email me last min. If I did not response\, please text me at (626) 532-7844.
URL:https://www.ayclogic.com/event/530-pm-intro-to-python-gamas-9/
CATEGORIES:Python Class,Python Level 1
END:VEVENT
BEGIN:VEVENT
DTSTART;TZID=America/Los_Angeles:20230120T173000
DTEND;TZID=America/Los_Angeles:20230120T183000
DTSTAMP:20260423T093424
CREATED:20230121T202555Z
LAST-MODIFIED:20230121T202555Z
UID:17763-1674235800-1674239400@www.ayclogic.com
SUMMARY:5:30 PM - Python Game Development - Bill
DESCRIPTION:Today We:\n\nMade the tubes spawn in pairs (top and bottom)\nRandomized the heights of the tubes\nAdded a new direction attribute of the tube class that controls whether or not the image will be flipped\n\nYour HW:\n\nAdd a rect hitbox for the tube class and player class\nMake it so when the player hits a tube (you might have to comment out the gravity to test) the player disappears
URL:https://www.ayclogic.com/event/530-pm-python-game-development-bill-13/
END:VEVENT
END:VCALENDAR