BEGIN:VCALENDAR
VERSION:2.0
PRODID:-//American Young Coder - ECPv6.10.1.1//NONSGML v1.0//EN
CALSCALE:GREGORIAN
METHOD:PUBLISH
X-WR-CALNAME:American Young Coder
X-ORIGINAL-URL:https://www.ayclogic.com
X-WR-CALDESC:Events for American Young Coder
REFRESH-INTERVAL;VALUE=DURATION:PT1H
X-Robots-Tag:noindex
X-PUBLISHED-TTL:PT1H
BEGIN:VTIMEZONE
TZID:America/Los_Angeles
BEGIN:DAYLIGHT
TZOFFSETFROM:-0800
TZOFFSETTO:-0700
TZNAME:PDT
DTSTART:20230312T100000
END:DAYLIGHT
BEGIN:STANDARD
TZOFFSETFROM:-0700
TZOFFSETTO:-0800
TZNAME:PST
DTSTART:20231105T090000
END:STANDARD
END:VTIMEZONE
BEGIN:VEVENT
DTSTART;TZID=America/Los_Angeles:20230124T063000
DTEND;TZID=America/Los_Angeles:20230124T193000
DTSTAMP:20260423T093141
CREATED:20230127T231603Z
LAST-MODIFIED:20230221T201859Z
UID:17832-1674541800-1674588600@www.ayclogic.com
SUMMARY:6:30 PM – Scratch Level 1 – Allison
DESCRIPTION:Today We:\n\nFinished the Animal Crossing project\nStarted the Birthday Card project\n\nImportant Reminders:\n\nThere are new homework rules. After you finish your homework in Scratch\, you have to send an email the night before the day of the class.\nSince our class is on Tuesday\, send an email to allison@ayclogic.com by Monday at 8 PM. In that email\, write down your name and a link to your shared Scratch project homework. Make sure to share your Scratch project.\n\nHomework:\n\nCass:\n\nIn the “Drawing Shapes on Grid” project\, code the Cat sprite to finish drawing the rectangle and octagon.\n\nNote: use the coordinate plane paper for help. See below for images of the coordinate plane paper.\n\n\n\n\nElizabeth:\n\nPrint the two images below.\n\n\nEveryone: \n\nIn your Birthday Card project\, read and do the codes in the Scratch Book\n\nPg. 88-89\n\n\n\n\nContact us at gamas@ayclogic.com or allison@ayclogic.com if you have any questions or need any help\n\n 
URL:https://www.ayclogic.com/event/630-pm-scratch-level-1-allison-21/
CATEGORIES:Scratch Class,Scratch Class Level 1
END:VEVENT
BEGIN:VEVENT
DTSTART;TZID=America/Los_Angeles:20230124T170000
DTEND;TZID=America/Los_Angeles:20230124T180000
DTSTAMP:20260423T093141
CREATED:20230125T015525Z
LAST-MODIFIED:20230128T183116Z
UID:17814-1674579600-1674583200@www.ayclogic.com
SUMMARY:5 PM – Intro to Python – Shawn
DESCRIPTION:Today We Did:\n\nHomework review\nFinal week of if else\, input from shell\, string review\nIntro to lists – how to access from an index\, insert\, append\, remove\, del\n\nYour HW:\n\nCopy pages 38 to 41 from the book\, and put it in a file called Jan24_ListHW.py\n\nIf you have any questions about this\, don’t hesitate to email me at szhuang@ayclogic.com
URL:https://www.ayclogic.com/event/5-pm-intro-to-python-shawn-4/
END:VEVENT
BEGIN:VEVENT
DTSTART;TZID=America/Los_Angeles:20230124T170000
DTEND;TZID=America/Los_Angeles:20230124T180000
DTSTAMP:20260423T093141
CREATED:20230125T015808Z
LAST-MODIFIED:20230125T015808Z
UID:17815-1674579600-1674583200@www.ayclogic.com
SUMMARY:5 PM - Intro To Python - Gamas
DESCRIPTION:Homework\n\nContinue on Jan24_RobotBuilder.py\, complete all parts of the robot except for the left and right arms\n\nlatest codes can be found in google drive: https://drive.google.com/drive/u/0/folders/10gSNvKsNKHapu_-rKAYYOR56UVBblwp2
URL:https://www.ayclogic.com/event/5-pm-intro-to-python-gamas-6/
CATEGORIES:Python Level 1
END:VEVENT
BEGIN:VEVENT
DTSTART;TZID=America/Los_Angeles:20230124T180000
DTEND;TZID=America/Los_Angeles:20230124T190000
DTSTAMP:20260423T093141
CREATED:20230125T025534Z
LAST-MODIFIED:20230125T025534Z
UID:17818-1674583200-1674586800@www.ayclogic.com
SUMMARY:6 PM - Scratch 2 - Yitong
DESCRIPTION:Today We Did\n\nWe finished Shopping Cart project.\n\nHomework\n\nNo homework for next week.
URL:https://www.ayclogic.com/event/6-pm-scratch-2-yitong-24/
CATEGORIES:Python Class,Scratch Class,Scratch Class Level 2
END:VEVENT
BEGIN:VEVENT
DTSTART;TZID=America/Los_Angeles:20230124T180000
DTEND;TZID=America/Los_Angeles:20230124T190000
DTSTAMP:20260423T093141
CREATED:20230125T033306Z
LAST-MODIFIED:20230125T033306Z
UID:17820-1674583200-1674586800@www.ayclogic.com
SUMMARY:6PM - Digital Illustration 1
DESCRIPTION:TUESDAY \nToday we continued the Squirt Turtle project. \n\nWe reviewed everyone’s current work in progress.\nWe started coloring the shell and the skin\n\nHomework \nI changed my mind. NO HOMEWORK. We will talk about the final project with more details next class. Just make sure your turtle project is up to date with the class. Refer to the images below to check your own project.
URL:https://www.ayclogic.com/event/6pm-digital-illustration-1-29/
CATEGORIES:Beginner Digital Illustration,Digital Illustration
END:VEVENT
BEGIN:VEVENT
DTSTART;TZID=America/Los_Angeles:20230124T183000
DTEND;TZID=America/Los_Angeles:20230124T193000
DTSTAMP:20260423T093141
CREATED:20230125T042650Z
LAST-MODIFIED:20230125T042650Z
UID:17821-1674585000-1674588600@www.ayclogic.com
SUMMARY:6:30 PM – Python Object Oriented Programming – Sebastian
DESCRIPTION:Today We Did \n\nFinished phone book dictionary program\nBegan grocery shopping cart program\nIn case you need anything\, feel free to email me at sebastian@ayclogic.com\n\nHomework\n\nName your homework JAN24_dictionary_hw\, please submit by next Monday.\nHomework:\na) Copy code from pages 100 and 101\nb) Try page 105 yourself
URL:https://www.ayclogic.com/event/630-pm-python-object-oriented-programming-sebastian-3/
CATEGORIES:OOP Python,Python Class
END:VEVENT
END:VCALENDAR