BEGIN:VCALENDAR
VERSION:2.0
PRODID:-//American Young Coder - ECPv6.10.1.1//NONSGML v1.0//EN
CALSCALE:GREGORIAN
METHOD:PUBLISH
X-WR-CALNAME:American Young Coder
X-ORIGINAL-URL:https://www.ayclogic.com
X-WR-CALDESC:Events for American Young Coder
REFRESH-INTERVAL;VALUE=DURATION:PT1H
X-Robots-Tag:noindex
X-PUBLISHED-TTL:PT1H
BEGIN:VTIMEZONE
TZID:America/Los_Angeles
BEGIN:DAYLIGHT
TZOFFSETFROM:-0800
TZOFFSETTO:-0700
TZNAME:PDT
DTSTART:20230312T100000
END:DAYLIGHT
BEGIN:STANDARD
TZOFFSETFROM:-0700
TZOFFSETTO:-0800
TZNAME:PST
DTSTART:20231105T090000
END:STANDARD
END:VTIMEZONE
BEGIN:VEVENT
DTSTART;TZID=America/Los_Angeles:20230125T180000
DTEND;TZID=America/Los_Angeles:20230125T190000
DTSTAMP:20260423T093212
CREATED:20230128T090716Z
LAST-MODIFIED:20230128T090716Z
UID:17847-1674669600-1674673200@www.ayclogic.com
SUMMARY:6PM - OOP Python - Gamas
DESCRIPTION:Today We Did\n\nWe continue with SchoolSystem project.\nWe added student dictionary\n\nHomework\n\nAll files have been added in the google drive. If you were left behind in the class\, please download the files from the google drive.\nAdd an empty dictionary called self.teacher_dictionary to the init and then modify add_new_teacher() so that it adds the new teacher to the new dictionary. Then\, make list_all_teachers_using_dictionary() and call that when the user selects 5. The method should print all the teachers information from the dictionary.\n\nIf you have any questions\, please send an email to latisha@ayclogic.com
URL:https://www.ayclogic.com/event/6pm-oop-python-gamas/
END:VEVENT
BEGIN:VEVENT
DTSTART;TZID=America/Los_Angeles:20230125T183000
DTEND;TZID=America/Los_Angeles:20230125T193000
DTSTAMP:20260423T093212
CREATED:20230126T024213Z
LAST-MODIFIED:20230126T024254Z
UID:17826-1674671400-1674675000@www.ayclogic.com
SUMMARY:6:30 PM – Intro To Python – Sebastian
DESCRIPTION:Today We Did\n\nQuiz 1\nIn case you need anything\, feel free to email me at sebastian@ayclogic.com\n\nHomework\n\nNo homework! 🙂
URL:https://www.ayclogic.com/event/630-pm-intro-to-python-sebastian-4/
CATEGORIES:Python Class,Python Level 1
END:VEVENT
BEGIN:VEVENT
DTSTART;TZID=America/Los_Angeles:20230125T190000
DTEND;TZID=America/Los_Angeles:20230125T200000
DTSTAMP:20260423T093212
CREATED:20230128T090346Z
LAST-MODIFIED:20230128T090346Z
UID:17845-1674673200-1674676800@www.ayclogic.com
SUMMARY:7PM - OOP Python - Latisha
DESCRIPTION:Today We Did\n\nFinished BookSystem\nWorked on Supermarket Application\n\nHomework\n\nAdd a new attribute to GroceryItem called frozen_food\, which is a Boolean. When the user checks out\, if frozen_food is TRUE then print “<name> – remember to store in the freezer!”\n\nIf you have any questions\, you can ask me at latisha@ayclogic.com.
URL:https://www.ayclogic.com/event/7pm-oop-python-latisha-27/
END:VEVENT
END:VCALENDAR