BEGIN:VCALENDAR
VERSION:2.0
PRODID:-//American Young Coder - ECPv6.10.1.1//NONSGML v1.0//EN
CALSCALE:GREGORIAN
METHOD:PUBLISH
X-WR-CALNAME:American Young Coder
X-ORIGINAL-URL:https://www.ayclogic.com
X-WR-CALDESC:Events for American Young Coder
REFRESH-INTERVAL;VALUE=DURATION:PT1H
X-Robots-Tag:noindex
X-PUBLISHED-TTL:PT1H
BEGIN:VTIMEZONE
TZID:America/Los_Angeles
BEGIN:DAYLIGHT
TZOFFSETFROM:-0800
TZOFFSETTO:-0700
TZNAME:PDT
DTSTART:20230312T100000
END:DAYLIGHT
BEGIN:STANDARD
TZOFFSETFROM:-0700
TZOFFSETTO:-0800
TZNAME:PST
DTSTART:20231105T090000
END:STANDARD
END:VTIMEZONE
BEGIN:VEVENT
DTSTART;TZID=America/Los_Angeles:20230128T100000
DTEND;TZID=America/Los_Angeles:20230128T230000
DTSTAMP:20260423T092355
CREATED:20230128T041135Z
LAST-MODIFIED:20230128T063748Z
UID:17839-1674900000-1674946800@www.ayclogic.com
SUMMARY:10AM - Intro To Python - Gamas
DESCRIPTION:Today We:\n\nStudied functions with return value\n\nHomework:\n\nIn jan28_FunctionWithReturnValueHomework.py: complete questions 4-7 of https://www.ayclogic.com/list-inputs-if-and-else-loops-and-function/\n\n 
URL:https://www.ayclogic.com/event/10am-intro-to-python-alex-w/
END:VEVENT
BEGIN:VEVENT
DTSTART;TZID=America/Los_Angeles:20230128T120000
DTEND;TZID=America/Los_Angeles:20230128T130000
DTSTAMP:20260423T092355
CREATED:20230128T210041Z
LAST-MODIFIED:20230128T210053Z
UID:17860-1674907200-1674910800@www.ayclogic.com
SUMMARY:12 PM - Android Game Development - Gamas
DESCRIPTION:Today We Did\n\nWe continued on Dragon Birdie Mobile game\nWe added collision detection between Player and Bird.\nWhen Player collide with Bird\, we display a dead Player image.\n\nHomework\n\nWhen Player collide with Bird\, instead of showing a single dead image\, show dead image animations by loading player_deadX.png.
URL:https://www.ayclogic.com/event/12-pm-android-game-development-gamas-10/
CATEGORIES:Java,Minecraft Modding With Java
END:VEVENT
BEGIN:VEVENT
DTSTART;TZID=America/Los_Angeles:20230128T123000
DTEND;TZID=America/Los_Angeles:20230128T133000
DTSTAMP:20260423T092355
CREATED:20230128T214210Z
LAST-MODIFIED:20230128T214210Z
UID:17865-1674909000-1674912600@www.ayclogic.com
SUMMARY:12:30 PM - Scratch 2 - Abigail
DESCRIPTION:What we did today\n\nWe started working on the Fireball Fight project.\n\nHomework\n\nDo the code for the other projectile. (reference the code from the projectile you already done.)\nMake 2 new variables to keep track of the player’s health.\nWhen the projectiles hit the player\, decrease the health variable by 1. (also make sure to delete the projectile clones when touching the players)\nAdd a “pop” sound effect when the projectile hits the player.\n\nIf you need help\, email abigail@ayclogic.com.
URL:https://www.ayclogic.com/event/1230-pm-scratch-2-abigail-12/
CATEGORIES:Scratch Class,Scratch Class Level 2
END:VEVENT
BEGIN:VEVENT
DTSTART;TZID=America/Los_Angeles:20230128T140000
DTEND;TZID=America/Los_Angeles:20230128T150000
DTSTAMP:20260423T092355
CREATED:20230129T191116Z
LAST-MODIFIED:20230129T191116Z
UID:17879-1674914400-1674918000@www.ayclogic.com
SUMMARY:2 PM – Intro To Python – Sebastian
DESCRIPTION:Today We Did\n\nFinish hangman game\nFixing python errors\nIn case you need anything\, feel free to email me at sebastian@ayclogic.com\n\nHomework\n\nName your homework JAN28_errors_hw\, please submit by next Friday.\nHomework: Please finish both assignments:\na. https://www.ayclogic.com/fix-python-bugs-2/\nb. https://www.ayclogic.com/intro-to-python-exercises-for-quiz-2/
URL:https://www.ayclogic.com/event/2-pm-intro-to-python-sebastian-17/
CATEGORIES:Python Class,Python Level 1
END:VEVENT
BEGIN:VEVENT
DTSTART;TZID=America/Los_Angeles:20230128T150000
DTEND;TZID=America/Los_Angeles:20230128T160000
DTSTAMP:20260423T092355
CREATED:20230129T191144Z
LAST-MODIFIED:20230129T191144Z
UID:17881-1674918000-1674921600@www.ayclogic.com
SUMMARY:3 PM – Intro To Python – Sebastian
DESCRIPTION:Today We Did\n\nFinish hangman game\nFixing python errors\nIn case you need anything\, feel free to email me at sebastian@ayclogic.com\n\nHomework\n\nName your homework JAN28_errors_hw\, please submit by next Friday.\nHomework: Please finish both assignments:\na. https://www.ayclogic.com/fix-python-bugs-2/\nb. https://www.ayclogic.com/intro-to-python-exercises-for-quiz-2/
URL:https://www.ayclogic.com/event/3-pm-intro-to-python-sebastian-19/
CATEGORIES:Python Class,Python Level 1
END:VEVENT
BEGIN:VEVENT
DTSTART;TZID=America/Los_Angeles:20230128T170000
DTEND;TZID=America/Los_Angeles:20230128T180000
DTSTAMP:20260423T092355
CREATED:20230129T033553Z
LAST-MODIFIED:20230129T033553Z
UID:17869-1674925200-1674928800@www.ayclogic.com
SUMMARY:5 PM - Minecraft Modding with Java - Gamas
DESCRIPTION:Homework\n\nGo to workbench and make the texture of your saturn_bear.png much better. Add your creativity on this. On the left side click under Texture section\, click save button. This will update the saturn_bear.png file in your workbench folder. Copy this file to your Intellij project and replace the old saturn_bear.png. the location of the file is in src/resources/assets/aycessentials/textures/entities folder..\nIn your workbench\, Go to File > New > Modded Entity and create a new creature. SaturnTurtle.
URL:https://www.ayclogic.com/event/5-pm-minecraft-modding-with-java-gamas-16/
CATEGORIES:Java,Minecraft Modding With Java
END:VEVENT
BEGIN:VEVENT
DTSTART;TZID=America/Los_Angeles:20230128T180000
DTEND;TZID=America/Los_Angeles:20230128T190000
DTSTAMP:20260423T092355
CREATED:20230128T205425Z
LAST-MODIFIED:20230210T043939Z
UID:17857-1674928800-1674932400@www.ayclogic.com
SUMMARY:6:00 PM – Intro To Python – Juan
DESCRIPTION:Today We Did\n\nVariables\nData Types: Integer\, String\, Double/Float\, Boolean\nAddition\, Subtraction\, Multiplication\, Division\nIn case you need anything\, feel free to email me at juan@ayclogic.com\nView what we covered today at the google drive: https://drive.google.com/drive/folders/15Guajo6GvNi_09_rLw7QNwPyAcz1sBNA\n\nHomework\n\nCreate Jan28_StringHomework.py pages 20-23 copy python codes from the book:\n\nIntroToPythonP20toP23
URL:https://www.ayclogic.com/event/17857/
END:VEVENT
BEGIN:VEVENT
DTSTART;TZID=America/Los_Angeles:20230128T190000
DTEND;TZID=America/Los_Angeles:20230128T200000
DTSTAMP:20260423T092355
CREATED:20230129T041808Z
LAST-MODIFIED:20230129T041808Z
UID:17874-1674932400-1674936000@www.ayclogic.com
SUMMARY:7 PM - Digital Illustration - Abigail
DESCRIPTION:What we did today\n\nWe continued working on Chika drawing.\n\nHomework\n\nUse the paint bucket and eye drop tool to color Chika.\nContinue working on your rough draft for your final.
URL:https://www.ayclogic.com/event/7-pm-digital-illustration-abigail-18/
CATEGORIES:Beginner Digital Illustration,Digital Illustration
END:VEVENT
END:VCALENDAR