BEGIN:VCALENDAR
VERSION:2.0
PRODID:-//American Young Coder - ECPv6.10.1.1//NONSGML v1.0//EN
CALSCALE:GREGORIAN
METHOD:PUBLISH
X-WR-CALNAME:American Young Coder
X-ORIGINAL-URL:https://www.ayclogic.com
X-WR-CALDESC:Events for American Young Coder
REFRESH-INTERVAL;VALUE=DURATION:PT1H
X-Robots-Tag:noindex
X-PUBLISHED-TTL:PT1H
BEGIN:VTIMEZONE
TZID:America/Los_Angeles
BEGIN:DAYLIGHT
TZOFFSETFROM:-0800
TZOFFSETTO:-0700
TZNAME:PDT
DTSTART:20230312T100000
END:DAYLIGHT
BEGIN:STANDARD
TZOFFSETFROM:-0700
TZOFFSETTO:-0800
TZNAME:PST
DTSTART:20231105T090000
END:STANDARD
END:VTIMEZONE
BEGIN:VEVENT
DTSTART;TZID=America/Los_Angeles:20230204T100000
DTEND;TZID=America/Los_Angeles:20230204T110000
DTSTAMP:20260423T080355
CREATED:20230210T225312Z
LAST-MODIFIED:20230210T225312Z
UID:17921-1675504800-1675508400@www.ayclogic.com
SUMMARY:10 AM - Intro To Python - Gamas
DESCRIPTION:What We Did\n\nWe finished reviewing function with return value.\nWe started working on Random module.\n\nHomework\n\nNo homework
URL:https://www.ayclogic.com/event/10-am-intro-to-python-gamas-3/
CATEGORIES:Python Class,Python Level 1
END:VEVENT
BEGIN:VEVENT
DTSTART;TZID=America/Los_Angeles:20230204T160000
DTEND;TZID=America/Los_Angeles:20230204T170000
DTSTAMP:20260423T080355
CREATED:20230211T220809Z
LAST-MODIFIED:20230211T220809Z
UID:17942-1675526400-1675530000@www.ayclogic.com
SUMMARY:4 PM - Python Game Development - Latisha
DESCRIPTION:Today We Did\n\nWe went over the team project progress.\nWe added 2 more sprites for the project so each kid can work independently: Shuriken\, PowerUp.\n\nHomework\n\nContinue working on your team project. The due date is March 18. Make sure to make good progress every week.
URL:https://www.ayclogic.com/event/4-pm-python-game-development-latisha-4/
CATEGORIES:Android Game Development,Java
END:VEVENT
BEGIN:VEVENT
DTSTART;TZID=America/Los_Angeles:20230204T170000
DTEND;TZID=America/Los_Angeles:20230204T180000
DTSTAMP:20260423T080355
CREATED:20230210T213720Z
LAST-MODIFIED:20230212T093056Z
UID:17915-1675530000-1675533600@www.ayclogic.com
SUMMARY:5 PM – Scratch Level 2 – Allison
DESCRIPTION:Today We:\n\nFinished the Mary Had a Little Lamb project using list\nStarted the Supermarket project\nCreated a Categories List\, a Supermarket List\, and a total_price variable\nCoded the Cat sprite to say the categories by using list\nCoded the Watermelon sprite to rotate left and right when the Cat sprite says “Fruit”\nCoded the Watermelon sprite to have a different size\, add the word “Watermelon” to the Shopping Cart list\, change the total price\, and hide if clicked\n\nHomework:\n\nAdd the Apple and Banana sprites\nCode the Watermelon\, Apple\, and Banana to set rotation style all around when the game starts.\nWhen the Cat sprite says “Fruit”\, code the Apple and Banana sprites to rotate left and right (like the Watermelon sprite)\nCode the Apple and Banana sprites to do the same thing as the Watermelon sprite when clicked. Use the information at the bottom to help.\n\nEx: If the player presses the Apple sprite\, the sprite will point in the right direction\, have a bigger size\, and say “Thank you for purchasing an apple. It costs $2”. The apple will be added to the shopping cart\, $2 has been added to the total cost\, the sprite goes back to its original size\, and then the sprite hides.\nApple: $2\nBanana: $3\n\n\nCode the Apple and Banana sprites to show when the game starts.\nContact us if you have any questions or need any help
URL:https://www.ayclogic.com/event/5-pm-scratch-level-2-allison/
CATEGORIES:Scratch Class,Scratch Class Level 2
END:VEVENT
BEGIN:VEVENT
DTSTART;TZID=America/Los_Angeles:20230204T170000
DTEND;TZID=America/Los_Angeles:20230204T180000
DTSTAMP:20260423T080355
CREATED:20230211T220553Z
LAST-MODIFIED:20230211T220553Z
UID:17940-1675530000-1675533600@www.ayclogic.com
SUMMARY:5 PM - Minecraft Modding with Java - Gamas
DESCRIPTION:Today We Did\n\nWe created a custom creature from CEM Template Loader blockbench plugin.\nWe created Saturn Fox.\n\nHomework\n\nNo homework
URL:https://www.ayclogic.com/event/5-pm-minecraft-modding-with-java-gamas-17/
CATEGORIES:Minecraft Modding With Java
END:VEVENT
BEGIN:VEVENT
DTSTART;TZID=America/Los_Angeles:20230204T180000
DTEND;TZID=America/Los_Angeles:20230204T190000
DTSTAMP:20260423T080355
CREATED:20230210T044641Z
LAST-MODIFIED:20230210T044641Z
UID:17909-1675533600-1675537200@www.ayclogic.com
SUMMARY:6:00 PM – Intro To Python – Juan
DESCRIPTION:Today We Did\n\nString functions .upper()\, .lower()\, .title()\nFormatting strings: f-strings\nIn case you need anything\, feel free to email me at juan@ayclogic.com\nView what we covered today at the google drive: https://drive.google.com/drive/folders/15Guajo6GvNi_09_rLw7QNwPyAcz1sBNA\n\nHomework\n\nCreate Feb4_StringHomework.py\, Pg. 25\, Do 2-3\, 2-4\, 2-5\, and 2-6
URL:https://www.ayclogic.com/event/600-pm-intro-to-python-juan/
CATEGORIES:Python Class,Python Level 1
END:VEVENT
END:VCALENDAR