BEGIN:VCALENDAR
VERSION:2.0
PRODID:-//American Young Coder - ECPv6.10.1.1//NONSGML v1.0//EN
CALSCALE:GREGORIAN
METHOD:PUBLISH
X-ORIGINAL-URL:https://www.ayclogic.com
X-WR-CALDESC:Events for American Young Coder
REFRESH-INTERVAL;VALUE=DURATION:PT1H
X-Robots-Tag:noindex
X-PUBLISHED-TTL:PT1H
BEGIN:VTIMEZONE
TZID:America/Los_Angeles
BEGIN:DAYLIGHT
TZOFFSETFROM:-0800
TZOFFSETTO:-0700
TZNAME:PDT
DTSTART:20230312T100000
END:DAYLIGHT
BEGIN:STANDARD
TZOFFSETFROM:-0700
TZOFFSETTO:-0800
TZNAME:PST
DTSTART:20231105T090000
END:STANDARD
END:VTIMEZONE
BEGIN:VEVENT
DTSTART;TZID=America/Los_Angeles:20230211T093000
DTEND;TZID=America/Los_Angeles:20230211T103000
DTSTAMP:20260423T080821
CREATED:20230214T032921Z
LAST-MODIFIED:20230214T032921Z
UID:18003-1676107800-1676111400@www.ayclogic.com
SUMMARY:9:30 AM – Scratch 1 – Yitong
DESCRIPTION:Today we:\n\nAdded sound to Gobo.\nFinished the Ask Gobo project.\nStarted the Funny Faces project.\nMade the Face sprite.\nMade the Eyes sprite.\nMade the Nose sprite.\nLearned about the “go to” block\n\nHomework:\n\nMake 3 different accessories. You must have 3 different sprites.\n\nYou can give your character things like:\n\nHats\nHair\nFacial hair\nBow ties\n\n\n\n\nDrag each sprite to the spot you want them to be and add a “go to” block.\n\nSubmit your homework to this email: yitong@ayclogic.com
URL:https://www.ayclogic.com/event/930-am-scratch-1-yitong-3/
CATEGORIES:Scratch Class,Scratch Class Level 1
END:VEVENT
BEGIN:VEVENT
DTSTART;TZID=America/Los_Angeles:20230211T103000
DTEND;TZID=America/Los_Angeles:20230211T113000
DTSTAMP:20260423T080821
CREATED:20230214T033531Z
LAST-MODIFIED:20230214T033531Z
UID:18006-1676111400-1676115000@www.ayclogic.com
SUMMARY:10:30 AM – Scratch 1 – Yitong
DESCRIPTION:Today we:\n\nStarted the Custom Birthday Card project.\nAdded our mom’s pictures and our own pictures into the sprites.\nAdded the Arrow sprites.\nMade the Shark1\, Shark2\, Birthday Banner\, and Cake sprites glide to and from different areas.\nFinished the Custom Birthday Card project.\nStarted the Punch The Dummy project.\nMade an Eyeball sprite.\nMade a Head sprite.\n\nHomework:\n\nDecorate your Head sprite\n\nYou can give your character things like:\n\nHats\nHair\nFacial hair\n\n\n\n\n\nEmail me if you need help: yitong@ayclogic.com
URL:https://www.ayclogic.com/event/1030-am-scratch-1-yitong-12/
CATEGORIES:Scratch Class,Scratch Class Level 1
END:VEVENT
BEGIN:VEVENT
DTSTART;TZID=America/Los_Angeles:20230211T123000
DTEND;TZID=America/Los_Angeles:20230211T133000
DTSTAMP:20260423T080821
CREATED:20230211T214445Z
LAST-MODIFIED:20230211T214445Z
UID:17938-1676118600-1676122200@www.ayclogic.com
SUMMARY:12:30 PM - Scratch 2 - Abigail
DESCRIPTION:What we did today\n\nWe finished working on the Fireball Fighting project.\n\nHomework\n\nAdd a background to your project.\nAdd music to your project.
URL:https://www.ayclogic.com/event/1230-pm-scratch-2-abigail-13/
CATEGORIES:Scratch Class,Scratch Class Level 2
END:VEVENT
BEGIN:VEVENT
DTSTART;TZID=America/Los_Angeles:20230211T140000
DTEND;TZID=America/Los_Angeles:20230211T150000
DTSTAMP:20260423T080821
CREATED:20230212T000156Z
LAST-MODIFIED:20230216T002447Z
UID:17947-1676124000-1676127600@www.ayclogic.com
SUMMARY:2 PM – Intro To Python – Sebastian
DESCRIPTION:Today We Did\n\nQuiz review homework and more quiz review\nIn case you need anything\, feel free to email me at sebastian@ayclogic.com\n\nHomework\n\nWe will have 2nd quiz on 02/18.\nPrepare for quiz by studying topics:\n\nvariable data types\,\nlists (how to add to list)\,\nfunctions with parameters that can return\,\nrandom module\,\nwhile loops\,\ntaking user input\n\n\nRedo exercises in https://www.ayclogic.com/intro-to-python-exercises/\nRedo exercises in https://www.ayclogic.com/intro-to-python-exercises-for-quiz-2/
URL:https://www.ayclogic.com/event/2-pm-intro-to-python-sebastian-18/
CATEGORIES:Python Class,Python Level 1
END:VEVENT
BEGIN:VEVENT
DTSTART;TZID=America/Los_Angeles:20230211T150000
DTEND;TZID=America/Los_Angeles:20230211T160000
DTSTAMP:20260423T080821
CREATED:20230212T000234Z
LAST-MODIFIED:20230216T002515Z
UID:17949-1676127600-1676131200@www.ayclogic.com
SUMMARY:3 PM – Intro To Python – Sebastian
DESCRIPTION:Today We Did\n\nQuiz review homework and more quiz review\nIn case you need anything\, feel free to email me at sebastian@ayclogic.com\n\nHomework\n\nWe will have 2nd quiz on 02/18.\nPrepare for quiz by studying topics:\n\nvariable data types\,\nlists (how to add to list)\,\nfunctions with parameters that can return\,\nrandom module\,\nwhile loops\,\ntaking user input\n\n\nRedo exercises in https://www.ayclogic.com/intro-to-python-exercises/\nRedo exercises in https://www.ayclogic.com/intro-to-python-exercises-for-quiz-2/
URL:https://www.ayclogic.com/event/3-pm-intro-to-python-sebastian-20/
CATEGORIES:Python Class,Python Level 1
END:VEVENT
BEGIN:VEVENT
DTSTART;TZID=America/Los_Angeles:20230211T160000
DTEND;TZID=America/Los_Angeles:20230211T170000
DTSTAMP:20260423T080821
CREATED:20230214T073630Z
LAST-MODIFIED:20230214T073630Z
UID:18026-1676131200-1676134800@www.ayclogic.com
SUMMARY:4PM - Python Game Development - Latisha
DESCRIPTION:Today We Did\n\nWent over tasks for Final Project\nContinued working on Flappy Bird\n\nHomework\n\nWork on the tasks assigned to you for your Final Project Game\n\nIf you have any questions\, you can ask me at latisha@ayclogic.com.
URL:https://www.ayclogic.com/event/4pm-python-game-development-latisha-17/
END:VEVENT
BEGIN:VEVENT
DTSTART;TZID=America/Los_Angeles:20230211T170000
DTEND;TZID=America/Los_Angeles:20230211T180000
DTSTAMP:20260423T080821
CREATED:20230212T092927Z
LAST-MODIFIED:20230212T092927Z
UID:17962-1676134800-1676138400@www.ayclogic.com
SUMMARY:5 PM – Scratch Level 2 – Allison
DESCRIPTION:Today We:\n\nCreated the Checkout sprite\nCoded the Cat sprite to say the items in the Shopping Cart and say the total cost\nFinished coding the Muffin\, Bread\, Donut\, Jam\, and Milk sprites\nFinished the Supermarket project\n\nHomework:\n\nCreate a new Scratch project and title it “Jumpy Monkey”\nRead and do the codes in the yellow Scratch Book Pg. 92-93\nContact us if you have any questions or need any help
URL:https://www.ayclogic.com/event/5-pm-scratch-level-2-allison-2/
CATEGORIES:Scratch Class,Scratch Class Level 2
END:VEVENT
BEGIN:VEVENT
DTSTART;TZID=America/Los_Angeles:20230211T170000
DTEND;TZID=America/Los_Angeles:20230211T180000
DTSTAMP:20260423T080821
CREATED:20230212T204357Z
LAST-MODIFIED:20230212T204357Z
UID:17969-1676134800-1676138400@www.ayclogic.com
SUMMARY:5 PM - Python Game Development - Bill
DESCRIPTION:Today We:\n\nLearned how to draw images onto the screen\n\nYour HW:\n\nGet your pycharm working\n\nSend an email to gamas@ayclogic.com to schedule time to fix yours if it is still not working
URL:https://www.ayclogic.com/event/5-pm-python-game-development-bill/
END:VEVENT
BEGIN:VEVENT
DTSTART;TZID=America/Los_Angeles:20230211T180000
DTEND;TZID=America/Los_Angeles:20230211T190000
DTSTAMP:20260423T080821
CREATED:20230212T031544Z
LAST-MODIFIED:20230212T031609Z
UID:17957-1676138400-1676142000@www.ayclogic.com
SUMMARY:6:00 PM - Intro to Python - Juan
DESCRIPTION:Today We Did\n\nReviewed last week’s homework assignment: f-strings\, .upper()\, .title()\, .lower()\nLearned about newlines “\n” and tabs “\t”\nLearned about Boolean datatypes\, expressions\, and if-else statements.\nIn case you need anything\, feel free to email me at juan@ayclogic.com\nView what we covered today at the google drive: https://drive.google.com/drive/folders/15Guajo6GvNi_09_rLw7QNwPyAcz1sBNA\n\nHomework\n\nFeb11_If_Else_Homework.py\, Pg. 79-81
URL:https://www.ayclogic.com/event/600-pm-intro-to-python-juan-2/
CATEGORIES:Python Class,Python Level 1
END:VEVENT
BEGIN:VEVENT
DTSTART;TZID=America/Los_Angeles:20230211T190000
DTEND;TZID=America/Los_Angeles:20230211T200000
DTSTAMP:20260423T080821
CREATED:20230212T040835Z
LAST-MODIFIED:20230212T040835Z
UID:17959-1676142000-1676145600@www.ayclogic.com
SUMMARY:7 PM - Digital Illustration - Abigail
DESCRIPTION:What we did today\n\nWe started working on the flowers drawing.\n\nHomework\n\nKeep working on your final project!
URL:https://www.ayclogic.com/event/7-pm-digital-illustration-abigail-19/
CATEGORIES:Beginner Digital Illustration,Digital Illustration
END:VEVENT
END:VCALENDAR