BEGIN:VCALENDAR
VERSION:2.0
PRODID:-//American Young Coder - ECPv6.10.1.1//NONSGML v1.0//EN
CALSCALE:GREGORIAN
METHOD:PUBLISH
X-ORIGINAL-URL:https://www.ayclogic.com
X-WR-CALDESC:Events for American Young Coder
REFRESH-INTERVAL;VALUE=DURATION:PT1H
X-Robots-Tag:noindex
X-PUBLISHED-TTL:PT1H
BEGIN:VTIMEZONE
TZID:America/Los_Angeles
BEGIN:DAYLIGHT
TZOFFSETFROM:-0800
TZOFFSETTO:-0700
TZNAME:PDT
DTSTART:20230312T100000
END:DAYLIGHT
BEGIN:STANDARD
TZOFFSETFROM:-0700
TZOFFSETTO:-0800
TZNAME:PST
DTSTART:20231105T090000
END:STANDARD
END:VTIMEZONE
BEGIN:VEVENT
DTSTART;TZID=America/Los_Angeles:20230214T170000
DTEND;TZID=America/Los_Angeles:20230214T180000
DTSTAMP:20260423T080728
CREATED:20230215T015116Z
LAST-MODIFIED:20230215T015116Z
UID:18050-1676394000-1676397600@www.ayclogic.com
SUMMARY:5 PM - Intro to Python - Gamas
DESCRIPTION:Homework\n\nStart working on your Turtle project and make 25% progress every week. The project is due on March 14. If you guys can submit by March 7\, I will give you guys additional 10% for this project.\nAlso\, for additional 10% more points if you guys do below
URL:https://www.ayclogic.com/event/5-pm-intro-to-python-gamas-8/
CATEGORIES:Python Class,Python Level 1
END:VEVENT
BEGIN:VEVENT
DTSTART;TZID=America/Los_Angeles:20230214T170000
DTEND;TZID=America/Los_Angeles:20230214T180000
DTSTAMP:20260423T080728
CREATED:20230215T015706Z
LAST-MODIFIED:20230222T000051Z
UID:18043-1676394000-1676397600@www.ayclogic.com
SUMMARY:5 PM – Intro To Python – Shawn
DESCRIPTION:What we did\n\nHomework review\nFor loop with range intro\n\nHomework\n\nhttps://www.ayclogic.com/animal-list-and-for-loop-exercises/\nCopy pages 57 to 58\nPut these in a file named Feb14_ForLoopRangeHW.py\n\nIf you have any questions\, don’t hesitate to email me at szhuang@ayclogic.com.
URL:https://www.ayclogic.com/event/5-pm-intro-to-python-shawn-5/
END:VEVENT
BEGIN:VEVENT
DTSTART;TZID=America/Los_Angeles:20230214T180000
DTEND;TZID=America/Los_Angeles:20230214T190000
DTSTAMP:20260423T080728
CREATED:20230215T030045Z
LAST-MODIFIED:20230215T030045Z
UID:18044-1676397600-1676401200@www.ayclogic.com
SUMMARY:6 PM – Intro To Python – Shawn
DESCRIPTION:What we did\n\nIntroduction to Data types (Integer\, String\, Double/Float\, Boolean)\nOperators (Addition\, Subtraction\, Multiplication\, Division)\nVariables – variable names cannot have space!\n\nHomework\n\nIntroToPythonP20toP23\nCopy Python code from textbook pages 20-23\n\nName the file Feb14_StringHomework.py\nRemember to copy the CODE not the OUTPUT\nIgnore the >>> on page 23\nUpload onto your google drive a day before class starts\n\n\n\nIf you have any questions\, don’t hesitate to email me at szhuang@ayclogic.com.
URL:https://www.ayclogic.com/event/6-pm-intro-to-python-shawn/
END:VEVENT
BEGIN:VEVENT
DTSTART;TZID=America/Los_Angeles:20230214T180000
DTEND;TZID=America/Los_Angeles:20230214T190000
DTSTAMP:20260423T080728
CREATED:20230215T034840Z
LAST-MODIFIED:20230215T034840Z
UID:18056-1676397600-1676401200@www.ayclogic.com
SUMMARY:6:00 PM – Scratch 2 – Yitong
DESCRIPTION:Today we:\n\nAdded code to change the LaunchSpeed.\nMade the Level 1 Banner show up when the game starts.\nAdded movement code for the Monkey sprite.\nAdded code for when the Monkey sprite touches the Banana sprite.\n\nHomework:\n\nDo page 100\, #16-18 (do only the first section of code) in your yellow coding book.\n\nEmail me if you need help: yitong@ayclogic.com
URL:https://www.ayclogic.com/event/600-pm-scratch-2-yitong/
CATEGORIES:Scratch Class,Scratch Class Level 2
END:VEVENT
BEGIN:VEVENT
DTSTART;TZID=America/Los_Angeles:20230214T180000
DTEND;TZID=America/Los_Angeles:20230214T190000
DTSTAMP:20260423T080728
CREATED:20230221T082553Z
LAST-MODIFIED:20230221T082553Z
UID:18180-1676397600-1676401200@www.ayclogic.com
SUMMARY:6PM - Digital Illustration 1
DESCRIPTION:TUESDAY \nToday we started the Final Project and also the Hello Kitty in-class project. \n\ndid the sketch for Hello Kitty and Keroppi Frog\n\n \nFINAL PROJECT ASSIGNMENT \nAudrey: Redraw your sketch/lines using a reference image for each of your components. (Dog\, Cow\, Girl\, dog bowl\, and tulip) \nAnnika: Finish your sketch/lines by drawing in the background \nKeep in mind that the project will be due March 14 (last day of class)\, and you want to make good progress every week to be on time. \n 
URL:https://www.ayclogic.com/event/6pm-digital-illustration-1-31/
CATEGORIES:Beginner Digital Illustration,Digital Illustration
END:VEVENT
BEGIN:VEVENT
DTSTART;TZID=America/Los_Angeles:20230214T183000
DTEND;TZID=America/Los_Angeles:20230214T193000
DTSTAMP:20260423T080728
CREATED:20230215T033048Z
LAST-MODIFIED:20230215T033048Z
UID:18058-1676399400-1676403000@www.ayclogic.com
SUMMARY:6:30 PM – Python Object Oriented Programming – Sebastian
DESCRIPTION:Today We Did\n\nReviewed homework and went into further detail about object oriented programming.\nExplained the constructor\, attributes\, methods\, and the difference between objects and classes.\nIn case you need anything\, feel free to email me at sebastian@ayclogic.com\n\nHomework\n\nName your homework FEB14_carclass_hw\, please submit by next Monday.\nHomework:\nPage 162 – TRY IT YOURSELF\nPage 163 to Page 166 – copy code to Thonny and run it.
URL:https://www.ayclogic.com/event/630-pm-python-object-oriented-programming-sebastian-5/
CATEGORIES:OOP Python,Python Class
END:VEVENT
BEGIN:VEVENT
DTSTART;TZID=America/Los_Angeles:20230214T183000
DTEND;TZID=America/Los_Angeles:20230214T193000
DTSTAMP:20260423T080728
CREATED:20230215T033940Z
LAST-MODIFIED:20230215T033940Z
UID:18060-1676399400-1676403000@www.ayclogic.com
SUMMARY:6:30 PM - Scratch 1 - Alison
DESCRIPTION:What we did today\n\nWe started working on the Spiralizer project.\nWe created clones of the ball.\nWe made the ball clones spiral.\nWe deleted the clones when touching the edge.\nWe made a “speed” & “angle” variable.\n\nHomework\n\nDo pages 99-100 on your pink Scratch book.
URL:https://www.ayclogic.com/event/630-pm-scratch-1-alison/
CATEGORIES:Scratch Class,Scratch Class Level 1
END:VEVENT
END:VCALENDAR