BEGIN:VCALENDAR
VERSION:2.0
PRODID:-//American Young Coder - ECPv6.10.1.1//NONSGML v1.0//EN
CALSCALE:GREGORIAN
METHOD:PUBLISH
X-WR-CALNAME:American Young Coder
X-ORIGINAL-URL:https://www.ayclogic.com
X-WR-CALDESC:Events for American Young Coder
REFRESH-INTERVAL;VALUE=DURATION:PT1H
X-Robots-Tag:noindex
X-PUBLISHED-TTL:PT1H
BEGIN:VTIMEZONE
TZID:America/Los_Angeles
BEGIN:DAYLIGHT
TZOFFSETFROM:-0800
TZOFFSETTO:-0700
TZNAME:PDT
DTSTART:20230312T100000
END:DAYLIGHT
BEGIN:STANDARD
TZOFFSETFROM:-0700
TZOFFSETTO:-0800
TZNAME:PST
DTSTART:20231105T090000
END:STANDARD
END:VTIMEZONE
BEGIN:VEVENT
DTSTART;TZID=America/Los_Angeles:20230215T170000
DTEND;TZID=America/Los_Angeles:20230215T180000
DTSTAMP:20260423T080433
CREATED:20230221T085401Z
LAST-MODIFIED:20230221T085401Z
UID:18183-1676480400-1676484000@www.ayclogic.com
SUMMARY:5PM - Digital Illustration 3
DESCRIPTION:WEDNESDAY \nToday we started working on a lesson about clothes and the physics of fabrics. \n   \n  \nHOMEWORK : Final Project preparation (a character in 2 styles) \nPlease fill our this FORM \n 
URL:https://www.ayclogic.com/event/5pm-digital-illustration-3-34/
CATEGORIES:Digital Illustration,Intermediate Digital Illustration
END:VEVENT
BEGIN:VEVENT
DTSTART;TZID=America/Los_Angeles:20230215T180000
DTEND;TZID=America/Los_Angeles:20230215T190000
DTSTAMP:20260423T080433
CREATED:20230216T030049Z
LAST-MODIFIED:20230216T030436Z
UID:18110-1676484000-1676487600@www.ayclogic.com
SUMMARY:6 PM - Python OOP - Gamas
DESCRIPTION:Homework\n\nContinue on WED-6PM-LibrarySystem project\nAdd code to enable\n\nAdd Book\nList all books\nFind book by name\n\n\nYou have to add book class to do this\n\nname\nauthor\npublish_year\nid\n\n\nUse dictionary to store the books.\nWhen you upload the homework to google drive\, please create a folder called LibrarySytem inside your google drive designated folder.
URL:https://www.ayclogic.com/event/6-pm-python-oop-gamas-16/
CATEGORIES:OOP Python,Python Class
END:VEVENT
BEGIN:VEVENT
DTSTART;TZID=America/Los_Angeles:20230215T180000
DTEND;TZID=America/Los_Angeles:20230215T190000
DTSTAMP:20260423T080433
CREATED:20230216T035423Z
LAST-MODIFIED:20230216T035423Z
UID:18111-1676484000-1676487600@www.ayclogic.com
SUMMARY:6 PM – Scratch Level 2 – Allison
DESCRIPTION:Today We:\n\nFinished the Lightning sprite by making it explode.\nAdded the Fireball variable.\nAdded the FireballPowerUp sprite.\nMade the FireballPowerUp sprite create clones of itself and go to random locations on the screen.\nMade the FireballPowerUp fall down the screen. When it touches the edge of the screen\, it gets deleted.\nMade the FireballPowerUp sprite delete itself and increase the Fireball variable by 1 when it touches the Spaceship sprite.\nMade the Fireball variable decrease by 1 when the space key is pressed and the variable is greater than 1.\n\nHomework:\n\n\nAdd a LightningPowerUp sprite.\nMake a Lightning variable.\nSet the Lightning variable to 5.\nMake the LightningPowerUp sprite hide and create clones of itself. After it creates a clone\, make it wait 2 to 5 seconds before creating another clone.\nMake the LightningPowerUp clones go to a random x on the screen and show up at the top of the screen.\nMake the LightningPowerUp clones fall down the screen forever.\nDelete the LightningPowerUp clones if they are near the edge of the screen.\nIf the Rocketship touches a LightningPowerUp clone\, delete the clone and increase the Lightning variable by 1.\nIn the Rocketship\, when the B key is pressed\, if the Lightning variable is greater than 1\, create a Lightning clone and decrease the Lightning variable by 1.\nContact us if you have any questions or need any help: gamas@ayclogic.com or allison@ayclogic.com
URL:https://www.ayclogic.com/event/6-pm-scratch-level-2-allison-2/
CATEGORIES:Scratch Class,Scratch Class Level 2
END:VEVENT
BEGIN:VEVENT
DTSTART;TZID=America/Los_Angeles:20230215T183000
DTEND;TZID=America/Los_Angeles:20230215T193000
DTSTAMP:20260423T080433
CREATED:20230216T034035Z
LAST-MODIFIED:20230216T034256Z
UID:18115-1676485800-1676489400@www.ayclogic.com
SUMMARY:6:30 PM – Intro To Python – Sebastian
DESCRIPTION:Today We Did\n\nPython functions with return values\nReviewed how to call functions\nReviewed what “return” does (where does the return value go?)\nIn case you need anything\, feel free to email me at sebastian@ayclogic.com\n\nHomework\n\nName your homework FEB15_functions_return_hw\, please submit by next Tuesday.\nHomework: Only #1 from here: https://www.ayclogic.com/intro-to-python/star-wars-problem/
URL:https://www.ayclogic.com/event/630-pm-intro-to-python-sebastian-6/
CATEGORIES:Python Class,Python Level 1
END:VEVENT
BEGIN:VEVENT
DTSTART;TZID=America/Los_Angeles:20230215T190000
DTEND;TZID=America/Los_Angeles:20230215T200000
DTSTAMP:20260423T080433
CREATED:20230220T190655Z
LAST-MODIFIED:20230220T190655Z
UID:18161-1676487600-1676491200@www.ayclogic.com
SUMMARY:7PM - OOP Python - Latisha
DESCRIPTION:Today We Did\n\nContinued working on Monster Inheritance\n\nHomework\n\nIn the Wed7PMClass project\, do pg. 168-170 from the textbook in a file called Feb15_InheritanceHomework.py\n\nIf you have any questions\, you can ask me at latisha@ayclogic.com.
URL:https://www.ayclogic.com/event/7pm-oop-python-latisha-30/
END:VEVENT
END:VCALENDAR