BEGIN:VCALENDAR
VERSION:2.0
PRODID:-//American Young Coder - ECPv6.10.1.1//NONSGML v1.0//EN
CALSCALE:GREGORIAN
METHOD:PUBLISH
X-ORIGINAL-URL:https://www.ayclogic.com
X-WR-CALDESC:Events for American Young Coder
REFRESH-INTERVAL;VALUE=DURATION:PT1H
X-Robots-Tag:noindex
X-PUBLISHED-TTL:PT1H
BEGIN:VTIMEZONE
TZID:America/Los_Angeles
BEGIN:DAYLIGHT
TZOFFSETFROM:-0800
TZOFFSETTO:-0700
TZNAME:PDT
DTSTART:20230312T100000
END:DAYLIGHT
BEGIN:STANDARD
TZOFFSETFROM:-0700
TZOFFSETTO:-0800
TZNAME:PST
DTSTART:20231105T090000
END:STANDARD
END:VTIMEZONE
BEGIN:VEVENT
DTSTART;TZID=America/Los_Angeles:20230216T160000
DTEND;TZID=America/Los_Angeles:20230216T170000
DTSTAMP:20260423T080726
CREATED:20230217T010900Z
LAST-MODIFIED:20230217T010900Z
UID:18123-1676563200-1676566800@www.ayclogic.com
SUMMARY:4 PM - Scratch 1 - Abigail
DESCRIPTION:What we did today\n\nWe finished the Dino Dance project.\nWe started working on the Animal race project.\n\nHomework\n\nDo page 55 on your pink Scratch book.
URL:https://www.ayclogic.com/event/4-pm-scratch-1-abigail-2/
CATEGORIES:Scratch Class,Scratch Class Level 1
END:VEVENT
BEGIN:VEVENT
DTSTART;TZID=America/Los_Angeles:20230216T190000
DTEND;TZID=America/Los_Angeles:20230216T200000
DTSTAMP:20260423T080726
CREATED:20230220T190737Z
LAST-MODIFIED:20230220T190737Z
UID:18163-1676574000-1676577600@www.ayclogic.com
SUMMARY:7PM - OOP Python - Latisha
DESCRIPTION:Today We Did\n\nTook the Final Test\n\nHomework\n\nNone\n\nIf you have any questions\, you can ask me at latisha@ayclogic.com.
URL:https://www.ayclogic.com/event/7pm-oop-python-latisha-31/
END:VEVENT
END:VCALENDAR