BEGIN:VCALENDAR
VERSION:2.0
PRODID:-//American Young Coder - ECPv6.10.1.1//NONSGML v1.0//EN
CALSCALE:GREGORIAN
METHOD:PUBLISH
X-ORIGINAL-URL:https://www.ayclogic.com
X-WR-CALDESC:Events for American Young Coder
REFRESH-INTERVAL;VALUE=DURATION:PT1H
X-Robots-Tag:noindex
X-PUBLISHED-TTL:PT1H
BEGIN:VTIMEZONE
TZID:America/Los_Angeles
BEGIN:DAYLIGHT
TZOFFSETFROM:-0800
TZOFFSETTO:-0700
TZNAME:PDT
DTSTART:20230312T100000
END:DAYLIGHT
BEGIN:STANDARD
TZOFFSETFROM:-0700
TZOFFSETTO:-0800
TZNAME:PST
DTSTART:20231105T090000
END:STANDARD
END:VTIMEZONE
BEGIN:VEVENT
DTSTART;TZID=America/Los_Angeles:20230218T093000
DTEND;TZID=America/Los_Angeles:20230218T103000
DTSTAMP:20260423T080820
CREATED:20230218T195540Z
LAST-MODIFIED:20230218T200532Z
UID:18140-1676712600-1676716200@www.ayclogic.com
SUMMARY:9:30 AM – Scratch 1 – Yitong
DESCRIPTION:Today we:\n\nMade the Mouth sprite.\nMade the Bowtie sprite spin.\nMade a sprite change colors.\nMade the Eyebrows sprite get bigger and smaller.\nFinished the Funny Faces project.\n\nHomework:\n\nGo to https://www.ayclogic.com/project-resources/ and get the picture we talked about in class. Ask your parents to help you print it out for the next class. You don’t have to send me an email this time because this is your only homework :]\n\nSubmit your homework to this email: yitong@ayclogic.com
URL:https://www.ayclogic.com/event/930-am-scratch-1-yitong-4/
CATEGORIES:Scratch Class,Scratch Class Level 1
END:VEVENT
BEGIN:VEVENT
DTSTART;TZID=America/Los_Angeles:20230218T100000
DTEND;TZID=America/Los_Angeles:20230218T110000
DTSTAMP:20260423T080820
CREATED:20230218T034250Z
LAST-MODIFIED:20230218T040028Z
UID:18133-1676714400-1676718000@www.ayclogic.com
SUMMARY:10 AM - Indo - Intro To Python - Gamas
DESCRIPTION:Homework\n\nContinue on Feb18_Magic8BallV1.py. Change the code so it can the program can provide more answers:\n\nYes\nNo\nMaybe\nAbsolutely\nNo way\nI am not sure\n\n\nCreate a new file Feb18_Magic8BallV2.py. Create another version of Magic8Ball program\, this time use random.choice.\nOptional homework. But if you do it correctly\, I will increase 10% of your 1st quiz grade. Improve Feb18_PasswordCreator.py\n\n7% – Right now the code produce <action><animal><num>. The improvement will do the following\, it can randomize the order:\n\n<animal><action><num>\n<num><action><animal>\n<action><num><animal>\n\n\n3% – Randomize the upper() and title()\n\n<animal.title()><action.upper()><num>\n<animal.upper()><action.title()><num>
URL:https://www.ayclogic.com/event/10-am-indo-intro-to-python-gamas-5/
CATEGORIES:Python Class,Python Level 1
END:VEVENT
BEGIN:VEVENT
DTSTART;TZID=America/Los_Angeles:20230218T103000
DTEND;TZID=America/Los_Angeles:20230218T233000
DTSTAMP:20260423T080820
CREATED:20230218T195428Z
LAST-MODIFIED:20230218T195428Z
UID:18141-1676716200-1676763000@www.ayclogic.com
SUMMARY:10:30 AM – Scratch 1 – Yitong
DESCRIPTION:Today we:\n\nAdded the Boxing Glove and Pow sprites.\nAdded the Big Boing sound effect.\nMade the Boxing Glove sprite follow the mouse.\nMade the Eyeball and Head sprites move back and forth when the Eyeball sprite touches the Boxing Glove sprite or senses video motion.\nMade the Pow sprite show up at random locations in the top left corner of the screen.\n\nHomework:\n\nYour Head sprite should have 2 costumes\, a happy one and a sad/angry one.\nWhen the game starts\, the Head sprite should have the Happy costume on.\nWhen the Eyeball sprite gets hit\, the Head sprite should switch to the Sad/Angry costume.\nWhen the Eyeball sprite is done getting hit\, the Head sprite should switch back to the Happy costume.\n\nEmail me if you need help: yitong@ayclogic.com
URL:https://www.ayclogic.com/event/1030-am-scratch-1-yitong-14/
CATEGORIES:Scratch Class,Scratch Class Level 1
END:VEVENT
BEGIN:VEVENT
DTSTART;TZID=America/Los_Angeles:20230218T130000
DTEND;TZID=America/Los_Angeles:20230218T140000
DTSTAMP:20260423T080820
CREATED:20230218T222352Z
LAST-MODIFIED:20230218T222352Z
UID:18146-1676725200-1676728800@www.ayclogic.com
SUMMARY:1 PM - Android Game Dev - Gamas
DESCRIPTION:Homework\n\nContinue on TicTacToe project. Do the following inside activity_main.xml:\n\nChange player1Label text to “Player 1”.\nChange the textSize to be 24sp.\nChange the player1Text textSize to be 24sp.\nCreate a new TextView id: player2Label\, text: “Player 2”. This should be under player1Label field.\nCreate a new Plain Text id: player2Text.  This should be under player1Label field.\nAdd a button (“START GAME”) under neath the player2Text.\n\n\nWe want your screen to look like below
URL:https://www.ayclogic.com/event/1-pm-android-game-dev-gamas/
END:VEVENT
BEGIN:VEVENT
DTSTART;TZID=America/Los_Angeles:20230218T140000
DTEND;TZID=America/Los_Angeles:20230218T150000
DTSTAMP:20260423T080820
CREATED:20230218T224600Z
LAST-MODIFIED:20230218T224600Z
UID:18149-1676728800-1676732400@www.ayclogic.com
SUMMARY:2 PM – Intro To Python – Sebastian
DESCRIPTION:Today We Did\n\nQuiz 2\nIn case you need anything\, feel free to email me at sebastian@ayclogic.com\n\nHomework\n\nNo homework\, enjoy the long weekend! 🙂
URL:https://www.ayclogic.com/event/2-pm-intro-to-python-sebastian-19/
CATEGORIES:Python Class,Python Level 1
END:VEVENT
BEGIN:VEVENT
DTSTART;TZID=America/Los_Angeles:20230218T150000
DTEND;TZID=America/Los_Angeles:20230218T160000
DTSTAMP:20260423T080820
CREATED:20230218T224557Z
LAST-MODIFIED:20230218T224557Z
UID:18150-1676732400-1676736000@www.ayclogic.com
SUMMARY:3 PM – Intro To Python – Sebastian
DESCRIPTION:Today We Did\n\nQuiz 2\nIn case you need anything\, feel free to email me at sebastian@ayclogic.com\n\nHomework\n\nNo homework\, enjoy the long weekend! 🙂
URL:https://www.ayclogic.com/event/3-pm-intro-to-python-sebastian-21/
CATEGORIES:Python Class,Python Level 1
END:VEVENT
BEGIN:VEVENT
DTSTART;TZID=America/Los_Angeles:20230218T160000
DTEND;TZID=America/Los_Angeles:20230218T170000
DTSTAMP:20260423T080820
CREATED:20230220T190853Z
LAST-MODIFIED:20230220T190853Z
UID:18165-1676736000-1676739600@www.ayclogic.com
SUMMARY:4PM - Python Game Development - Latisha
DESCRIPTION:Today We Did\n\nWent over tasks for Final Project\nFinished Flappy Bird\n\nHomework\n\nWork on the tasks assigned to you for your Final Project Game\n\nIf you have any questions\, you can ask me at latisha@ayclogic.com.
URL:https://www.ayclogic.com/event/4pm-python-game-development-latisha-18/
END:VEVENT
BEGIN:VEVENT
DTSTART;TZID=America/Los_Angeles:20230218T170000
DTEND;TZID=America/Los_Angeles:20230218T180000
DTSTAMP:20260423T080820
CREATED:20230219T020355Z
LAST-MODIFIED:20230219T020355Z
UID:18153-1676739600-1676743200@www.ayclogic.com
SUMMARY:5 PM - Minecraft Modding with Java - Gamas
DESCRIPTION:Today We Did\n\nWe started migrating our 1.16 minecraft mod project into minecraft 1.19.\n\nHomework\n\nNo homework
URL:https://www.ayclogic.com/event/5-pm-minecraft-modding-with-java-gamas-18/
CATEGORIES:Minecraft Modding With Java
END:VEVENT
BEGIN:VEVENT
DTSTART;TZID=America/Los_Angeles:20230218T180000
DTEND;TZID=America/Los_Angeles:20230218T190000
DTSTAMP:20260423T080820
CREATED:20230219T031023Z
LAST-MODIFIED:20230219T031023Z
UID:18155-1676743200-1676746800@www.ayclogic.com
SUMMARY:6:00 PM - Intro to Python - Juan
DESCRIPTION:Today We Did\n\nReviewed last week’s homework assignment: if and else statements\nLearned about <=\, >=\, ==\, !=\, and elif (else if)\nIn case you need anything\, feel free to email me at juan@ayclogic.com\nView what we covered today at the google drive: https://drive.google.com/drive/folders/15Guajo6GvNi_09_rLw7QNwPyAcz1sBNA\n\nHomework\n\nFeb18_If_Elif_Else_Homework.py\, Page 84\, 5-3\, 5-4
URL:https://www.ayclogic.com/event/600-pm-intro-to-python-juan-3/
CATEGORIES:Python Class,Python Level 1
END:VEVENT
END:VCALENDAR