BEGIN:VCALENDAR
VERSION:2.0
PRODID:-//American Young Coder - ECPv6.10.1.1//NONSGML v1.0//EN
CALSCALE:GREGORIAN
METHOD:PUBLISH
X-WR-CALNAME:American Young Coder
X-ORIGINAL-URL:https://www.ayclogic.com
X-WR-CALDESC:Events for American Young Coder
REFRESH-INTERVAL;VALUE=DURATION:PT1H
X-Robots-Tag:noindex
X-PUBLISHED-TTL:PT1H
BEGIN:VTIMEZONE
TZID:America/Los_Angeles
BEGIN:DAYLIGHT
TZOFFSETFROM:-0800
TZOFFSETTO:-0700
TZNAME:PDT
DTSTART:20230312T100000
END:DAYLIGHT
BEGIN:STANDARD
TZOFFSETFROM:-0700
TZOFFSETTO:-0800
TZNAME:PST
DTSTART:20231105T090000
END:STANDARD
END:VTIMEZONE
BEGIN:VEVENT
DTSTART;TZID=America/Los_Angeles:20230220T080000
DTEND;TZID=America/Los_Angeles:20230220T170000
DTSTAMP:20260423T080419
CREATED:20230220T111233Z
LAST-MODIFIED:20230220T111233Z
UID:18159-1676880000-1676912400@www.ayclogic.com
SUMMARY:5 PM - Indo - Intro To Python - Joel
DESCRIPTION:What we did:\n\nWe learned about random.\nWe went over Magic 8-ball version 1\nWe went over the password generator.\n\nHomework:\n\nCreate a magic 8-ball using random.randint. It will have 6 answers:\n\nYes\nNo\nMaybe\nAbsolutely\nNo way\nI am not sure\n\n\nCreate a new file Feb18_Magic8BallV2.py. Create another version of Magic8Ball program\, this time use random.choice. It will also have the same answers in the first homework.\nOptional homework. But if you do it correctly\, your 1st quiz grade will be increased by 10%. Improve Feb18_PasswordCreator.py\n\n7% – Right now the code produce <action><animal><num>. The improvement will do the following\, it can randomize the order:\n\n<animal><action><num>\n<num><action><animal>\n<action><num><animal>\n\n\n3% – Randomize the upper() and title()\n\n<animal.title()><action.upper()><num>\n<animal.upper()><action.title()><num>
URL:https://www.ayclogic.com/event/5-pm-indo-intro-to-python-joel/
END:VEVENT
BEGIN:VEVENT
DTSTART;TZID=America/Los_Angeles:20230220T160000
DTEND;TZID=America/Los_Angeles:20230220T170000
DTSTAMP:20260423T080419
CREATED:20230221T005713Z
LAST-MODIFIED:20230221T005713Z
UID:18169-1676908800-1676912400@www.ayclogic.com
SUMMARY:4 PM - Scratch Level 1 - Alex
DESCRIPTION:Today We Did:\n\nContinued the Window Cleaner project\nLearned how to use the camera sensor to erase the splats.\n\nFor Homework:\n\nIf the countdown is less than 10\, play the boing sound every time until it reaches 0 seconds.
URL:https://www.ayclogic.com/event/4-pm-scratch-level-1-alex-2/
CATEGORIES:Scratch Class,Scratch Class Level 1
END:VEVENT
BEGIN:VEVENT
DTSTART;TZID=America/Los_Angeles:20230220T170000
DTEND;TZID=America/Los_Angeles:20230220T180000
DTSTAMP:20260423T080419
CREATED:20230223T023821Z
LAST-MODIFIED:20230223T023821Z
UID:18214-1676912400-1676916000@www.ayclogic.com
SUMMARY:5 PM - Python OOP - Bill
DESCRIPTION:Today We:\n\nReviewed Last week’s homework\nContinued the grocery system v3 project\n\nYour HW:\n\nMake sure your files are organized\n\nYou should have 1 folder on your desktop called Mon5pmOOPProjects\nIn that folder you should have your GrocerySystem project folder which you open in pycharm\nYour “main” and “grocery_item” files should be in a folder called “src” inside that GrocerySystem project folder
URL:https://www.ayclogic.com/event/5-pm-python-oop-bill-33/
END:VEVENT
END:VCALENDAR