BEGIN:VCALENDAR
VERSION:2.0
PRODID:-//American Young Coder - ECPv6.10.1.1//NONSGML v1.0//EN
CALSCALE:GREGORIAN
METHOD:PUBLISH
X-ORIGINAL-URL:https://www.ayclogic.com
X-WR-CALDESC:Events for American Young Coder
REFRESH-INTERVAL;VALUE=DURATION:PT1H
X-Robots-Tag:noindex
X-PUBLISHED-TTL:PT1H
BEGIN:VTIMEZONE
TZID:America/Los_Angeles
BEGIN:DAYLIGHT
TZOFFSETFROM:-0800
TZOFFSETTO:-0700
TZNAME:PDT
DTSTART:20230312T100000
END:DAYLIGHT
BEGIN:STANDARD
TZOFFSETFROM:-0700
TZOFFSETTO:-0800
TZNAME:PST
DTSTART:20231105T090000
END:STANDARD
END:VTIMEZONE
BEGIN:VEVENT
DTSTART;TZID=America/Los_Angeles:20230221T170000
DTEND;TZID=America/Los_Angeles:20230221T180000
DTSTAMP:20260423T080734
CREATED:20230222T015538Z
LAST-MODIFIED:20230225T003606Z
UID:18192-1676998800-1677002400@www.ayclogic.com
SUMMARY:5 PM – Intro To Python – Shawn
DESCRIPTION:What we did\n\nHomework review\nWhile loop intro\n\nHomework\n\nCopy pages 118 and 121\nPut these in a file named Feb21_WhileLoopHW.py\n\nIf you have any questions\, don’t hesitate to email me at szhuang@ayclogic.com.
URL:https://www.ayclogic.com/event/5-pm-intro-to-python-shawn-7/
END:VEVENT
BEGIN:VEVENT
DTSTART;TZID=America/Los_Angeles:20230221T170000
DTEND;TZID=America/Los_Angeles:20230221T180000
DTSTAMP:20260423T080734
CREATED:20230222T020341Z
LAST-MODIFIED:20230222T020420Z
UID:18194-1676998800-1677002400@www.ayclogic.com
SUMMARY:5 PM - Intro To Python - Gamas
DESCRIPTION:Today We Did\n\nWe continued on Feb14_GroceryShoppingCart.py.\n\nAdded codes to keep track of total price.\nAdded codes to response differently depending on the selection.\n\n\n\nHomework\n\nContinue on your turtle python project. The project is due on March 14. If you guys can submit by March 7\, I will give you guys additional 10% for this project.\nIf you have question\, please let me know at gamas@ayclogic.com.
URL:https://www.ayclogic.com/event/5-pm-intro-to-python-gamas-9/
CATEGORIES:Python Class,Python Level 1
END:VEVENT
BEGIN:VEVENT
DTSTART;TZID=America/Los_Angeles:20230221T180000
DTEND;TZID=America/Los_Angeles:20230221T190000
DTSTAMP:20260423T080734
CREATED:20230222T030553Z
LAST-MODIFIED:20230222T030553Z
UID:18199-1677002400-1677006000@www.ayclogic.com
SUMMARY:6:00 PM – Scratch 2 – Yitong
DESCRIPTION:Today we:\n\nAdded gravity to the Monkey sprite.\nAdded the Level variable.\nMade a ShowLevel MyBlock in the Level Banner sprite.\nAdded conditions for when the Monkey sprite collects all the Banana clones.\n\nHomework:\n\nWhen level 2 starts\, make the Monkey sprite restart at the Arrow (Launcher) sprite.\nWhen level 2 starts\, make the Level Banner sprite show the Level 2 costume.\nAdd the Dinosaur3 sprite. Make it hide when the game starts. Make it show up when level 2 starts.\nWhen level 2 starts\, make 4 Banana clones show up.\n\nEmail me if you need help: yitong@ayclogic.com
URL:https://www.ayclogic.com/event/600-pm-scratch-2-yitong-2/
CATEGORIES:Scratch Class,Scratch Class Level 2
END:VEVENT
BEGIN:VEVENT
DTSTART;TZID=America/Los_Angeles:20230221T180000
DTEND;TZID=America/Los_Angeles:20230221T190000
DTSTAMP:20260423T080734
CREATED:20230222T030621Z
LAST-MODIFIED:20230222T030633Z
UID:18191-1677002400-1677006000@www.ayclogic.com
SUMMARY:6 PM – Intro To Python – Shawn
DESCRIPTION:What we did\n\nHomework review\nString functions and escape characters\n\nHomework\n\nCreate a file named Feb21_StringHomework2.py\nFrom page 25\, do the TRY IT YOURSELF problems – 2-3\, 2-4\, 2-5 and 2-6\n\nhttps://drive.google.com/file/d/1s6gJdU4HalqMx6HOU52ihqJ5VYT273qv/view?usp=sharing \n\n\n\nIf you have any questions\, don’t hesitate to email me at szhuang@ayclogic.com.
URL:https://www.ayclogic.com/event/6-pm-intro-to-python-shawn-2/
END:VEVENT
BEGIN:VEVENT
DTSTART;TZID=America/Los_Angeles:20230221T180000
DTEND;TZID=America/Los_Angeles:20230221T190000
DTSTAMP:20260423T080734
CREATED:20230225T215205Z
LAST-MODIFIED:20230225T215205Z
UID:18242-1677002400-1677006000@www.ayclogic.com
SUMMARY:6PM - Digital Illustration 1
DESCRIPTION:TUESDAY \nToday we continued the Hello Kitty in-class project and also continued reviewing progress of the final project. \n\nWe added the lines on a new layer\nWe added the flat colors on a different new layer\n\n \n  \nFINAL PROJECT ASSIGNMENT \n\nAudrey: Do the lines for your whole project\, including the background. My suggestion is to do each component on a separate layer. For example\, Background is Layer 1\, Elsa is Layer 2\, Anna is Layer 3\, and so on.\nAnnika: finish adding the flat colors for your whole project. I think you are already doing your different components on separate layers\, so that is good and continue to do that.
URL:https://www.ayclogic.com/event/6pm-digital-illustration-1-32/
CATEGORIES:Beginner Digital Illustration,Digital Illustration
END:VEVENT
BEGIN:VEVENT
DTSTART;TZID=America/Los_Angeles:20230221T183000
DTEND;TZID=America/Los_Angeles:20230221T193000
DTSTAMP:20260423T080734
CREATED:20230222T032744Z
LAST-MODIFIED:20230222T032744Z
UID:18198-1677004200-1677007800@www.ayclogic.com
SUMMARY:6:30 PM – Python Object Oriented Programming – Sebastian
DESCRIPTION:Today We Did\n\nGrocery System Using Class and dictionary\nIn case you need anything\, feel free to email me at sebastian@ayclogic.com\n\nHomework\n\nName your homework FEB21_restaurant_hw\, please submit by next Monday.\nHomework: Page 167 – TRY IT YOURSELF
URL:https://www.ayclogic.com/event/630-pm-python-object-oriented-programming-sebastian-6/
CATEGORIES:OOP Python,Python Class
END:VEVENT
BEGIN:VEVENT
DTSTART;TZID=America/Los_Angeles:20230221T183000
DTEND;TZID=America/Los_Angeles:20230221T193000
DTSTAMP:20260423T080734
CREATED:20230222T061617Z
LAST-MODIFIED:20230222T061617Z
UID:18206-1677004200-1677007800@www.ayclogic.com
SUMMARY:6:30 PM – Scratch Level 1 – Allison
DESCRIPTION:Today We:\n\nFinished the Spiralizer project\nStarted the Tunnel of Doom project\nCreated the Tunnel sprite\nCoded the Cat sprite to follow the mouse until touching the Tunnel sprite\n\nImportant Reminders:\n\nAfter you finish your homework in Scratch\, send an email to allison@ayclogic.com by Monday at 8 PM. In that email\, write down your name and a link to your shared Scratch project homework. Make sure to share your Scratch project.\n\nHomework:\n\nCreate two new costumes for your Tunnel sprite (so you should have three costumes in total). Each costume must look different from each other.\nRead and do the codes in the Scratch Book Pg. 129-132.\nContact us at gamas@ayclogic.com or allison@ayclogic.com if you have any questions or need any help.
URL:https://www.ayclogic.com/event/630-pm-scratch-level-1-allison-23/
CATEGORIES:Scratch Class,Scratch Class Level 1
END:VEVENT
END:VCALENDAR