BEGIN:VCALENDAR
VERSION:2.0
PRODID:-//American Young Coder - ECPv6.10.1.1//NONSGML v1.0//EN
CALSCALE:GREGORIAN
METHOD:PUBLISH
X-ORIGINAL-URL:https://www.ayclogic.com
X-WR-CALDESC:Events for American Young Coder
REFRESH-INTERVAL;VALUE=DURATION:PT1H
X-Robots-Tag:noindex
X-PUBLISHED-TTL:PT1H
BEGIN:VTIMEZONE
TZID:America/Los_Angeles
BEGIN:DAYLIGHT
TZOFFSETFROM:-0800
TZOFFSETTO:-0700
TZNAME:PDT
DTSTART:20230312T100000
END:DAYLIGHT
BEGIN:STANDARD
TZOFFSETFROM:-0700
TZOFFSETTO:-0800
TZNAME:PST
DTSTART:20231105T090000
END:STANDARD
END:VTIMEZONE
BEGIN:VEVENT
DTSTART;TZID=America/Los_Angeles:20230222T170000
DTEND;TZID=America/Los_Angeles:20230222T180000
DTSTAMP:20260423T080820
CREATED:20230225T220419Z
LAST-MODIFIED:20230225T220419Z
UID:18247-1677085200-1677088800@www.ayclogic.com
SUMMARY:5PM - Digital Illustration 3
DESCRIPTION:WEDNESDAY \nToday we continued the lesson about clothes and the physics of fabrics. \n   \n  \nHOMEWORK : FINAL PROJECT \nTime to start your final project! You can choose either your Style 1 or Style 2 to begin with. Do the sketch\, and the lines. Bring it to the next class ready to show and talk about\, especially if you have questions or need some help on aspects of your project. 🙂 \n  \n 
URL:https://www.ayclogic.com/event/5pm-digital-illustration-3-35/
CATEGORIES:Digital Illustration,Intermediate Digital Illustration
END:VEVENT
BEGIN:VEVENT
DTSTART;TZID=America/Los_Angeles:20230222T180000
DTEND;TZID=America/Los_Angeles:20230222T180000
DTSTAMP:20260423T080820
CREATED:20230223T025729Z
LAST-MODIFIED:20230223T025729Z
UID:18216-1677088800-1677088800@www.ayclogic.com
SUMMARY:6 PM - Python OOP - Gamas
DESCRIPTION:Homework\n\nContinue on LibrarySystem\nAdd new feature “5. List all old books”. Old books means books.publishing_year < 2000.\n\nPlease look at below options\n1. Add book\n2. List all books\n3. Find book by name\n4. Find book by id\n5. List all old books\nEnter your selection. Enter 'quit' to exit: 5\n\nNarnia - 1950 - CS Lewis\nLord of the rings - 1960 - JRR Tolkien\n\nPlease look at below options\n1. Add book\n2. List all books\n3. Find book by name\n4. Find book by id\n5. List all old books\nEnter your selection. Enter 'quit' to exit: 2\n\nNarnia - 1950 - CS Lewis\nLord of the rings - 1960 - JRR Tolkien\nLightning Thief - 2001 - Vincent
URL:https://www.ayclogic.com/event/6-pm-python-oop-gamas-17/
CATEGORIES:OOP Python,Python Class
END:VEVENT
BEGIN:VEVENT
DTSTART;TZID=America/Los_Angeles:20230222T180000
DTEND;TZID=America/Los_Angeles:20230222T190000
DTSTAMP:20260423T080820
CREATED:20230223T180825Z
LAST-MODIFIED:20230301T230107Z
UID:18219-1677088800-1677092400@www.ayclogic.com
SUMMARY:6 PM – Scratch Level 2 – Allison
DESCRIPTION:Today we:\n\nContinued the Spaceship 2.0 project\nStarted the Fantastic Flowers project\nAdded a Ball sprite\nCoded the Ball sprite to move and leave stamps to create a flower\nCoded all stamps to erase when the player presses the space key\nLearned about “My Blocks”\n\nImportant Reminders:\n\nAfter you finish your homework in Scratch\, send an email to allison@ayclogic.com by Tuesday at 8 PM. In that email\, write down your name and a link to your shared Scratch project homework. Make sure to share your Scratch project.\n\nHomework:\n\nIn your Spaceship 2.0 project:\n\nCode music to forever play during the game\nCode different music to forever play when the game is over\nCode different music to forever play when the player wins the game\n\n\nContact us if you have any questions or need any help
URL:https://www.ayclogic.com/event/6-pm-scratch-level-2-allison-3/
CATEGORIES:Scratch Class,Scratch Class Level 2
END:VEVENT
BEGIN:VEVENT
DTSTART;TZID=America/Los_Angeles:20230222T183000
DTEND;TZID=America/Los_Angeles:20230222T193000
DTSTAMP:20260423T080820
CREATED:20230223T022236Z
LAST-MODIFIED:20230223T032650Z
UID:18210-1677090600-1677094200@www.ayclogic.com
SUMMARY:6:30 PM – Intro To Python – Sebastian
DESCRIPTION:Today We Did\n\nHow to generate a random number\nHow to get a random element from a list\nIn case you need anything\, feel free to email me at sebastian@ayclogic.com\n\nHomework\n\nName your homework FEB22_magic8ball_hw\, please submit by next Monday.\nHomework: Follow the instructions given by the following link:\nhttps://www.ayclogic.com/intro-to-python/magic-8-ball/
URL:https://www.ayclogic.com/event/630-pm-intro-to-python-sebastian-7/
CATEGORIES:Python Class,Python Level 1
END:VEVENT
BEGIN:VEVENT
DTSTART;TZID=America/Los_Angeles:20230222T190000
DTEND;TZID=America/Los_Angeles:20230222T200000
DTSTAMP:20260423T080820
CREATED:20230228T023027Z
LAST-MODIFIED:20230228T023027Z
UID:18274-1677092400-1677096000@www.ayclogic.com
SUMMARY:7PM - OOP Python - Latisha
DESCRIPTION:Today We Did\n\nContinued working on Monster Inheritance\n\nHomework\n\nIn the Wed7PMClass project\, do pg. 173 DO-IT-YOURSELF 9-6 and 9-7 from the textbook in a file called Feb22_InheritanceHomework2.py\n\nIf you have any questions\, you can ask me at latisha@ayclogic.com.
URL:https://www.ayclogic.com/event/7pm-oop-python-latisha-32/
END:VEVENT
END:VCALENDAR