BEGIN:VCALENDAR
VERSION:2.0
PRODID:-//American Young Coder - ECPv6.10.1.1//NONSGML v1.0//EN
CALSCALE:GREGORIAN
METHOD:PUBLISH
X-WR-CALNAME:American Young Coder
X-ORIGINAL-URL:https://www.ayclogic.com
X-WR-CALDESC:Events for American Young Coder
REFRESH-INTERVAL;VALUE=DURATION:PT1H
X-Robots-Tag:noindex
X-PUBLISHED-TTL:PT1H
BEGIN:VTIMEZONE
TZID:America/Los_Angeles
BEGIN:DAYLIGHT
TZOFFSETFROM:-0800
TZOFFSETTO:-0700
TZNAME:PDT
DTSTART:20230312T100000
END:DAYLIGHT
BEGIN:STANDARD
TZOFFSETFROM:-0700
TZOFFSETTO:-0800
TZNAME:PST
DTSTART:20231105T090000
END:STANDARD
END:VTIMEZONE
BEGIN:VEVENT
DTSTART;TZID=America/Los_Angeles:20230225T070000
DTEND;TZID=America/Los_Angeles:20230225T200000
DTSTAMP:20260423T080435
CREATED:20230226T044544Z
LAST-MODIFIED:20230226T044544Z
UID:18264-1677308400-1677355200@www.ayclogic.com
SUMMARY:7 PM - Digital Illustration - Abigail
DESCRIPTION:What we did today\n\nWe finished working on the Flower drawing.\nWe started working on the Eevee drawing.\n\nHomework\n\nKeep woking on you final project.
URL:https://www.ayclogic.com/event/7-pm-digital-illustration-abigail-20/
CATEGORIES:Beginner Digital Illustration,Digital Illustration
END:VEVENT
BEGIN:VEVENT
DTSTART;TZID=America/Los_Angeles:20230225T093000
DTEND;TZID=America/Los_Angeles:20230225T103000
DTSTAMP:20260423T080435
CREATED:20230225T201047Z
LAST-MODIFIED:20230225T201047Z
UID:18238-1677317400-1677321000@www.ayclogic.com
SUMMARY:9:30 AM – Scratch 1 – Yitong
DESCRIPTION:Today we:\n\nLearned about coordinates\, the x-axis\, and the y-axis.\nStarted the Draw Shapes project.\nLearned about the pen extension.\nMade the Cat sprite draw the square and rectangle.\n\nHomework:\n\nFind all the coordinates for the octagon.\nMake the Cat sprite draw the triangle and the octagon.\nSeparate the code for each shape using “broadcast” and “when I receive” blocks.\n\nSubmit your homework to this email: yitong@ayclogic.com
URL:https://www.ayclogic.com/event/930-am-scratch-1-yitong-5/
CATEGORIES:Scratch Class,Scratch Class Level 1
END:VEVENT
BEGIN:VEVENT
DTSTART;TZID=America/Los_Angeles:20230225T100000
DTEND;TZID=America/Los_Angeles:20230225T110000
DTSTAMP:20260423T080435
CREATED:20230225T040306Z
LAST-MODIFIED:20230225T040306Z
UID:18234-1677319200-1677322800@www.ayclogic.com
SUMMARY:10 AM - Indo - Intro To Python - Gamas
DESCRIPTION:Homework\n\nCreate Feb25_FixPythonErrorHomework.py\nCopy broken codes from https://www.ayclogic.com/fixing-python-bugs/
URL:https://www.ayclogic.com/event/10-am-indo-intro-to-python-gamas-6/
END:VEVENT
BEGIN:VEVENT
DTSTART;TZID=America/Los_Angeles:20230225T103000
DTEND;TZID=America/Los_Angeles:20230225T113000
DTSTAMP:20260423T080435
CREATED:20230225T195409Z
LAST-MODIFIED:20230225T195409Z
UID:18236-1677321000-1677324600@www.ayclogic.com
SUMMARY:10:30 AM – Scratch 1 – Yitong
DESCRIPTION:Today we:\n\nFinished the Punch The Dummy project.\nStarted the Mary Had A Little Lamb project.\nMade the Do\, Re\, Mi\, Fa\, and Sol sprites.\nMade each note sprite play a sound and change size and color.\nAdded a Conductor sprite.\nFinished the first and second bars.\n\nHomework:\n\nFollowing the sheet music\, do the 3rd and the 4th bars in the Conductor sprite.\nSeparate each bar using the “broadcast” and “when I receive” blocks.\n\nEmail me if you need help: yitong@ayclogic.com
URL:https://www.ayclogic.com/event/1030-am-scratch-1-yitong-15/
CATEGORIES:Scratch Class,Scratch Class Level 1
END:VEVENT
BEGIN:VEVENT
DTSTART;TZID=America/Los_Angeles:20230225T120000
DTEND;TZID=America/Los_Angeles:20230225T130000
DTSTAMP:20260423T080435
CREATED:20230225T205253Z
LAST-MODIFIED:20230225T205253Z
UID:18240-1677326400-1677330000@www.ayclogic.com
SUMMARY:12 PM - Android Game Development - Gamas
DESCRIPTION:Homework\n\nEverytime the player kills a bird\, increase score by one.\nDisplay score in the top middle of the screen.
URL:https://www.ayclogic.com/event/12-pm-android-game-development-gamas-11/
CATEGORIES:Android Game Development,Java
END:VEVENT
BEGIN:VEVENT
DTSTART;TZID=America/Los_Angeles:20230225T123000
DTEND;TZID=America/Los_Angeles:20230225T133000
DTSTAMP:20260423T080435
CREATED:20230225T214556Z
LAST-MODIFIED:20230225T214556Z
UID:18244-1677328200-1677331800@www.ayclogic.com
SUMMARY:12:30 PM - Scratch 2 - Abigail
DESCRIPTION:What we did today\n\nWe went over and reviewed older projects as preparation for the test.\n\nHomework\n\nStudy the things we went over during class.\nGood luck on your test! 😀
URL:https://www.ayclogic.com/event/1230-pm-scratch-2-abigail-14/
CATEGORIES:Scratch Class,Scratch Class Level 2
END:VEVENT
BEGIN:VEVENT
DTSTART;TZID=America/Los_Angeles:20230225T130000
DTEND;TZID=America/Los_Angeles:20230225T140000
DTSTAMP:20260423T080435
CREATED:20230225T220851Z
LAST-MODIFIED:20230225T220851Z
UID:18252-1677330000-1677333600@www.ayclogic.com
SUMMARY:1 PM - Android Game Development - Gamas
DESCRIPTION:Homework\n\nInside activity_main.xml\, adjust player1Label and player2Label topConstraint so it will look vertically aligned with the player1Text and player2Text.\nInside activity_game.xml\, set the background image to background_img.png\n\n 
URL:https://www.ayclogic.com/event/1-pm-android-game-development-gamas/
CATEGORIES:Android Game Development,Java
END:VEVENT
BEGIN:VEVENT
DTSTART;TZID=America/Los_Angeles:20230225T140000
DTEND;TZID=America/Los_Angeles:20230225T150000
DTSTAMP:20260423T080435
CREATED:20230225T225727Z
LAST-MODIFIED:20230301T034125Z
UID:18254-1677333600-1677337200@www.ayclogic.com
SUMMARY:2 PM – Intro To Python – Sebastian
DESCRIPTION:Today We Did\n\nBasic turtle\npenup()\, pendown()\nbgcolor()\, color()\nbegin_fill()\, end_fill()\ngoto()\nIn case you need anything\, feel free to email me at sebastian@ayclogic.com\n\nHomework\n\nName your homework FEB25_turtle_hw.py\, please submit by next Friday.\nHomework: Remember to name it FEB25_turtle_hw.py\, not what the website says. Homework link here:\nhttps://www.ayclogic.com/event/6-pm-intro-to-python-46/
URL:https://www.ayclogic.com/event/2-pm-intro-to-python-sebastian-20/
CATEGORIES:Python Class,Python Level 1
END:VEVENT
BEGIN:VEVENT
DTSTART;TZID=America/Los_Angeles:20230225T150000
DTEND;TZID=America/Los_Angeles:20230225T160000
DTSTAMP:20260423T080435
CREATED:20230226T002103Z
LAST-MODIFIED:20230301T034045Z
UID:18256-1677337200-1677340800@www.ayclogic.com
SUMMARY:3 PM – Intro To Python – Sebastian
DESCRIPTION:Today We Did\n\nBasic turtle\npenup()\, pendown()\nbgcolor()\, color()\nbegin_fill()\, end_fill()\ngoto()\nIn case you need anything\, feel free to email me at sebastian@ayclogic.com\n\nHomework\n\nName your homework FEB25_turtle_hw.py\, please submit by next Friday.\nHomework: Remember to name it FEB25_turtle_hw.py\, not what the website says. Homework link here\, only start with drawing a square (#3):\nhttps://www.ayclogic.com/event/6-pm-intro-to-python-46/
URL:https://www.ayclogic.com/event/2-pm-intro-to-python-sebastian-21/
CATEGORIES:Python Class,Python Level 1
END:VEVENT
BEGIN:VEVENT
DTSTART;TZID=America/Los_Angeles:20230225T170000
DTEND;TZID=America/Los_Angeles:20230225T180000
DTSTAMP:20260423T080435
CREATED:20230226T183506Z
LAST-MODIFIED:20230226T183506Z
UID:18261-1677344400-1677348000@www.ayclogic.com
SUMMARY:5 PM - Python Game Development - Bill
DESCRIPTION:Today We:\n\nLearned about moving images\nLearned about resizing images\n\nYour HW:\n\nLoad 3 more birds\n“bird02_A.png”\n“bird03_A.png”\n“bird04_A.png”\nMake sure to resize all of them\nMake it so that bird2 moves from right to left (Starts from Bottom Right)\n\nbird3 moves from bottom up (Starts from Bottom Left)\nbird4 moves diagonally from top right to bottom left
URL:https://www.ayclogic.com/event/5-pm-python-game-development-bill-2/
END:VEVENT
BEGIN:VEVENT
DTSTART;TZID=America/Los_Angeles:20230225T170000
DTEND;TZID=America/Los_Angeles:20230225T180000
DTSTAMP:20260423T080435
CREATED:20230228T090340Z
LAST-MODIFIED:20230228T090340Z
UID:18280-1677344400-1677348000@www.ayclogic.com
SUMMARY:5 PM – Scratch Level 2 – Allison
DESCRIPTION:Today We:\n\nStarted the Jumpy Monkey project\nCoded the Monkey sprite to jump\nCoded the Banana sprite to create clones\nRandomized the place\, size\, and color of the Banana clones\n\nHomework:\n\nAdd a Tree sprite\nRead and do the codes in the yellow Scratch Book Pg. 96-98\nContact us if you have any questions or need any help
URL:https://www.ayclogic.com/event/5-pm-scratch-level-2-allison-3/
CATEGORIES:Scratch Class,Scratch Class Level 2
END:VEVENT
END:VCALENDAR