BEGIN:VCALENDAR
VERSION:2.0
PRODID:-//American Young Coder - ECPv6.10.1.1//NONSGML v1.0//EN
CALSCALE:GREGORIAN
METHOD:PUBLISH
X-WR-CALNAME:American Young Coder
X-ORIGINAL-URL:https://www.ayclogic.com
X-WR-CALDESC:Events for American Young Coder
REFRESH-INTERVAL;VALUE=DURATION:PT1H
X-Robots-Tag:noindex
X-PUBLISHED-TTL:PT1H
BEGIN:VTIMEZONE
TZID:America/Los_Angeles
BEGIN:DAYLIGHT
TZOFFSETFROM:-0800
TZOFFSETTO:-0700
TZNAME:PDT
DTSTART:20230312T100000
END:DAYLIGHT
BEGIN:STANDARD
TZOFFSETFROM:-0700
TZOFFSETTO:-0800
TZNAME:PST
DTSTART:20231105T090000
END:STANDARD
END:VTIMEZONE
BEGIN:VEVENT
DTSTART;TZID=America/Los_Angeles:20230307T170000
DTEND;TZID=America/Los_Angeles:20230307T180000
DTSTAMP:20260423T063516
CREATED:20230308T004201Z
LAST-MODIFIED:20230308T004201Z
UID:18377-1678208400-1678212000@www.ayclogic.com
SUMMARY:5 PM – Intro To Python – Shawn
DESCRIPTION:What we did\n\nHomework review\nReview before quiz\n\nHomework\n\nDo these exercises: https://www.ayclogic.com/intro-to-python-exercises/\nPut these in a file named Mar7_QuizReviewHW.py\n\nIf you have any questions\, please don’t hesitate to email me at szhuang@ayclogic.com.
URL:https://www.ayclogic.com/event/5-pm-intro-to-python-shawn-11/
END:VEVENT
BEGIN:VEVENT
DTSTART;TZID=America/Los_Angeles:20230307T170000
DTEND;TZID=America/Los_Angeles:20230307T180000
DTSTAMP:20260423T063516
CREATED:20230308T041927Z
LAST-MODIFIED:20230308T041927Z
UID:18396-1678208400-1678212000@www.ayclogic.com
SUMMARY:5 PM - Intro To Python - Gamas
DESCRIPTION:Homework\n\nNext week is 2 hours final test. The test is an open book test.\nPlease study the following\n\nRobux Shopping Cart\nGrocery Shopping Cart\nTurtle codes\, like draw face.\n\n\nAll python files that we have done in the class can be found in https://drive.google.com/drive/u/0/folders/10gSNvKsNKHapu_-rKAYYOR56UVBblwp2
URL:https://www.ayclogic.com/event/5-pm-intro-to-python-gamas-12/
CATEGORIES:Python Class,Python Level 1
END:VEVENT
BEGIN:VEVENT
DTSTART;TZID=America/Los_Angeles:20230307T180000
DTEND;TZID=America/Los_Angeles:20230307T190000
DTSTAMP:20260423T063516
CREATED:20230308T004526Z
LAST-MODIFIED:20230314T015238Z
UID:18379-1678212000-1678215600@www.ayclogic.com
SUMMARY:6 PM – Intro To Python – Shawn
DESCRIPTION:What we did\n\nHomework review\nIf else review (all the operators\, indentation)\nAnd or not statements\nNested if statements\nInput from shell\n\nHomework\n\nCreate a file named Mar7_IfElseHomework2.py\nDo 5-3 and 5-4 from page 84\nDo number 3 only from https://www.ayclogic.com/list-inputs-if-and-else-loops-and-function/\n\nIf you have any questions\, don’t hesitate to email me at szhuang@ayclogic.com.
URL:https://www.ayclogic.com/event/6-pm-intro-to-python-shawn-4/
END:VEVENT
BEGIN:VEVENT
DTSTART;TZID=America/Los_Angeles:20230307T180000
DTEND;TZID=America/Los_Angeles:20230307T190000
DTSTAMP:20260423T063516
CREATED:20230308T030905Z
LAST-MODIFIED:20230308T031026Z
UID:18385-1678212000-1678215600@www.ayclogic.com
SUMMARY:6:00 PM – Scratch 2 – Yitong
DESCRIPTION:Today we:\n\nStarted the Fireball Fight project.\nAdded the Left Player and Right Player sprites.\nAdded movement code for the Left player.\nMade Apple clones\, and had them wait for a bit before making more clones.\nMade the Apple clones appear at random places on the screen.\nAdded the Left Player Health and Right Player Health variables.\n\nHomework:\n\nMake the Right Player sprite move using the arrow keys.\n\nUp arrow: move up\nDown arrow: move down\nLeft arrow: move left\nRight arrow: move right\n\n\nMake the Star sprite make clones of itself. Make it wait 5-10 seconds before making a clone.\nMake the Star clones show up at random places on the screen.\nAdd TWO attack sprites\, one for the Left Player sprite and one for the Right Player sprite. The players will throw these sprites as attacks at each other.\nMake the attack sprites hide when the game starts. Also\, use code to change their size if they are too big or too small.\n\nTurn in your homework here: yitong@ayclogic.com
URL:https://www.ayclogic.com/event/600-pm-scratch-2-yitong-4/
CATEGORIES:Scratch Class,Scratch Class Level 2
END:VEVENT
BEGIN:VEVENT
DTSTART;TZID=America/Los_Angeles:20230307T180000
DTEND;TZID=America/Los_Angeles:20230307T190000
DTSTAMP:20260423T063516
CREATED:20230308T032120Z
LAST-MODIFIED:20230318T214936Z
UID:18389-1678212000-1678215600@www.ayclogic.com
SUMMARY:6 PM - Scratch 1 - Abigail
DESCRIPTION:What we did today\n\nWe started working on the Dino Dance project.\n\nHomework\n\nFinish coloring your dinosaurs. (remember to only color costumes “dinosaur4-a” and “dinosour4-d”)\nRename your dinosaurs to Dinosaur1\, Dinosaur2\, and Dinosaur 3.\nScratch Pg. 41-42
URL:https://www.ayclogic.com/event/6-pm-scratch-1-abigail/
CATEGORIES:Scratch Class,Scratch Class Level 1
END:VEVENT
BEGIN:VEVENT
DTSTART;TZID=America/Los_Angeles:20230307T180000
DTEND;TZID=America/Los_Angeles:20230307T190000
DTSTAMP:20260423T063516
CREATED:20230313T211159Z
LAST-MODIFIED:20230313T211159Z
UID:18466-1678212000-1678215600@www.ayclogic.com
SUMMARY:6PM - Digital Illustration 1
DESCRIPTION:TUESDAY \nToday we continued the in-class Pony Project. \n\nWe finished our sketch by following the lines and circle guidelines.\n\n  \n  \nFINAL PROJECT HOMEWORK \nAudrey: \n\nThe background layer: Draw the ground/grass so that it is higher up\, about as high as the knees of the characters. Draw and fill up the sky so that it meets the  ground. Add white or gray clouds on the top.\nThe characters: Add details to Anna and Elsa’s clothes. Make their hair a bit nicer\, especially the top of the head.\nNew layer\, on the very top: Add the white or gray snow circles\, and then lower the opacity of the layer to about 20%\nExample of background layer\n\nAnnika: \n\nFinish shading the trees and rocks. Look up reference photos to help your shading.\nOptional: you can add shading to the ground/grass under the trees.\nExample reference from class\n\nREMINDER! \nNext class is the last class 🙂
URL:https://www.ayclogic.com/event/6pm-digital-illustration-1-34/
CATEGORIES:Beginner Digital Illustration,Digital Illustration
END:VEVENT
BEGIN:VEVENT
DTSTART;TZID=America/Los_Angeles:20230307T183000
DTEND;TZID=America/Los_Angeles:20230307T193000
DTSTAMP:20260423T063516
CREATED:20230308T033013Z
LAST-MODIFIED:20230308T033013Z
UID:18382-1678213800-1678217400@www.ayclogic.com
SUMMARY:6:30 PM – Python Object Oriented Programming – Sebastian
DESCRIPTION:Today We Did\n\nDid setup for SchoolApplication project\nCreated SchoolApplication class with menu attribute\nCreated Student class with name\, age\, and grade attributes\nIn case you need anything\, feel free to email me at sebastian@ayclogic.com\n\nHomework\n\nName your homework MAR7_schoolapp_hw\, please submit by next Monday.\nHomework:\na) “include” the student class from the other file we made (make it visible to the SchoolApplication file). We have code in our other projects showing us how to do this \nb) Create add_new_student method inside the SchoolApplication class with no parameters besides self. It will:\nprint “Add a new student: “\ntake user input asking for the student’s name\, age and grade (how can we store user input into variables?)\ncreate student object and pass in the variables containing user input (for name\, age and grade) as parameters for the student object
URL:https://www.ayclogic.com/event/630-pm-python-object-oriented-programming-sebastian-8/
CATEGORIES:OOP Python,Python Class
END:VEVENT
BEGIN:VEVENT
DTSTART;TZID=America/Los_Angeles:20230307T183000
DTEND;TZID=America/Los_Angeles:20230307T193000
DTSTAMP:20260423T063516
CREATED:20230309T035645Z
LAST-MODIFIED:20230309T035645Z
UID:18411-1678213800-1678217400@www.ayclogic.com
SUMMARY:6:30 PM – Scratch Level 1 – Allison
DESCRIPTION:Today We:\n\nContinued the Punch Dummy project\nCreated the Eye sprite\nCoded the Eye sprite to move back and forth when it touches the mouse\n\nImportant Reminders:\n\nAfter you finish your homework in Scratch\, send an email to allison@ayclogic.com by Monday at 8 PM. In that email\, write down your name and a link to your shared Scratch project homework. Make sure to share your Scratch project.\n\nHomework:\n\nCode the Face sprite to show and go to the back layer\nIf the mouse touches the Face sprite\, code the Face sprite to move back and forth\n\nHint: Look at the Eye sprite’s codes\n\n\nContact us at gamas@ayclogic.com or allison@ayclogic.com if you have any questions or need any help.
URL:https://www.ayclogic.com/event/630-pm-scratch-level-1-allison-25/
CATEGORIES:Scratch Class,Scratch Class Level 1
END:VEVENT
END:VCALENDAR