BEGIN:VCALENDAR
VERSION:2.0
PRODID:-//American Young Coder - ECPv6.10.1.1//NONSGML v1.0//EN
CALSCALE:GREGORIAN
METHOD:PUBLISH
X-WR-CALNAME:American Young Coder
X-ORIGINAL-URL:https://www.ayclogic.com
X-WR-CALDESC:Events for American Young Coder
REFRESH-INTERVAL;VALUE=DURATION:PT1H
X-Robots-Tag:noindex
X-PUBLISHED-TTL:PT1H
BEGIN:VTIMEZONE
TZID:America/Los_Angeles
BEGIN:DAYLIGHT
TZOFFSETFROM:-0800
TZOFFSETTO:-0700
TZNAME:PDT
DTSTART:20230312T100000
END:DAYLIGHT
BEGIN:STANDARD
TZOFFSETFROM:-0700
TZOFFSETTO:-0800
TZNAME:PST
DTSTART:20231105T090000
END:STANDARD
END:VTIMEZONE
BEGIN:VEVENT
DTSTART;TZID=America/Los_Angeles:20230309T160000
DTEND;TZID=America/Los_Angeles:20230309T170000
DTSTAMP:20260423T064936
CREATED:20230310T010938Z
LAST-MODIFIED:20230310T010938Z
UID:18415-1678377600-1678381200@www.ayclogic.com
SUMMARY:4 PM - Scratch 1 - Abigail
DESCRIPTION:What we did today\n\nWe finished working on the Ask Gobo project.\nWe started working on the Funny Faces project.\n\nHomework\n\nDo page 75 on your pink Scratch book.\nMake an Eyebrows sprite\, Hat sprite\, and Hair sprite. (You can customize them whatever you want.)
URL:https://www.ayclogic.com/event/4-pm-scratch-1-abigail-5/
CATEGORIES:Scratch Class,Scratch Class Level 1
END:VEVENT
BEGIN:VEVENT
DTSTART;TZID=America/Los_Angeles:20230309T190000
DTEND;TZID=America/Los_Angeles:20230309T200000
DTSTAMP:20260423T064936
CREATED:20230315T035906Z
LAST-MODIFIED:20230315T035906Z
UID:18493-1678388400-1678392000@www.ayclogic.com
SUMMARY:7 PM Intro To Java - Alex Lee
DESCRIPTION:Today We Did:\n\nStarted with the Monster Inheritance project\n\nFor Homework:\n\nMake a new method called printMonsterMenu and it should contain all the code that is used to print out the menu for the monster.\nAlso find a way to shorten the code so that you are able to reuse a method that we have created in the past. Hint: it has to do with listing out all the monsters
URL:https://www.ayclogic.com/event/7-pm-intro-to-java-alex-lee-3/
CATEGORIES:Introduction To Java,Java
END:VEVENT
BEGIN:VEVENT
DTSTART;TZID=America/Los_Angeles:20230309T190000
DTEND;TZID=America/Los_Angeles:20230309T200000
DTSTAMP:20260423T064936
CREATED:20230315T060735Z
LAST-MODIFIED:20230316T020314Z
UID:18495-1678388400-1678392000@www.ayclogic.com
SUMMARY:7PM - Python Game Development - Latisha
DESCRIPTION:Today We Did\n\nStarted working on Birdie Game\n\nHomework\n\nload bird03_A.png into a variable self.bird3\, blit it to the screen at 900\,700 and make it move diagonally up and to the left\n\nIf you have any questions\, you can ask me at latisha@ayclogic.com.
URL:https://www.ayclogic.com/event/7pm-python-game-development-latisha-10/
END:VEVENT
END:VCALENDAR