BEGIN:VCALENDAR
VERSION:2.0
PRODID:-//American Young Coder - ECPv6.10.1.1//NONSGML v1.0//EN
CALSCALE:GREGORIAN
METHOD:PUBLISH
X-WR-CALNAME:American Young Coder
X-ORIGINAL-URL:https://www.ayclogic.com
X-WR-CALDESC:Events for American Young Coder
REFRESH-INTERVAL;VALUE=DURATION:PT1H
X-Robots-Tag:noindex
X-PUBLISHED-TTL:PT1H
BEGIN:VTIMEZONE
TZID:America/Los_Angeles
BEGIN:DAYLIGHT
TZOFFSETFROM:-0800
TZOFFSETTO:-0700
TZNAME:PDT
DTSTART:20230312T100000
END:DAYLIGHT
BEGIN:STANDARD
TZOFFSETFROM:-0700
TZOFFSETTO:-0800
TZNAME:PST
DTSTART:20231105T090000
END:STANDARD
END:VTIMEZONE
BEGIN:VEVENT
DTSTART;TZID=America/Los_Angeles:20230311T093000
DTEND;TZID=America/Los_Angeles:20230311T103000
DTSTAMP:20260423T063636
CREATED:20230311T193614Z
LAST-MODIFIED:20230311T193614Z
UID:18441-1678527000-1678530600@www.ayclogic.com
SUMMARY:9:30 AM – Scratch 1 – Yitong
DESCRIPTION:Today we:\n\nFinished the Animal Crossing project.\nStarted the Spiralizer project.\nAdded the Ball sprite.\nLearned about clones.\nMade the Ball sprite turn\, change color\, and make clones.\nMade the Ball clones move forever and get deleted when they touch the edge of the screen.\nAdded the Pen extension.\nMade the Ball clones draw lines and change line colors.\nAdded the Angle\, Speed\, and PenSize variables.\nMade it so we can change the code while playing the game using variables.\n\nHomework:\n\nMake it so you can change the speed of the clones (how fast the clones are moving) using the Speed variable.\n\nHint: Think about where we change how fast the clones are moving and look at how we used the other variables for help.\n\n\n\n\n\n\nSubmit your homework to this email: yitong@ayclogic.com
URL:https://www.ayclogic.com/event/930-am-scratch-1-yitong-7/
CATEGORIES:Scratch Class,Scratch Class Level 1
END:VEVENT
BEGIN:VEVENT
DTSTART;TZID=America/Los_Angeles:20230311T100000
DTEND;TZID=America/Los_Angeles:20230311T110000
DTSTAMP:20260423T063636
CREATED:20230311T040322Z
LAST-MODIFIED:20230311T040322Z
UID:18432-1678528800-1678532400@www.ayclogic.com
SUMMARY:10 AM - Indo - Intro To Python - Gamas
DESCRIPTION:Homework\n\nNext week is 2nd quiz.\nRedo these exercises for practice\n\nhttps://www.ayclogic.com/intro-to-python-exercises-for-quiz-2/\nhttps://www.ayclogic.com/intro-to-python-exercises/\n\n\nPlease study the following\n\nFunction with and without return values.\nRandom\nWhile loops\, For loops\nList. How to use for loop to go through each element inside a List.\nHow to get input from shell.\nIf elif else statements.\nHow to fix python errors.
URL:https://www.ayclogic.com/event/10-am-indo-intro-to-python-gamas-8/
END:VEVENT
BEGIN:VEVENT
DTSTART;TZID=America/Los_Angeles:20230311T103000
DTEND;TZID=America/Los_Angeles:20230311T113000
DTSTAMP:20260423T063636
CREATED:20230311T193139Z
LAST-MODIFIED:20230311T193139Z
UID:18442-1678530600-1678534200@www.ayclogic.com
SUMMARY:10:30 AM – Scratch 1 – Yitong
DESCRIPTION:Today we:\n\nMade the Snow clones go to random spots across the screen.\nMade the Snow clones shake back and forth.\nMade the Snow clones stamp themselves before getting deleted.\nMade the Snow clones stamp themselves if they are touching the Snowman sprite or each other.\nMade the Snow clones pick random sizes.\n\nHomework:\n\nAdd the Jingle Bells music to the Snowman sprite. If you don’t have it\, download it here: https://www.ayclogic.com/wp-content/uploads/2019/04/Jingle-Bells-3.mp3\nMake the music start playing when the game starts. When the music ends\, it should continue to repeat.\n\nEmail me if you need help: yitong@ayclogic.com
URL:https://www.ayclogic.com/event/1030-am-scratch-1-yitong-17/
CATEGORIES:Scratch Class,Scratch Class Level 1
END:VEVENT
BEGIN:VEVENT
DTSTART;TZID=America/Los_Angeles:20230311T120000
DTEND;TZID=America/Los_Angeles:20230311T130000
DTSTAMP:20260423T063636
CREATED:20230318T064244Z
LAST-MODIFIED:20230318T064244Z
UID:18541-1678536000-1678539600@www.ayclogic.com
SUMMARY:12 PM - Android Game Dev - Gamas
DESCRIPTION:Homework\n\nContinue with Dragon Birdie mobile application.\nAdd High score feature.\n\nThe Highscore feature should be stored inside SharedPreferences. SharedPreferences is what we used to store sound on and off setting.
URL:https://www.ayclogic.com/event/12-pm-android-game-dev-gamas/
CATEGORIES:Android Game Development,Java
END:VEVENT
BEGIN:VEVENT
DTSTART;TZID=America/Los_Angeles:20230311T130000
DTEND;TZID=America/Los_Angeles:20230311T140000
DTSTAMP:20260423T063636
CREATED:20230318T035600Z
LAST-MODIFIED:20230318T035659Z
UID:18535-1678539600-1678543200@www.ayclogic.com
SUMMARY:1 PM - Android Game Dev - Gamas
DESCRIPTION:Today We Did\n\nWe continued with Tic Tac Toe.\nWe started adding the Tic Tac Toe board using Linear Layout\n\nHomework\n\nNo Homework
URL:https://www.ayclogic.com/event/1-pm-android-game-dev-gamas-3/
CATEGORIES:Android Game Development,Java
END:VEVENT
BEGIN:VEVENT
DTSTART;TZID=America/Los_Angeles:20230311T140000
DTEND;TZID=America/Los_Angeles:20230311T150000
DTSTAMP:20260423T063636
CREATED:20230311T225818Z
LAST-MODIFIED:20230311T225818Z
UID:18447-1678543200-1678546800@www.ayclogic.com
SUMMARY:2 PM – Intro To Python – Sebastian
DESCRIPTION:Today We Did\n\nCreate both legs and one foot from robot.\nLearned how we can calculate the position of each new body part with math\, but also by using a good guess and changing the numbers according to what the new position is.\nIn case you need anything\, feel free to email me at sebastian@ayclogic.com\n\nHomework\n\nName your homework MAR11_robot_builder_hw\, please submit by next Friday.\nHomework: Copy code from class into a new file named MAR11_robot_builder_hw.py\, and attempt to draw the right foot of our robot.
URL:https://www.ayclogic.com/event/2-pm-intro-to-python-sebastian-23/
CATEGORIES:Python Class,Python Level 1
END:VEVENT
BEGIN:VEVENT
DTSTART;TZID=America/Los_Angeles:20230311T150000
DTEND;TZID=America/Los_Angeles:20230311T160000
DTSTAMP:20260423T063636
CREATED:20230311T235621Z
LAST-MODIFIED:20230311T235621Z
UID:18449-1678546800-1678550400@www.ayclogic.com
SUMMARY:3 PM - Python Game Dev - Gamas
DESCRIPTION:Homework\n\nDisplay assets/bird03_A.png in to bottom left corner of the screen and make it move to the right.\nDisplay assets/bird04_A.png in the bottom right corner of the screen and make it move diagonally to the top left corner of the screen.\nInside Bird class\, inside init method add more attributes\n\nsize\ndirection
URL:https://www.ayclogic.com/event/3-pm-python-game-dev-gamas/
CATEGORIES:Python Class,Python Game Development
END:VEVENT
BEGIN:VEVENT
DTSTART;TZID=America/Los_Angeles:20230311T150000
DTEND;TZID=America/Los_Angeles:20230311T160000
DTSTAMP:20260423T063636
CREATED:20230312T000017Z
LAST-MODIFIED:20230312T000017Z
UID:18450-1678546800-1678550400@www.ayclogic.com
SUMMARY:3 PM – Intro To Python – Sebastian
DESCRIPTION:Today We Did\n\nStarted robot builder project\, drawing a full robot using rectangles\nBuilt robot body and part of left arm\nIn case you need anything\, feel free to email me at sebastian@ayclogic.com\n\nHomework\n\nName your homework MAR11_robot_builder_hw\, please submit by next Friday.\nHomework:\na) Modify our rectangle function to fill our rectangle with color\nb) Finish drawing the robot’s left arm\nc) (Extra Credit) If you have enough time\, you can start trying to draw the robot’s right arm (we’ll do this in class\, so you don’t have to)
URL:https://www.ayclogic.com/event/3-pm-intro-to-python-sebastian-23/
CATEGORIES:Python Class,Python Level 1
END:VEVENT
BEGIN:VEVENT
DTSTART;TZID=America/Los_Angeles:20230311T160000
DTEND;TZID=America/Los_Angeles:20230311T170000
DTSTAMP:20260423T063636
CREATED:20230315T060838Z
LAST-MODIFIED:20230315T060838Z
UID:18497-1678550400-1678554000@www.ayclogic.com
SUMMARY:4PM - Python Game Development - Latisha
DESCRIPTION:Today We Did\n\nContinued working on Shoot Balloon\n\nHomework\n\nFinish up Final Project\nAdd animation to the balloon so that it cycles through all 3 images.\n\nIf you have any questions\, you can ask me at latisha@ayclogic.com.
URL:https://www.ayclogic.com/event/4pm-python-game-development-latisha-20/
END:VEVENT
BEGIN:VEVENT
DTSTART;TZID=America/Los_Angeles:20230311T170000
DTEND;TZID=America/Los_Angeles:20230311T180000
DTSTAMP:20260423T063636
CREATED:20230312T020018Z
LAST-MODIFIED:20230312T020018Z
UID:18453-1678554000-1678557600@www.ayclogic.com
SUMMARY:5 PM - Minecraft Modding with Java - Gamas
DESCRIPTION:Homework\n\nMigrate JupiterDragonAxe.java / DragonFireballAxe.java from 1.16.5 project to 1.19.3 project. Follow what we did with SaturnFireballAxe.java\n\nMigrate the Java file\nAdd an entry in ModItems.java\nAdd an entry in AYCEssentialsMod.java\nModify the src/main/resources/assets/aycessentials/models/item/jupiter_fireball_axe.json: replaced items with item.
URL:https://www.ayclogic.com/event/5-pm-minecraft-modding-with-java-gamas-20/
CATEGORIES:Java,Minecraft Modding With Java
END:VEVENT
BEGIN:VEVENT
DTSTART;TZID=America/Los_Angeles:20230311T170000
DTEND;TZID=America/Los_Angeles:20230311T180000
DTSTAMP:20260423T063636
CREATED:20230312T053314Z
LAST-MODIFIED:20230312T053314Z
UID:18462-1678554000-1678557600@www.ayclogic.com
SUMMARY:5 PM - Python Game Development - Bill
DESCRIPTION:Today We:\n\nContinued the Dragon Birdie project\n\nYour HW:\n\nAdd a new method called “spawn_clouds”\nMake it spawn clouds like we did for the birds continuously
URL:https://www.ayclogic.com/event/5-pm-python-game-development-bill-3/
END:VEVENT
BEGIN:VEVENT
DTSTART;TZID=America/Los_Angeles:20230311T170000
DTEND;TZID=America/Los_Angeles:20230311T180000
DTSTAMP:20260423T063636
CREATED:20230313T064029Z
LAST-MODIFIED:20230313T064029Z
UID:18464-1678554000-1678557600@www.ayclogic.com
SUMMARY:5 PM – Scratch Level 2 – Allison
DESCRIPTION:Today We:\n\nCoded Level 2\nCoded the Dinosaur sprite to block the Monkey sprite\nCoded the game to be over\nFinished the Jumpy Monkey Project\n\nHomework:\n\nCreate a new project and title it “Doom on the Broom”\nUpload a Witch sprite (use the image at the bottom)\nCode the Witch to go to the center of the screen when the game starts\nIf the player presses the left arrow key\, code the Witch to rotate to the left\nIf the player presses the right arrow key\, code the Witch to rotate to the right\nAfterwards\, read and do the codes in the yellow Scratch Book Pg. 113\nContact us if you have any questions or need any help\n\n 
URL:https://www.ayclogic.com/event/5-pm-scratch-level-2-allison-5/
CATEGORIES:Scratch Class,Scratch Class Level 2
END:VEVENT
BEGIN:VEVENT
DTSTART;TZID=America/Los_Angeles:20230311T180000
DTEND;TZID=America/Los_Angeles:20230311T190000
DTSTAMP:20260423T063636
CREATED:20230312T032039Z
LAST-MODIFIED:20230312T032055Z
UID:18455-1678557600-1678561200@www.ayclogic.com
SUMMARY:6:00 PM - Intro to Python - Juan
DESCRIPTION:Today We Did\n\nReviewed converting shell input to int.\nLearned about accessing a list with an index\nChanging list items\nPrinting out the length of a list\nIn case you need anything\, feel free to email me at juan@ayclogic.com\nView what we covered today at the google drive: https://drive.google.com/drive/folders/15Guajo6GvNi_09_rLw7QNwPyAcz1sBNA\n\nHomework\n\nMar_18_list_homework.py\n# Page 38-41
URL:https://www.ayclogic.com/event/600-pm-intro-to-python-juan-6/
CATEGORIES:Python Class,Python Level 1
END:VEVENT
END:VCALENDAR