BEGIN:VCALENDAR
VERSION:2.0
PRODID:-//American Young Coder - ECPv6.10.1.1//NONSGML v1.0//EN
CALSCALE:GREGORIAN
METHOD:PUBLISH
X-ORIGINAL-URL:https://www.ayclogic.com
X-WR-CALDESC:Events for American Young Coder
REFRESH-INTERVAL;VALUE=DURATION:PT1H
X-Robots-Tag:noindex
X-PUBLISHED-TTL:PT1H
BEGIN:VTIMEZONE
TZID:America/Los_Angeles
BEGIN:DAYLIGHT
TZOFFSETFROM:-0800
TZOFFSETTO:-0700
TZNAME:PDT
DTSTART:20230312T100000
END:DAYLIGHT
BEGIN:STANDARD
TZOFFSETFROM:-0700
TZOFFSETTO:-0800
TZNAME:PST
DTSTART:20231105T090000
END:STANDARD
END:VTIMEZONE
BEGIN:VEVENT
DTSTART;TZID=America/Los_Angeles:20230313T160000
DTEND;TZID=America/Los_Angeles:20230313T170000
DTSTAMP:20260423T064033
CREATED:20230313T235454Z
LAST-MODIFIED:20230313T235454Z
UID:18475-1678723200-1678726800@www.ayclogic.com
SUMMARY:4 PM Scratch Level 1 - Alex Lee
DESCRIPTION:Today We Did:\n\nWe finished up Mary Had A Little Lamb project\nStarted the Spiralizer project\nAble to add in the speed and angles\, while creating the clones.\n\nFor Homework:\n\nCreate two new variables called\, color and pen size.\nI want you guys to figure out where we are supposed to use these variables and put them in your code.\nI will ask you next week about it
URL:https://www.ayclogic.com/event/4-pm-scratch-level-1-alex-lee-3/
CATEGORIES:Scratch Class,Scratch Class Level 1
END:VEVENT
BEGIN:VEVENT
DTSTART;TZID=America/Los_Angeles:20230313T170000
DTEND;TZID=America/Los_Angeles:20230313T180000
DTSTAMP:20260423T064033
CREATED:20230316T021152Z
LAST-MODIFIED:20230316T021152Z
UID:18504-1678726800-1678730400@www.ayclogic.com
SUMMARY:5 PM - Python OOP - Bill
DESCRIPTION:Today We:\n\nContinued working on the school system project\n\nYour HW:\n\nAdd an option for finding a teacher by subject using the teacher list\nWhen the user selects that option\, ask the user for a subject and then search the teacher list to print out all teachers that teach the subject\n\nVery similar to finding a student by their name
URL:https://www.ayclogic.com/event/5-pm-python-oop-bill-36/
END:VEVENT
END:VCALENDAR