BEGIN:VCALENDAR
VERSION:2.0
PRODID:-//American Young Coder - ECPv6.10.1.1//NONSGML v1.0//EN
CALSCALE:GREGORIAN
METHOD:PUBLISH
X-ORIGINAL-URL:https://www.ayclogic.com
X-WR-CALDESC:Events for American Young Coder
REFRESH-INTERVAL;VALUE=DURATION:PT1H
X-Robots-Tag:noindex
X-PUBLISHED-TTL:PT1H
BEGIN:VTIMEZONE
TZID:America/Los_Angeles
BEGIN:DAYLIGHT
TZOFFSETFROM:-0800
TZOFFSETTO:-0700
TZNAME:PDT
DTSTART:20230312T100000
END:DAYLIGHT
BEGIN:STANDARD
TZOFFSETFROM:-0700
TZOFFSETTO:-0800
TZNAME:PST
DTSTART:20231105T090000
END:STANDARD
END:VTIMEZONE
BEGIN:VEVENT
DTSTART;TZID=America/Los_Angeles:20230315T170000
DTEND;TZID=America/Los_Angeles:20230315T180000
DTSTAMP:20260423T065053
CREATED:20230319T074239Z
LAST-MODIFIED:20230319T074239Z
UID:18568-1678899600-1678903200@www.ayclogic.com
SUMMARY:5PM - Digital Illustration 3
DESCRIPTION:WEDNESDAY \nToday’s in-class project is continuing and finishing the Purple Girl. \n\nFinished coloring the shoes in the details layer\nAdded a new clipped layer for shading\, set blending mode to “multiply”\nAdded a simple background\n\n  \n  \nHOMEWORK : FINAL PROJECT \n\nFinish Style 1\, and begin Style 2\n\n \n  \n <- eyes assistance
URL:https://www.ayclogic.com/event/5pm-digital-illustration-3-38/
CATEGORIES:Digital Illustration,Intermediate Digital Illustration
END:VEVENT
BEGIN:VEVENT
DTSTART;TZID=America/Los_Angeles:20230315T180000
DTEND;TZID=America/Los_Angeles:20230315T190000
DTSTAMP:20260423T065053
CREATED:20230316T020215Z
LAST-MODIFIED:20230316T020323Z
UID:18499-1678903200-1678906800@www.ayclogic.com
SUMMARY:6 PM - Python OOP - Gamas
DESCRIPTION:Homework\n\nContinue on MonsterInheritance project\nCreate a method initialize_monsters. In here\, you want to automatically add 3 monsters in the beginning and call this when you start the program.\n\nDragon – 100 health – 100 max damage\nTroll – 75 health – 50 max damage\nWater Golem – 50 health – 50 max damage\n\n\nAfter user enter “3” for Start Adventure\, continuously display the adventure menu until user enter “exit”.\n\nWelcome to AYC Logic adventure game\n1. Add new monster\n2. List all monsters\n3. Start adventure\nPlease make your selection. Enter "quit" to exit: 3\n\nEnter player's name: Gamas\nEnter player's health: 100\n\nGamas welcome to AYC Logic Adventure game.\nYou have 100 health remaining\n\nPlease choose which monster to fight: \nDragon health - 100 max damage - 100\nTroll health - 75 max damage - 50\nEnter your selection (enter 'exit' to quit): \n\n\nGamas have 200 health remaining.\nPlease choose your monster: \nTroll - 50 healths - 30 Max attack points.\nWater Golem - 30 healths - 20 Max attack points.\nDragon - 100 healths - 50 Max attack points.\nEnter your selection (enter "exit" to quit): adfs\nYou have entered an invalid selection. Please try again\n\nGamas have 200 health remaining.\nPlease choose your monster: \nTroll - 50 healths - 30 Max attack points.\nWater Golem - 30 healths - 20 Max attack points.\nDragon - 100 healths - 50 Max attack points.\nEnter your selection (enter "exit" to quit): asdf\nYou have entered an invalid selection. Please try again\n\nGamas   have 200 health remaining.\nPlease choose your monster: \nTroll - 50 healths - 30 Max attack points.\nWater Golem - 30 healths - 20 Max attack points.\nDragon - 100 healths - 50 Max attack points.\nEnter your selection (enter "exit" to quit): ads\nYou have entered an invalid selection. Please try again\n\nGamas have 200 health remaining.\nPlease choose your monster: \nTroll - 50 healths - 30 Max attack points.\nWater Golem - 30 healths - 20 Max attack points.\nDragon - 100 healths - 50 Max attack points.\nEnter your selection (enter "exit" to quit): exit\n\nWelcome to AYC Logic adventure game\n1. Add new monster\n2. List all monsters\n3. Start adventure\nPlease make your selection. Enter "quit" to exit:
URL:https://www.ayclogic.com/event/6-pm-python-oop-gamas-20/
CATEGORIES:OOP Python,Python Class
END:VEVENT
BEGIN:VEVENT
DTSTART;TZID=America/Los_Angeles:20230315T180000
DTEND;TZID=America/Los_Angeles:20230315T190000
DTSTAMP:20260423T065053
CREATED:20230316T021358Z
LAST-MODIFIED:20230316T021358Z
UID:18503-1678903200-1678906800@www.ayclogic.com
SUMMARY:6 PM – Scratch Level 2 – Allison
DESCRIPTION:Today we:\n\nAdded the Beetle sprite.\nAdded maze collision code for the Beetle sprite and made it pick a random direction to turn to when it touches the maze walls.\nAdded the Ghost sprite.\nMade the Ghost sprite follow the Mouse sprite continuously and occasionally disappear.\nMade the Ghost sprite appear at random places on the screen.\nLearned about MyBlocks and added a movement MyBlock in the Mouse sprite.\n\nImportant Reminders:\n\nAfter you finish your homework in Scratch\, send an email to allison@ayclogic.com by Tuesday at 8 PM. In that email\, write down your name and a link to your shared Scratch project homework. Make sure to share your Scratch project.\n\nHomework:\n\nMake a Game Over Banner sprite.\nMake a Level Banner sprite.\nMake 2 costumes in the Level Banner sprite\, one of them should be the Level 1 costume and the other should be the Level 2 costume. Make sure to name both of them correctly.\nMake another costume in the Maze sprite. This will be the maze in the second level. Name the costumes correctly\, so you know which costume is for which level.\nContact us if you have any questions or need any help
URL:https://www.ayclogic.com/event/6-pm-scratch-level-2-allison-6/
CATEGORIES:Scratch Class,Scratch Class Level 2
END:VEVENT
BEGIN:VEVENT
DTSTART;TZID=America/Los_Angeles:20230315T183000
DTEND;TZID=America/Los_Angeles:20230315T193000
DTSTAMP:20260423T065053
CREATED:20230316T022825Z
LAST-MODIFIED:20230316T022825Z
UID:18507-1678905000-1678908600@www.ayclogic.com
SUMMARY:6:30 PM – Intro To Python – Sebastian
DESCRIPTION:Today We Did\n\nFinish hangman game!\nReviewed functions\, loops\, and comparisons in hangman game.\nIn case you need anything\, feel free to email me at sebastian@ayclogic.com\n\nHomework\n\nName your homework MAR15_looping_hw\, please submit by next Tuesday.\nHomework: https://www.ayclogic.com/looping-each-letter-in-a-word-exercise/
URL:https://www.ayclogic.com/event/630-pm-intro-to-python-sebastian-10/
CATEGORIES:Python Class,Python Level 1
END:VEVENT
BEGIN:VEVENT
DTSTART;TZID=America/Los_Angeles:20230315T190000
DTEND;TZID=America/Los_Angeles:20230315T200000
DTSTAMP:20260423T065053
CREATED:20230316T025515Z
LAST-MODIFIED:20230316T025515Z
UID:18509-1678906800-1678910400@www.ayclogic.com
SUMMARY:7PM - OOP Python - Latisha
DESCRIPTION:Today We Did\n\nContinued working on Monster Inheritance\n\nHomework\n\nSubmit the practice final test by Tuesday night. Find the test here:  https://docs.google.com/forms/d/e/1FAIpQLSdytsWuc530WJmnPU-mcfHhIzSjBE1qgr0jWwqXVZi0t8EZzQ/viewform?usp=sf_link\n\nIf you have any questions\, you can ask me at latisha@ayclogic.com.
URL:https://www.ayclogic.com/event/7pm-oop-python-latisha-35/
END:VEVENT
END:VCALENDAR