BEGIN:VCALENDAR
VERSION:2.0
PRODID:-//American Young Coder - ECPv6.10.1.1//NONSGML v1.0//EN
CALSCALE:GREGORIAN
METHOD:PUBLISH
X-WR-CALNAME:American Young Coder
X-ORIGINAL-URL:https://www.ayclogic.com
X-WR-CALDESC:Events for American Young Coder
REFRESH-INTERVAL;VALUE=DURATION:PT1H
X-Robots-Tag:noindex
X-PUBLISHED-TTL:PT1H
BEGIN:VTIMEZONE
TZID:America/Los_Angeles
BEGIN:DAYLIGHT
TZOFFSETFROM:-0800
TZOFFSETTO:-0700
TZNAME:PDT
DTSTART:20230312T100000
END:DAYLIGHT
BEGIN:STANDARD
TZOFFSETFROM:-0700
TZOFFSETTO:-0800
TZNAME:PST
DTSTART:20231105T090000
END:STANDARD
END:VTIMEZONE
BEGIN:VEVENT
DTSTART;TZID=America/Los_Angeles:20230318T093000
DTEND;TZID=America/Los_Angeles:20230318T103000
DTSTAMP:20260423T063637
CREATED:20230318T172441Z
LAST-MODIFIED:20230321T022436Z
UID:18543-1679131800-1679135400@www.ayclogic.com
SUMMARY:9:30 AM – Scratch 1 – Yitong
DESCRIPTION:Today we:\n\nFinished the Spiralizer project.\nStarted the Tunnel of Doom project.\nAdded the Cat sprite\, created the Tunnel sprite\, and added the Home Button sprite.\nMade the Cat sprite follow the mouse-pointer forever after it touches the mouse-pointer.\nAdded code for the Cat sprite and Tunnel sprite collision.\nAdded code for when the Cat sprite touches the Home Button sprite.\n\nHomework:\n\nMake the Win Banner sprite.\nHave the Win Banner sprite hide at the start of the game\, then make it show up when the Cat sprite touches the Home Button sprite. (Hint: think about how the Cat sprite can tell the Win Banner sprite to show up)\nMake the Win Banner change colors forever.\nStop the Cave background music when the Cat sprite touches the Home Button sprite.\n\nSubmit your homework to this email: yitong@ayclogic.com
URL:https://www.ayclogic.com/event/930-am-scratch-1-yitong-8/
CATEGORIES:Scratch Class,Scratch Class Level 1
END:VEVENT
BEGIN:VEVENT
DTSTART;TZID=America/Los_Angeles:20230318T100000
DTEND;TZID=America/Los_Angeles:20230318T110000
DTSTAMP:20260423T063637
CREATED:20230319T200625Z
LAST-MODIFIED:20230319T200625Z
UID:18574-1679133600-1679137200@www.ayclogic.com
SUMMARY:10 AM – Scratch Level 2 – Allison
DESCRIPTION:Today We:\n\nStarted the Doom on the Broom project\nReviewed the homework\nCoded the Bat sprite to create clones\nCoded the Bat clones go to a random place outside the screen’s edges\nCoded the Bat clones to move towards the Witch\nCoded the Bat clones play a sound and delete if they touch a Fireball clone\n\nHomework:\n\nCreate two variables: “Lives” and “Score”\nWhen the game starts\, make the variable “Lives” equal 0\nWhen the game starts\, make the variable “Score” equal 0\nRead and finish the rest of the codes in the yellow Scratch Book pg. 114\nRead and do the codes in the yellow Scratch Book Pg. 115-116\nContact us if you have any questions or need any help
URL:https://www.ayclogic.com/event/10-am-scratch-level-2-allison/
CATEGORIES:Scratch Class,Scratch Class Level 2
END:VEVENT
BEGIN:VEVENT
DTSTART;TZID=America/Los_Angeles:20230318T103000
DTEND;TZID=America/Los_Angeles:20230318T113000
DTSTAMP:20260423T063637
CREATED:20230318T182042Z
LAST-MODIFIED:20230318T182042Z
UID:18547-1679135400-1679139000@www.ayclogic.com
SUMMARY:10:30 AM – Scratch 1 – Yitong
DESCRIPTION:Today we:\n\nFinished the Virtual Snow project.\nWent over the Level 1 Practice Test.\n\nHomework:\n\nFinish the Level 1 Practice Test. Make sure you read over ALL the instructions before submitting the projects. Don’t forget to share your projects.\n\nEmail me if you need help: yitong@ayclogic.com
URL:https://www.ayclogic.com/event/1030-am-scratch-1-yitong-18/
CATEGORIES:Scratch Class,Scratch Class Level 1
END:VEVENT
BEGIN:VEVENT
DTSTART;TZID=America/Los_Angeles:20230318T120000
DTEND;TZID=America/Los_Angeles:20230318T130000
DTSTAMP:20260423T063637
CREATED:20230318T195456Z
LAST-MODIFIED:20230318T195456Z
UID:18550-1679140800-1679144400@www.ayclogic.com
SUMMARY:12 PM - Android Game Dev - Gamas
DESCRIPTION:Homework\n\nContinue on Dragon Birdie mobile app.\nSet game duration to 120 seconds.\nModify GameView.createBird() codes so the frequency of bird getting created increase as the time progress:\n\nWhen game duration is at 30 seconds\, increase the frequency the bird is spawn.\nWhen game duration is at 60 seconds\, increase the frequency the bird is spawn even more.\nWhen game duration is at 90 seconds\, increase the frequency the bird is spawn even more.
URL:https://www.ayclogic.com/event/12-pm-android-game-dev-gamas-2/
CATEGORIES:Android Game Development,Java
END:VEVENT
BEGIN:VEVENT
DTSTART;TZID=America/Los_Angeles:20230318T130000
DTEND;TZID=America/Los_Angeles:20230318T140000
DTSTAMP:20260423T063637
CREATED:20230318T210232Z
LAST-MODIFIED:20230318T210232Z
UID:18552-1679144400-1679148000@www.ayclogic.com
SUMMARY:1 PM - Android Game Dev - Gamas
DESCRIPTION:Homeworks\n\nXML homeworks\n\nOpen your SchoolApplication or StudentApplication\nInside this project\, create a new XML file call it: school_application.xml\nRepresent student_list inside school_application.xml.\nInside student_list create at least 4 students.\n\nRepresent each of the student using the 3 different way we can represent a student. This is very similar on how we represent Monster 3 different ways in the class.\n\n\n\n\nContinue on your Tic Tac Toe\n\nchange the button inside activity_game.xml from “button” to “reset”.\nWhen you click on the reset button\, it will print “Game is reset” to the shell. This is very similar to activity_main.xml for “Start Game” button.
URL:https://www.ayclogic.com/event/1-pm-android-game-dev-gamas-4/
CATEGORIES:Android Game Development,Java
END:VEVENT
BEGIN:VEVENT
DTSTART;TZID=America/Los_Angeles:20230318T140000
DTEND;TZID=America/Los_Angeles:20230318T150000
DTSTAMP:20260423T063637
CREATED:20230318T230542Z
LAST-MODIFIED:20230318T230542Z
UID:18558-1679148000-1679151600@www.ayclogic.com
SUMMARY:2 PM – Intro To Python – Sebastian
DESCRIPTION:Today We Did\n\nFinished robot builder\nLearned how to draw a circle\nBegan drawing face\nIn case you need anything\, feel free to email me at sebastian@ayclogic.com\n\nHomework\n\nName your homework MAR18_face_hw\, please submit by next Friday.\nHomework:\na) Copy the code from class into the homework file and modify the left eye we drew to be in the right position and size. \nb) Try to draw the right eye correctly on the face.
URL:https://www.ayclogic.com/event/2-pm-intro-to-python-sebastian-24/
CATEGORIES:Python Class,Python Level 1
END:VEVENT
BEGIN:VEVENT
DTSTART;TZID=America/Los_Angeles:20230318T150000
DTEND;TZID=America/Los_Angeles:20230318T160000
DTSTAMP:20260423T063637
CREATED:20230318T230810Z
LAST-MODIFIED:20230318T230810Z
UID:18557-1679151600-1679155200@www.ayclogic.com
SUMMARY:3 PM – Intro To Python – Sebastian
DESCRIPTION:Today We Did\n\nContinued robot builder\nPut robot arms into function to move easier\nDrew robot legs and began left foot\nIn case you need anything\, feel free to email me at sebastian@ayclogic.com\n\nHomework\n\nName your homework MAR18_robot_builder_hw\, please submit by next Friday.\nHomework:\na) Copy the code from class into the homework file and modify the left foot to be sized the way you want it since we didn’t get to finish it in class. \nb) Try to draw the right foot\, remember that it shares the same x coordinate (left/right) as one other rectangle that we already drew\, and should have the same y coordinate (up/down) as the other foot.
URL:https://www.ayclogic.com/event/3-pm-intro-to-python-sebastian-24/
CATEGORIES:Python Class,Python Level 1
END:VEVENT
BEGIN:VEVENT
DTSTART;TZID=America/Los_Angeles:20230318T160000
DTEND;TZID=America/Los_Angeles:20230318T170000
DTSTAMP:20260423T063637
CREATED:20230321T012711Z
LAST-MODIFIED:20230321T012711Z
UID:18584-1679155200-1679158800@www.ayclogic.com
SUMMARY:4PM - Python Game Development - Latisha
DESCRIPTION:Today We Did\n\nContinued working on Shoot Balloon\n\nHomework\n\nMake the Bug class in a file called bug.py\, which uses the frame-1.png picture in the flyer folder. In main.py\, make a new create_bug method that will make a new Bug every 80 frames (FPS * 2)\n\nIf you have any questions\, you can ask me at latisha@ayclogic.com.
URL:https://www.ayclogic.com/event/4pm-python-game-development-latisha-21/
END:VEVENT
BEGIN:VEVENT
DTSTART;TZID=America/Los_Angeles:20230318T160000
DTEND;TZID=America/Los_Angeles:20230318T170000
DTSTAMP:20260423T063637
CREATED:20230322T050355Z
LAST-MODIFIED:20230322T050355Z
UID:18603-1679155200-1679158800@www.ayclogic.com
SUMMARY:4 PM - Python Game Development - Bill
DESCRIPTION:Your HW:\n\nMake a cloud.py file with a cloud class\nIt should have the following attributes:\n\nx\ny\ndirection\n\n\nMake it load a random cloud image and make it move in the correct direction like the bird class
URL:https://www.ayclogic.com/event/4-pm-python-game-development-bill/
END:VEVENT
BEGIN:VEVENT
DTSTART;TZID=America/Los_Angeles:20230318T170000
DTEND;TZID=America/Los_Angeles:20230318T180000
DTSTAMP:20260423T063637
CREATED:20230319T012731Z
LAST-MODIFIED:20230319T012731Z
UID:18561-1679158800-1679162400@www.ayclogic.com
SUMMARY:5 PM - Minecraft Modding with Java - Gamas
DESCRIPTION:Today We Did\n\nWe migrated the Saturn armors to 1.19.3 project: legging\, boots\, chestplate\, helmet.\nWe started adding the Saturn Ore.\n\nHomework\n\nNo homework
URL:https://www.ayclogic.com/event/5-pm-minecraft-modding-with-java-gamas-21/
CATEGORIES:Java,Minecraft Modding With Java
END:VEVENT
BEGIN:VEVENT
DTSTART;TZID=America/Los_Angeles:20230318T170000
DTEND;TZID=America/Los_Angeles:20230318T180000
DTSTAMP:20260423T063637
CREATED:20230322T045727Z
LAST-MODIFIED:20230322T045727Z
UID:18599-1679158800-1679162400@www.ayclogic.com
SUMMARY:5 PM - Python Game Development - Bill
DESCRIPTION:Your HW:\n\nCreate a new class for the player in a new file called player.py\nGive it the following attributes:\n\nx\ny\ndirection\n\n\nMake it flap its wings like the bird class does\n\n 
URL:https://www.ayclogic.com/event/5-pm-python-game-development-bill-4/
END:VEVENT
BEGIN:VEVENT
DTSTART;TZID=America/Los_Angeles:20230318T180000
DTEND;TZID=America/Los_Angeles:20230318T190000
DTSTAMP:20260423T063637
CREATED:20230319T020848Z
LAST-MODIFIED:20230325T213213Z
UID:18563-1679162400-1679166000@www.ayclogic.com
SUMMARY:6:00 PM - Intro to Python - Juan
DESCRIPTION:Today We Did\n\nReviewed creating lists and accessing list items using index.\nLearned about adding to a list using: append\, insert\nRemoving from a list: pop\, remove\, del\nIn case you need anything\, feel free to email me at juan@ayclogic.com\nView what we covered today at the google drive: https://drive.google.com/drive/folders/15Guajo6GvNi_09_rLw7QNwPyAcz1sBNA\n\nHomework\n\nCreate March18_ListHomework.py file and do the homework in this file.\nTRY IT YOURSELF from page 42: 3-4\, 3-5\, 3-6
URL:https://www.ayclogic.com/event/600-pm-intro-to-python-juan-7/
CATEGORIES:Python Class,Python Level 1
END:VEVENT
BEGIN:VEVENT
DTSTART;TZID=America/Los_Angeles:20230318T190000
DTEND;TZID=America/Los_Angeles:20230318T200000
DTSTAMP:20260423T063637
CREATED:20230319T031035Z
LAST-MODIFIED:20230319T031035Z
UID:18566-1679166000-1679169600@www.ayclogic.com
SUMMARY:7 PM - Advanced Digital Illustration - Abigail
DESCRIPTION:What we did today\n\nWe continued drawing Eevee.\n\nHomework\n\nSearch up an eye design to put on your Eevee.\nRemember to make a new layer and use “Add” or “Multiply” mode.
URL:https://www.ayclogic.com/event/7-pm-advanced-digital-illustration-abigail/
CATEGORIES:Digital Illustration,Intermediate Digital Illustration
END:VEVENT
END:VCALENDAR